{"text_format":"1","workbook":"xlsx","n_sheets":9,"sheets":["BASINFO FÖRSÄKRING","SKADEINFO FÖRSÄKRING","BASINFO VAORG","SKADEINFO VAORG","SAMMANSTÄLLNING ALL INFO","SNABBINFO","RAPPORT","MANUAL","DATA LISTRUTOR"],"not_rendered":{"charts":0,"images":6,"macros":1,"external_links":0,"defined_names":27,"comments":0,"pivot_tables":0},"unopened":[],"bounds":{"document_bytes":16777216,"sheet_cells":100000,"rows_first":2000,"rows_last":500,"rows_between":2000,"halvings":0,"cell_chars":16384,"cell_head_chars":4096},"cells_cut":0,"cells_raw":0,"read":"whole","date_system":"1900"}

{"sheet":"BASINFO FÖRSÄKRING","index":0,"n_rows":114,"n_cols":13,"rows_kept":114,"cut":false,"hidden":false,"merged":[[7,1,7,2],[8,1,8,2],[0,0,0,7],[4,1,4,2],[5,1,5,2],[6,1,6,2],[3,1,3,2]]}
["Information från försäkringsbolag till va-organisation"]
["BASINFORMATION",null,null,null,"Här fyller förs.bolaget i uppgifter om översvämningsärenden. Därefter mailas filen till VA-organisationen."]
[null,null,null,null,"Max 100 rader. Ett ärende per rad. Raden innehåller sektionsvis basinfo, försäkringsinfo och info från va-organisationen "]
["Uppdaterad senast","Ange datum",null,null,"\"Skriv...\" = notera själv data, \"Välj...\" = markera cellen, visa listruta genom klick på pilen, välj ett värde"]
["VA-organisation",null,null,null,"Trots listruta kan du skriva ett eget värde om du vill. Eller kopiera in data från en egen framtagen lista."]
["Från försäkringsbolag"]
["Kontakt på försäkringsbolag"]
["Telefonnummer",null,null,"Län »"]
["Epostadress",null,null,"Kommun »"]
[]
[]
[null,null,null,null,null,null,null,null,null,null,null,null,"KONTROLL"]
["LÄN","KOMMUN","SKADEDATUM","SKADEADRESS","ev FAST.BETECKNING","FÖRSÄKRINGSTAGARE","ÄRENDENR FÖRSÄKRING","VA-ORGANISATION","FÖRSÄKRINGSBOLAG","KONTAKTPERSON","TELEFON","EPOSTADRESS","DUBBLETT"]
[{"$f":"$E$8","v":0},{"$f":"$E$9","v":0},"00:00:00",null,null,null,null,{"$f":"$B$5","v":0},{"$f":"$B$6","v":0},{"$f":"$B$7","v":0},{"$f":"$B$8","v":0},{"$f":"$B$9","v":0},{"$f":"IF(G14=\"Skriv…\",\"\",IF(COUNTIF(G14:$G$114,G14)>1,\"DUBBLETT\",\"\"))","v":""}]
[0,0,"00:00:00",null,null,null,null,0,0,0,{"$f":"$B$8","v":0},0,{"$f":"IF(G15=\"Skriv…\",\"\",IF(COUNTIF(G15:$G$114,G15)>1,\"DUBBLETT\",\"\"))","v":""}]
[0,0,"00:00:00",null,null,null,null,0,0,0,0,0,{"$f":"IF(G16=\"Skriv…\",\"\",IF(COUNTIF(G16:$G$114,G16)>1,\"DUBBLETT\",\"\"))","v":""}]
[0,0,"00:00:00",null,null,null,null,0,0,0,0,0,{"$f":"IF(G17=\"Skriv…\",\"\",IF(COUNTIF(G17:$G$114,G17)>1,\"DUBBLETT\",\"\"))","v":""}]
[0,0,"00:00:00",null,null,null,null,0,0,0,0,0,{"$f":"IF(G18=\"Skriv…\",\"\",IF(COUNTIF(G18:$G$114,G18)>1,\"DUBBLETT\",\"\"))","v":""}]
[0,0,"00:00:00",null,null,null,null,0,0,0,0,0,{"$f":"IF(G19=\"Skriv…\",\"\",IF(COUNTIF(G19:$G$114,G19)>1,\"DUBBLETT\",\"\"))","v":""}]
[0,0,"00:00:00",null,null,null,null,0,0,0,0,0,{"$f":"IF(G20=\"Skriv…\",\"\",IF(COUNTIF(G20:$G$114,G20)>1,\"DUBBLETT\",\"\"))","v":""}]
[0,0,"00:00:00",null,null,null,null,0,0,0,0,0,{"$f":"IF(G21=\"Skriv…\",\"\",IF(COUNTIF(G21:$G$114,G21)>1,\"DUBBLETT\",\"\"))","v":""}]
[0,0,"00:00:00",null,null,null,null,0,0,0,0,0,{"$f":"IF(G22=\"Skriv…\",\"\",IF(COUNTIF(G22:$G$114,G22)>1,\"DUBBLETT\",\"\"))","v":""}]
[0,0,"00:00:00",null,null,null,null,0,0,0,0,0,{"$f":"IF(G23=\"Skriv…\",\"\",IF(COUNTIF(G23:$G$114,G23)>1,\"DUBBLETT\",\"\"))","v":""}]
[0,0,"00:00:00",null,null,null,null,0,0,0,0,0,{"$f":"IF(G24=\"Skriv…\",\"\",IF(COUNTIF(G24:$G$114,G24)>1,\"DUBBLETT\",\"\"))","v":""}]
[0,0,"00:00:00",null,null,null,null,0,0,0,0,0,{"$f":"IF(G25=\"Skriv…\",\"\",IF(COUNTIF(G25:$G$114,G25)>1,\"DUBBLETT\",\"\"))","v":""}]
[0,0,"00:00:00",null,null,null,null,0,0,0,0,0,{"$f":"IF(G26=\"Skriv…\",\"\",IF(COUNTIF(G26:$G$114,G26)>1,\"DUBBLETT\",\"\"))","v":""}]
[0,0,"00:00:00",null,null,null,null,0,0,0,0,0,{"$f":"IF(G27=\"Skriv…\",\"\",IF(COUNTIF(G27:$G$114,G27)>1,\"DUBBLETT\",\"\"))","v":""}]
[0,0,"00:00:00",null,null,null,null,0,0,0,0,0,{"$f":"IF(G28=\"Skriv…\",\"\",IF(COUNTIF(G28:$G$114,G28)>1,\"DUBBLETT\",\"\"))","v":""}]
[0,0,"00:00:00",null,null,null,null,0,0,0,0,0,{"$f":"IF(G29=\"Skriv…\",\"\",IF(COUNTIF(G29:$G$114,G29)>1,\"DUBBLETT\",\"\"))","v":""}]
[0,0,"00:00:00",null,null,null,null,0,0,0,0,0,{"$f":"IF(G30=\"Skriv…\",\"\",IF(COUNTIF(G30:$G$114,G30)>1,\"DUBBLETT\",\"\"))","v":""}]
[0,0,"00:00:00",null,null,null,null,0,0,0,0,0,{"$f":"IF(G31=\"Skriv…\",\"\",IF(COUNTIF(G31:$G$114,G31)>1,\"DUBBLETT\",\"\"))","v":""}]
[0,0,"00:00:00",null,null,null,null,0,0,0,0,0,{"$f":"IF(G32=\"Skriv…\",\"\",IF(COUNTIF(G32:$G$114,G32)>1,\"DUBBLETT\",\"\"))","v":""}]
[0,0,"00:00:00",null,null,null,null,0,0,0,0,0,{"$f":"IF(G33=\"Skriv…\",\"\",IF(COUNTIF(G33:$G$114,G33)>1,\"DUBBLETT\",\"\"))","v":""}]
[0,0,"00:00:00",null,null,null,null,0,0,0,0,0,{"$f":"IF(G34=\"Skriv…\",\"\",IF(COUNTIF(G34:$G$114,G34)>1,\"DUBBLETT\",\"\"))","v":""}]
[0,0,"00:00:00",null,null,null,null,0,0,0,0,0,{"$f":"IF(G35=\"Skriv…\",\"\",IF(COUNTIF(G35:$G$114,G35)>1,\"DUBBLETT\",\"\"))","v":""}]
[0,0,"00:00:00",null,null,null,null,0,0,0,0,0,{"$f":"IF(G36=\"Skriv…\",\"\",IF(COUNTIF(G36:$G$114,G36)>1,\"DUBBLETT\",\"\"))","v":""}]
[0,0,"00:00:00",null,null,null,null,0,0,0,0,0,{"$f":"IF(G37=\"Skriv…\",\"\",IF(COUNTIF(G37:$G$114,G37)>1,\"DUBBLETT\",\"\"))","v":""}]
[0,0,"00:00:00",null,null,null,null,0,0,0,0,0,{"$f":"IF(G38=\"Skriv…\",\"\",IF(COUNTIF(G38:$G$114,G38)>1,\"DUBBLETT\",\"\"))","v":""}]
[0,0,"00:00:00",null,null,null,null,0,0,0,0,0,{"$f":"IF(G39=\"Skriv…\",\"\",IF(COUNTIF(G39:$G$114,G39)>1,\"DUBBLETT\",\"\"))","v":""}]
[0,0,"00:00:00",null,null,null,null,0,0,0,0,0,{"$f":"IF(G40=\"Skriv…\",\"\",IF(COUNTIF(G40:$G$114,G40)>1,\"DUBBLETT\",\"\"))","v":""}]
[0,0,"00:00:00",null,null,null,null,0,0,0,0,0,{"$f":"IF(G41=\"Skriv…\",\"\",IF(COUNTIF(G41:$G$114,G41)>1,\"DUBBLETT\",\"\"))","v":""}]
[0,0,"00:00:00",null,null,null,null,0,0,0,0,0,{"$f":"IF(G42=\"Skriv…\",\"\",IF(COUNTIF(G42:$G$114,G42)>1,\"DUBBLETT\",\"\"))","v":""}]
[0,0,"00:00:00",null,null,null,null,0,0,0,0,0,{"$f":"IF(G43=\"Skriv…\",\"\",IF(COUNTIF(G43:$G$114,G43)>1,\"DUBBLETT\",\"\"))","v":""}]
[0,0,"00:00:00",null,null,null,null,0,0,0,0,0,{"$f":"IF(G44=\"Skriv…\",\"\",IF(COUNTIF(G44:$G$114,G44)>1,\"DUBBLETT\",\"\"))","v":""}]
[0,0,"00:00:00",null,null,null,null,0,0,0,0,0,{"$f":"IF(G45=\"Skriv…\",\"\",IF(COUNTIF(G45:$G$114,G45)>1,\"DUBBLETT\",\"\"))","v":""}]
[{"$f":"$E$8","v":0},{"$f":"$E$9","v":0},"00:00:00",null,null,null,null,{"$f":"$B$5","v":0},{"$f":"$B$6","v":0},{"$f":"$B$7","v":0},0,0,{"$f":"IF(G46=\"Skriv…\",\"\",IF(COUNTIF(G46:$G$114,G46)>1,\"DUBBLETT\",\"\"))","v":""}]
[0,0,"00:00:00",null,null,null,null,0,0,0,0,0,{"$f":"IF(G47=\"Skriv…\",\"\",IF(COUNTIF(G47:$G$114,G47)>1,\"DUBBLETT\",\"\"))","v":""}]
[0,0,"00:00:00",null,null,null,null,0,0,0,0,0,{"$f":"IF(G48=\"Skriv…\",\"\",IF(COUNTIF(G48:$G$114,G48)>1,\"DUBBLETT\",\"\"))","v":""}]
[0,0,"00:00:00",null,null,null,null,0,0,0,0,0,{"$f":"IF(G49=\"Skriv…\",\"\",IF(COUNTIF(G49:$G$114,G49)>1,\"DUBBLETT\",\"\"))","v":""}]
[0,0,"00:00:00",null,null,null,null,0,0,0,0,0,{"$f":"IF(G50=\"Skriv…\",\"\",IF(COUNTIF(G50:$G$114,G50)>1,\"DUBBLETT\",\"\"))","v":""}]
[0,0,"00:00:00",null,null,null,null,0,0,0,0,0,{"$f":"IF(G51=\"Skriv…\",\"\",IF(COUNTIF(G51:$G$114,G51)>1,\"DUBBLETT\",\"\"))","v":""}]
[0,0,"00:00:00",null,null,null,null,0,0,0,0,0,{"$f":"IF(G52=\"Skriv…\",\"\",IF(COUNTIF(G52:$G$114,G52)>1,\"DUBBLETT\",\"\"))","v":""}]
[0,0,"00:00:00",null,null,null,null,0,0,0,0,0,{"$f":"IF(G53=\"Skriv…\",\"\",IF(COUNTIF(G53:$G$114,G53)>1,\"DUBBLETT\",\"\"))","v":""}]
[0,0,"00:00:00",null,null,null,null,0,0,0,0,0,{"$f":"IF(G54=\"Skriv…\",\"\",IF(COUNTIF(G54:$G$114,G54)>1,\"DUBBLETT\",\"\"))","v":""}]
[0,0,"00:00:00",null,null,null,null,0,0,0,0,0,{"$f":"IF(G55=\"Skriv…\",\"\",IF(COUNTIF(G55:$G$114,G55)>1,\"DUBBLETT\",\"\"))","v":""}]
[0,0,"00:00:00",null,null,null,null,0,0,0,0,0,{"$f":"IF(G56=\"Skriv…\",\"\",IF(COUNTIF(G56:$G$114,G56)>1,\"DUBBLETT\",\"\"))","v":""}]
[0,0,"00:00:00",null,null,null,null,0,0,0,0,0,{"$f":"IF(G57=\"Skriv…\",\"\",IF(COUNTIF(G57:$G$114,G57)>1,\"DUBBLETT\",\"\"))","v":""}]
[0,0,"00:00:00",null,null,null,null,0,0,0,0,0,{"$f":"IF(G58=\"Skriv…\",\"\",IF(COUNTIF(G58:$G$114,G58)>1,\"DUBBLETT\",\"\"))","v":""}]
[0,0,"00:00:00",null,null,null,null,0,0,0,0,0,{"$f":"IF(G59=\"Skriv…\",\"\",IF(COUNTIF(G59:$G$114,G59)>1,\"DUBBLETT\",\"\"))","v":""}]
[0,0,"00:00:00",null,null,null,null,0,0,0,0,0,{"$f":"IF(G60=\"Skriv…\",\"\",IF(COUNTIF(G60:$G$114,G60)>1,\"DUBBLETT\",\"\"))","v":""}]
[0,0,"00:00:00",null,null,null,null,0,0,0,0,0,{"$f":"IF(G61=\"Skriv…\",\"\",IF(COUNTIF(G61:$G$114,G61)>1,\"DUBBLETT\",\"\"))","v":""}]
[0,0,"00:00:00",null,null,null,null,0,0,0,0,0,{"$f":"IF(G62=\"Skriv…\",\"\",IF(COUNTIF(G62:$G$114,G62)>1,\"DUBBLETT\",\"\"))","v":""}]
[0,0,"00:00:00",null,null,null,null,0,0,0,0,0,{"$f":"IF(G63=\"Skriv…\",\"\",IF(COUNTIF(G63:$G$114,G63)>1,\"DUBBLETT\",\"\"))","v":""}]
[0,0,"00:00:00",null,null,null,null,0,0,0,0,0,{"$f":"IF(G64=\"Skriv…\",\"\",IF(COUNTIF(G64:$G$114,G64)>1,\"DUBBLETT\",\"\"))","v":""}]
[0,0,"00:00:00",null,null,null,null,0,0,0,0,0,{"$f":"IF(G65=\"Skriv…\",\"\",IF(COUNTIF(G65:$G$114,G65)>1,\"DUBBLETT\",\"\"))","v":""}]
[0,0,"00:00:00",null,null,null,null,0,0,0,0,0,{"$f":"IF(G66=\"Skriv…\",\"\",IF(COUNTIF(G66:$G$114,G66)>1,\"DUBBLETT\",\"\"))","v":""}]
[0,0,"00:00:00",null,null,null,null,0,0,0,0,0,{"$f":"IF(G67=\"Skriv…\",\"\",IF(COUNTIF(G67:$G$114,G67)>1,\"DUBBLETT\",\"\"))","v":""}]
[0,0,"00:00:00",null,null,null,null,0,0,0,0,0,{"$f":"IF(G68=\"Skriv…\",\"\",IF(COUNTIF(G68:$G$114,G68)>1,\"DUBBLETT\",\"\"))","v":""}]
[0,0,"00:00:00",null,null,null,null,0,0,0,0,0,{"$f":"IF(G69=\"Skriv…\",\"\",IF(COUNTIF(G69:$G$114,G69)>1,\"DUBBLETT\",\"\"))","v":""}]
[0,0,"00:00:00",null,null,null,null,0,0,0,0,0,{"$f":"IF(G70=\"Skriv…\",\"\",IF(COUNTIF(G70:$G$114,G70)>1,\"DUBBLETT\",\"\"))","v":""}]
[0,0,"00:00:00",null,null,null,null,0,0,0,0,0,{"$f":"IF(G71=\"Skriv…\",\"\",IF(COUNTIF(G71:$G$114,G71)>1,\"DUBBLETT\",\"\"))","v":""}]
[0,0,"00:00:00",null,null,null,null,0,0,0,0,0,{"$f":"IF(G72=\"Skriv…\",\"\",IF(COUNTIF(G72:$G$114,G72)>1,\"DUBBLETT\",\"\"))","v":""}]
[0,0,"00:00:00",null,null,null,null,0,0,0,0,0,{"$f":"IF(G73=\"Skriv…\",\"\",IF(COUNTIF(G73:$G$114,G73)>1,\"DUBBLETT\",\"\"))","v":""}]
[0,0,"00:00:00",null,null,null,null,0,0,0,0,0,{"$f":"IF(G74=\"Skriv…\",\"\",IF(COUNTIF(G74:$G$114,G74)>1,\"DUBBLETT\",\"\"))","v":""}]
[0,0,"00:00:00",null,null,null,null,0,0,0,0,0,{"$f":"IF(G75=\"Skriv…\",\"\",IF(COUNTIF(G75:$G$114,G75)>1,\"DUBBLETT\",\"\"))","v":""}]
[0,0,"00:00:00",null,null,null,null,0,0,0,0,0,{"$f":"IF(G76=\"Skriv…\",\"\",IF(COUNTIF(G76:$G$114,G76)>1,\"DUBBLETT\",\"\"))","v":""}]
[0,0,"00:00:00",null,null,null,null,0,0,0,0,0,{"$f":"IF(G77=\"Skriv…\",\"\",IF(COUNTIF(G77:$G$114,G77)>1,\"DUBBLETT\",\"\"))","v":""}]
[{"$f":"$E$8","v":0},{"$f":"$E$9","v":0},"00:00:00",null,null,null,null,{"$f":"$B$5","v":0},{"$f":"$B$6","v":0},{"$f":"$B$7","v":0},0,{"$f":"$B$9","v":0},{"$f":"IF(G78=\"Skriv…\",\"\",IF(COUNTIF(G78:$G$114,G78)>1,\"DUBBLETT\",\"\"))","v":""}]
[0,0,"00:00:00",null,null,null,null,0,0,0,{"$f":"$B$8","v":0},0,{"$f":"IF(G79=\"Skriv…\",\"\",IF(COUNTIF(G79:$G$114,G79)>1,\"DUBBLETT\",\"\"))","v":""}]
[0,0,"00:00:00",null,null,null,null,0,0,0,0,0,{"$f":"IF(G80=\"Skriv…\",\"\",IF(COUNTIF(G80:$G$114,G80)>1,\"DUBBLETT\",\"\"))","v":""}]
[0,0,"00:00:00",null,null,null,null,0,0,0,0,0,{"$f":"IF(G81=\"Skriv…\",\"\",IF(COUNTIF(G81:$G$114,G81)>1,\"DUBBLETT\",\"\"))","v":""}]
[0,0,"00:00:00",null,null,null,null,0,0,0,0,0,{"$f":"IF(G82=\"Skriv…\",\"\",IF(COUNTIF(G82:$G$114,G82)>1,\"DUBBLETT\",\"\"))","v":""}]
[0,0,"00:00:00",null,null,null,null,0,0,0,0,0,{"$f":"IF(G83=\"Skriv…\",\"\",IF(COUNTIF(G83:$G$114,G83)>1,\"DUBBLETT\",\"\"))","v":""}]
[0,0,"00:00:00",null,null,null,null,0,0,0,0,0,{"$f":"IF(G84=\"Skriv…\",\"\",IF(COUNTIF(G84:$G$114,G84)>1,\"DUBBLETT\",\"\"))","v":""}]
[0,0,"00:00:00",null,null,null,null,0,0,0,0,0,{"$f":"IF(G85=\"Skriv…\",\"\",IF(COUNTIF(G85:$G$114,G85)>1,\"DUBBLETT\",\"\"))","v":""}]
[0,0,"00:00:00",null,null,null,null,0,0,0,0,0,{"$f":"IF(G86=\"Skriv…\",\"\",IF(COUNTIF(G86:$G$114,G86)>1,\"DUBBLETT\",\"\"))","v":""}]
[0,0,"00:00:00",null,null,null,null,0,0,0,0,0,{"$f":"IF(G87=\"Skriv…\",\"\",IF(COUNTIF(G87:$G$114,G87)>1,\"DUBBLETT\",\"\"))","v":""}]
[0,0,"00:00:00",null,null,null,null,0,0,0,0,0,{"$f":"IF(G88=\"Skriv…\",\"\",IF(COUNTIF(G88:$G$114,G88)>1,\"DUBBLETT\",\"\"))","v":""}]
[0,0,"00:00:00",null,null,null,null,0,0,0,0,0,{"$f":"IF(G89=\"Skriv…\",\"\",IF(COUNTIF(G89:$G$114,G89)>1,\"DUBBLETT\",\"\"))","v":""}]
[0,0,"00:00:00",null,null,null,null,0,0,0,0,0,{"$f":"IF(G90=\"Skriv…\",\"\",IF(COUNTIF(G90:$G$114,G90)>1,\"DUBBLETT\",\"\"))","v":""}]
[0,0,"00:00:00",null,null,null,null,0,0,0,0,0,{"$f":"IF(G91=\"Skriv…\",\"\",IF(COUNTIF(G91:$G$114,G91)>1,\"DUBBLETT\",\"\"))","v":""}]
[0,0,"00:00:00",null,null,null,null,0,0,0,0,0,{"$f":"IF(G92=\"Skriv…\",\"\",IF(COUNTIF(G92:$G$114,G92)>1,\"DUBBLETT\",\"\"))","v":""}]
[0,0,"00:00:00",null,null,null,null,0,0,0,0,0,{"$f":"IF(G93=\"Skriv…\",\"\",IF(COUNTIF(G93:$G$114,G93)>1,\"DUBBLETT\",\"\"))","v":""}]
[0,0,"00:00:00",null,null,null,null,0,0,0,0,0,{"$f":"IF(G94=\"Skriv…\",\"\",IF(COUNTIF(G94:$G$114,G94)>1,\"DUBBLETT\",\"\"))","v":""}]
[0,0,"00:00:00",null,null,null,null,0,0,0,0,0,{"$f":"IF(G95=\"Skriv…\",\"\",IF(COUNTIF(G95:$G$114,G95)>1,\"DUBBLETT\",\"\"))","v":""}]
[0,0,"00:00:00",null,null,null,null,0,0,0,0,0,{"$f":"IF(G96=\"Skriv…\",\"\",IF(COUNTIF(G96:$G$114,G96)>1,\"DUBBLETT\",\"\"))","v":""}]
[0,0,"00:00:00",null,null,null,null,0,0,0,0,0,{"$f":"IF(G97=\"Skriv…\",\"\",IF(COUNTIF(G97:$G$114,G97)>1,\"DUBBLETT\",\"\"))","v":""}]
[0,0,"00:00:00",null,null,null,null,0,0,0,0,0,{"$f":"IF(G98=\"Skriv…\",\"\",IF(COUNTIF(G98:$G$114,G98)>1,\"DUBBLETT\",\"\"))","v":""}]
[0,0,"00:00:00",null,null,null,null,0,0,0,0,0,{"$f":"IF(G99=\"Skriv…\",\"\",IF(COUNTIF(G99:$G$114,G99)>1,\"DUBBLETT\",\"\"))","v":""}]
[0,0,"00:00:00",null,null,null,null,0,0,0,0,0,{"$f":"IF(G100=\"Skriv…\",\"\",IF(COUNTIF(G100:$G$114,G100)>1,\"DUBBLETT\",\"\"))","v":""}]
[0,0,"00:00:00",null,null,null,null,0,0,0,0,0,{"$f":"IF(G101=\"Skriv…\",\"\",IF(COUNTIF(G101:$G$114,G101)>1,\"DUBBLETT\",\"\"))","v":""}]
[0,0,"00:00:00",null,null,null,null,0,0,0,0,0,{"$f":"IF(G102=\"Skriv…\",\"\",IF(COUNTIF(G102:$G$114,G102)>1,\"DUBBLETT\",\"\"))","v":""}]
[0,0,"00:00:00",null,null,null,null,0,0,0,0,0,{"$f":"IF(G103=\"Skriv…\",\"\",IF(COUNTIF(G103:$G$114,G103)>1,\"DUBBLETT\",\"\"))","v":""}]
[0,0,"00:00:00",null,null,null,null,0,0,0,0,0,{"$f":"IF(G104=\"Skriv…\",\"\",IF(COUNTIF(G104:$G$114,G104)>1,\"DUBBLETT\",\"\"))","v":""}]
[0,0,"00:00:00",null,null,null,null,0,0,0,0,0,{"$f":"IF(G105=\"Skriv…\",\"\",IF(COUNTIF(G105:$G$114,G105)>1,\"DUBBLETT\",\"\"))","v":""}]
[0,0,"00:00:00",null,null,null,null,0,0,0,0,0,{"$f":"IF(G106=\"Skriv…\",\"\",IF(COUNTIF(G106:$G$114,G106)>1,\"DUBBLETT\",\"\"))","v":""}]
[0,0,"00:00:00",null,null,null,null,0,0,0,0,0,{"$f":"IF(G107=\"Skriv…\",\"\",IF(COUNTIF(G107:$G$114,G107)>1,\"DUBBLETT\",\"\"))","v":""}]
[0,0,"00:00:00",null,null,null,null,0,0,0,0,0,{"$f":"IF(G108=\"Skriv…\",\"\",IF(COUNTIF(G108:$G$114,G108)>1,\"DUBBLETT\",\"\"))","v":""}]
[0,0,"00:00:00",null,null,null,null,0,0,0,0,0,{"$f":"IF(G109=\"Skriv…\",\"\",IF(COUNTIF(G109:$G$114,G109)>1,\"DUBBLETT\",\"\"))","v":""}]
[0,0,"00:00:00",null,null,null,null,0,0,0,0,0,{"$f":"IF(G110=\"Skriv…\",\"\",IF(COUNTIF(G110:$G$114,G110)>1,\"DUBBLETT\",\"\"))","v":""}]
[0,0,"00:00:00",null,null,null,null,0,0,0,0,0,{"$f":"IF(G111=\"Skriv…\",\"\",IF(COUNTIF(G111:$G$114,G111)>1,\"DUBBLETT\",\"\"))","v":""}]
[0,0,"00:00:00",null,null,null,null,0,0,0,0,0,{"$f":"IF(G112=\"Skriv…\",\"\",IF(COUNTIF(G112:$G$114,G112)>1,\"DUBBLETT\",\"\"))","v":""}]
[0,0,"00:00:00",null,null,null,null,0,0,0,0,0,{"$f":"IF(G113=\"Skriv…\",\"\",IF(COUNTIF(G113:$G$114,G113)>1,\"DUBBLETT\",\"\"))","v":""}]
[0,0,"00:00:00",null,null,null,null,0,0,0,0,{"$f":"$B$9","v":0},{"$f":"IF(G114=\"Skriv…\",\"\",IF(COUNTIF(G114:$G$114,G114)>1,\"DUBBLETT\",\"\"))","v":""}]

{"sheet":"SKADEINFO FÖRSÄKRING","index":1,"n_rows":114,"n_cols":15,"rows_kept":114,"cut":false,"hidden":false,"merged":[[0,0,0,8],[1,0,1,6]]}
["Information från försäkringsbolag till va-organisation"]
["RAPPORT FÖRSÄKRINGSBOLAG"]
[]
[]
[{"$f":"'BASINFO FÖRSÄKRING'!A5","v":"VA-organisation"},{"$f":"'BASINFO FÖRSÄKRING'!B5","v":0}]
[]
["FYLL I CELLER MED BLÅ TEXT"]
[]
[]
[]
[]
[]
["Skadenr","Skadeställe adress","Skadedatum","Var uppkom skada","Klockslag","Skada upptäckt direkt","Översvämn inträffat tidigare","Hur kom vattnet in","Samband med nederbörd","Avloppslukt","Vattennivå inne i cm","Finns foton","Skada anmäld till VA-org","Uppskattad skadekostnad","Övrigt (fritext)"]
[{"$f":"'BASINFO FÖRSÄKRING'!G14","v":0},{"$f":"'BASINFO FÖRSÄKRING'!D14","v":0},{"$f":"'BASINFO FÖRSÄKRING'!C14","v":"00:00:00"}]
[{"$f":"'BASINFO FÖRSÄKRING'!G15","v":0},{"$f":"'BASINFO FÖRSÄKRING'!D15","v":0},{"$f":"'BASINFO FÖRSÄKRING'!C15","v":"00:00:00"}]
[{"$f":"'BASINFO FÖRSÄKRING'!G16","v":0},{"$f":"'BASINFO FÖRSÄKRING'!D16","v":0},{"$f":"'BASINFO FÖRSÄKRING'!C16","v":"00:00:00"}]
[{"$f":"'BASINFO FÖRSÄKRING'!G17","v":0},{"$f":"'BASINFO FÖRSÄKRING'!D17","v":0},{"$f":"'BASINFO FÖRSÄKRING'!C17","v":"00:00:00"}]
[{"$f":"'BASINFO FÖRSÄKRING'!G18","v":0},{"$f":"'BASINFO FÖRSÄKRING'!D18","v":0},{"$f":"'BASINFO FÖRSÄKRING'!C18","v":"00:00:00"}]
[{"$f":"'BASINFO FÖRSÄKRING'!G19","v":0},{"$f":"'BASINFO FÖRSÄKRING'!D19","v":0},{"$f":"'BASINFO FÖRSÄKRING'!C19","v":"00:00:00"}]
[{"$f":"'BASINFO FÖRSÄKRING'!G20","v":0},{"$f":"'BASINFO FÖRSÄKRING'!D20","v":0},{"$f":"'BASINFO FÖRSÄKRING'!C20","v":"00:00:00"}]
[{"$f":"'BASINFO FÖRSÄKRING'!G21","v":0},{"$f":"'BASINFO FÖRSÄKRING'!D21","v":0},{"$f":"'BASINFO FÖRSÄKRING'!C21","v":"00:00:00"}]
[{"$f":"'BASINFO FÖRSÄKRING'!G22","v":0},{"$f":"'BASINFO FÖRSÄKRING'!D22","v":0},{"$f":"'BASINFO FÖRSÄKRING'!C22","v":"00:00:00"}]
[{"$f":"'BASINFO FÖRSÄKRING'!G23","v":0},{"$f":"'BASINFO FÖRSÄKRING'!D23","v":0},{"$f":"'BASINFO FÖRSÄKRING'!C23","v":"00:00:00"}]
[{"$f":"'BASINFO FÖRSÄKRING'!G24","v":0},{"$f":"'BASINFO FÖRSÄKRING'!D24","v":0},{"$f":"'BASINFO FÖRSÄKRING'!C24","v":"00:00:00"}]
[{"$f":"'BASINFO FÖRSÄKRING'!G25","v":0},{"$f":"'BASINFO FÖRSÄKRING'!D25","v":0},{"$f":"'BASINFO FÖRSÄKRING'!C25","v":"00:00:00"}]
[{"$f":"'BASINFO FÖRSÄKRING'!G26","v":0},{"$f":"'BASINFO FÖRSÄKRING'!D26","v":0},{"$f":"'BASINFO FÖRSÄKRING'!C26","v":"00:00:00"}]
[{"$f":"'BASINFO FÖRSÄKRING'!G27","v":0},{"$f":"'BASINFO FÖRSÄKRING'!D27","v":0},{"$f":"'BASINFO FÖRSÄKRING'!C27","v":"00:00:00"}]
[{"$f":"'BASINFO FÖRSÄKRING'!G28","v":0},{"$f":"'BASINFO FÖRSÄKRING'!D28","v":0},{"$f":"'BASINFO FÖRSÄKRING'!C28","v":"00:00:00"}]
[{"$f":"'BASINFO FÖRSÄKRING'!G29","v":0},{"$f":"'BASINFO FÖRSÄKRING'!D29","v":0},{"$f":"'BASINFO FÖRSÄKRING'!C29","v":"00:00:00"}]
[{"$f":"'BASINFO FÖRSÄKRING'!G30","v":0},{"$f":"'BASINFO FÖRSÄKRING'!D30","v":0},{"$f":"'BASINFO FÖRSÄKRING'!C30","v":"00:00:00"}]
[{"$f":"'BASINFO FÖRSÄKRING'!G31","v":0},{"$f":"'BASINFO FÖRSÄKRING'!D31","v":0},{"$f":"'BASINFO FÖRSÄKRING'!C31","v":"00:00:00"}]
[{"$f":"'BASINFO FÖRSÄKRING'!G32","v":0},{"$f":"'BASINFO FÖRSÄKRING'!D32","v":0},{"$f":"'BASINFO FÖRSÄKRING'!C32","v":"00:00:00"}]
[{"$f":"'BASINFO FÖRSÄKRING'!G33","v":0},{"$f":"'BASINFO FÖRSÄKRING'!D33","v":0},{"$f":"'BASINFO FÖRSÄKRING'!C33","v":"00:00:00"}]
[{"$f":"'BASINFO FÖRSÄKRING'!G34","v":0},{"$f":"'BASINFO FÖRSÄKRING'!D34","v":0},{"$f":"'BASINFO FÖRSÄKRING'!C34","v":"00:00:00"}]
[{"$f":"'BASINFO FÖRSÄKRING'!G35","v":0},{"$f":"'BASINFO FÖRSÄKRING'!D35","v":0},{"$f":"'BASINFO FÖRSÄKRING'!C35","v":"00:00:00"}]
[{"$f":"'BASINFO FÖRSÄKRING'!G36","v":0},{"$f":"'BASINFO FÖRSÄKRING'!D36","v":0},{"$f":"'BASINFO FÖRSÄKRING'!C36","v":"00:00:00"}]
[{"$f":"'BASINFO FÖRSÄKRING'!G37","v":0},{"$f":"'BASINFO FÖRSÄKRING'!D37","v":0},{"$f":"'BASINFO FÖRSÄKRING'!C37","v":"00:00:00"}]
[{"$f":"'BASINFO FÖRSÄKRING'!G38","v":0},{"$f":"'BASINFO FÖRSÄKRING'!D38","v":0},{"$f":"'BASINFO FÖRSÄKRING'!C38","v":"00:00:00"}]
[{"$f":"'BASINFO FÖRSÄKRING'!G39","v":0},{"$f":"'BASINFO FÖRSÄKRING'!D39","v":0},{"$f":"'BASINFO FÖRSÄKRING'!C39","v":"00:00:00"}]
[{"$f":"'BASINFO FÖRSÄKRING'!G40","v":0},{"$f":"'BASINFO FÖRSÄKRING'!D40","v":0},{"$f":"'BASINFO FÖRSÄKRING'!C40","v":"00:00:00"}]
[{"$f":"'BASINFO FÖRSÄKRING'!G41","v":0},{"$f":"'BASINFO FÖRSÄKRING'!D41","v":0},{"$f":"'BASINFO FÖRSÄKRING'!C41","v":"00:00:00"}]
[{"$f":"'BASINFO FÖRSÄKRING'!G42","v":0},{"$f":"'BASINFO FÖRSÄKRING'!D42","v":0},{"$f":"'BASINFO FÖRSÄKRING'!C42","v":"00:00:00"}]
[{"$f":"'BASINFO FÖRSÄKRING'!G43","v":0},{"$f":"'BASINFO FÖRSÄKRING'!D43","v":0},{"$f":"'BASINFO FÖRSÄKRING'!C43","v":"00:00:00"}]
[{"$f":"'BASINFO FÖRSÄKRING'!G44","v":0},{"$f":"'BASINFO FÖRSÄKRING'!D44","v":0},{"$f":"'BASINFO FÖRSÄKRING'!C44","v":"00:00:00"}]
[{"$f":"'BASINFO FÖRSÄKRING'!G45","v":0},{"$f":"'BASINFO FÖRSÄKRING'!D45","v":0},{"$f":"'BASINFO FÖRSÄKRING'!C45","v":"00:00:00"}]
[{"$f":"'BASINFO FÖRSÄKRING'!G46","v":0},{"$f":"'BASINFO FÖRSÄKRING'!D46","v":0},{"$f":"'BASINFO FÖRSÄKRING'!C46","v":"00:00:00"}]
[{"$f":"'BASINFO FÖRSÄKRING'!G47","v":0},{"$f":"'BASINFO FÖRSÄKRING'!D47","v":0},{"$f":"'BASINFO FÖRSÄKRING'!C47","v":"00:00:00"}]
[{"$f":"'BASINFO FÖRSÄKRING'!G48","v":0},{"$f":"'BASINFO FÖRSÄKRING'!D48","v":0},{"$f":"'BASINFO FÖRSÄKRING'!C48","v":"00:00:00"}]
[{"$f":"'BASINFO FÖRSÄKRING'!G49","v":0},{"$f":"'BASINFO FÖRSÄKRING'!D49","v":0},{"$f":"'BASINFO FÖRSÄKRING'!C49","v":"00:00:00"}]
[{"$f":"'BASINFO FÖRSÄKRING'!G50","v":0},{"$f":"'BASINFO FÖRSÄKRING'!D50","v":0},{"$f":"'BASINFO FÖRSÄKRING'!C50","v":"00:00:00"}]
[{"$f":"'BASINFO FÖRSÄKRING'!G51","v":0},{"$f":"'BASINFO FÖRSÄKRING'!D51","v":0},{"$f":"'BASINFO FÖRSÄKRING'!C51","v":"00:00:00"}]
[{"$f":"'BASINFO FÖRSÄKRING'!G52","v":0},{"$f":"'BASINFO FÖRSÄKRING'!D52","v":0},{"$f":"'BASINFO FÖRSÄKRING'!C52","v":"00:00:00"}]
[{"$f":"'BASINFO FÖRSÄKRING'!G53","v":0},{"$f":"'BASINFO FÖRSÄKRING'!D53","v":0},{"$f":"'BASINFO FÖRSÄKRING'!C53","v":"00:00:00"}]
[{"$f":"'BASINFO FÖRSÄKRING'!G54","v":0},{"$f":"'BASINFO FÖRSÄKRING'!D54","v":0},{"$f":"'BASINFO FÖRSÄKRING'!C54","v":"00:00:00"}]
[{"$f":"'BASINFO FÖRSÄKRING'!G55","v":0},{"$f":"'BASINFO FÖRSÄKRING'!D55","v":0},{"$f":"'BASINFO FÖRSÄKRING'!C55","v":"00:00:00"}]
[{"$f":"'BASINFO FÖRSÄKRING'!G56","v":0},{"$f":"'BASINFO FÖRSÄKRING'!D56","v":0},{"$f":"'BASINFO FÖRSÄKRING'!C56","v":"00:00:00"}]
[{"$f":"'BASINFO FÖRSÄKRING'!G57","v":0},{"$f":"'BASINFO FÖRSÄKRING'!D57","v":0},{"$f":"'BASINFO FÖRSÄKRING'!C57","v":"00:00:00"}]
[{"$f":"'BASINFO FÖRSÄKRING'!G58","v":0},{"$f":"'BASINFO FÖRSÄKRING'!D58","v":0},{"$f":"'BASINFO FÖRSÄKRING'!C58","v":"00:00:00"}]
[{"$f":"'BASINFO FÖRSÄKRING'!G59","v":0},{"$f":"'BASINFO FÖRSÄKRING'!D59","v":0},{"$f":"'BASINFO FÖRSÄKRING'!C59","v":"00:00:00"}]
[{"$f":"'BASINFO FÖRSÄKRING'!G60","v":0},{"$f":"'BASINFO FÖRSÄKRING'!D60","v":0},{"$f":"'BASINFO FÖRSÄKRING'!C60","v":"00:00:00"}]
[{"$f":"'BASINFO FÖRSÄKRING'!G61","v":0},{"$f":"'BASINFO FÖRSÄKRING'!D61","v":0},{"$f":"'BASINFO FÖRSÄKRING'!C61","v":"00:00:00"}]
[{"$f":"'BASINFO FÖRSÄKRING'!G62","v":0},{"$f":"'BASINFO FÖRSÄKRING'!D62","v":0},{"$f":"'BASINFO FÖRSÄKRING'!C62","v":"00:00:00"}]
[{"$f":"'BASINFO FÖRSÄKRING'!G63","v":0},{"$f":"'BASINFO FÖRSÄKRING'!D63","v":0},{"$f":"'BASINFO FÖRSÄKRING'!C63","v":"00:00:00"}]
[{"$f":"'BASINFO FÖRSÄKRING'!G64","v":0},{"$f":"'BASINFO FÖRSÄKRING'!D64","v":0},{"$f":"'BASINFO FÖRSÄKRING'!C64","v":"00:00:00"}]
[{"$f":"'BASINFO FÖRSÄKRING'!G65","v":0},{"$f":"'BASINFO FÖRSÄKRING'!D65","v":0},{"$f":"'BASINFO FÖRSÄKRING'!C65","v":"00:00:00"}]
[{"$f":"'BASINFO FÖRSÄKRING'!G66","v":0},{"$f":"'BASINFO FÖRSÄKRING'!D66","v":0},{"$f":"'BASINFO FÖRSÄKRING'!C66","v":"00:00:00"}]
[{"$f":"'BASINFO FÖRSÄKRING'!G67","v":0},{"$f":"'BASINFO FÖRSÄKRING'!D67","v":0},{"$f":"'BASINFO FÖRSÄKRING'!C67","v":"00:00:00"}]
[{"$f":"'BASINFO FÖRSÄKRING'!G68","v":0},{"$f":"'BASINFO FÖRSÄKRING'!D68","v":0},{"$f":"'BASINFO FÖRSÄKRING'!C68","v":"00:00:00"}]
[{"$f":"'BASINFO FÖRSÄKRING'!G69","v":0},{"$f":"'BASINFO FÖRSÄKRING'!D69","v":0},{"$f":"'BASINFO FÖRSÄKRING'!C69","v":"00:00:00"}]
[{"$f":"'BASINFO FÖRSÄKRING'!G70","v":0},{"$f":"'BASINFO FÖRSÄKRING'!D70","v":0},{"$f":"'BASINFO FÖRSÄKRING'!C70","v":"00:00:00"}]
[{"$f":"'BASINFO FÖRSÄKRING'!G71","v":0},{"$f":"'BASINFO FÖRSÄKRING'!D71","v":0},{"$f":"'BASINFO FÖRSÄKRING'!C71","v":"00:00:00"}]
[{"$f":"'BASINFO FÖRSÄKRING'!G72","v":0},{"$f":"'BASINFO FÖRSÄKRING'!D72","v":0},{"$f":"'BASINFO FÖRSÄKRING'!C72","v":"00:00:00"}]
[{"$f":"'BASINFO FÖRSÄKRING'!G73","v":0},{"$f":"'BASINFO FÖRSÄKRING'!D73","v":0},{"$f":"'BASINFO FÖRSÄKRING'!C73","v":"00:00:00"}]
[{"$f":"'BASINFO FÖRSÄKRING'!G74","v":0},{"$f":"'BASINFO FÖRSÄKRING'!D74","v":0},{"$f":"'BASINFO FÖRSÄKRING'!C74","v":"00:00:00"}]
[{"$f":"'BASINFO FÖRSÄKRING'!G75","v":0},{"$f":"'BASINFO FÖRSÄKRING'!D75","v":0},{"$f":"'BASINFO FÖRSÄKRING'!C75","v":"00:00:00"}]
[{"$f":"'BASINFO FÖRSÄKRING'!G76","v":0},{"$f":"'BASINFO FÖRSÄKRING'!D76","v":0},{"$f":"'BASINFO FÖRSÄKRING'!C76","v":"00:00:00"}]
[{"$f":"'BASINFO FÖRSÄKRING'!G77","v":0},{"$f":"'BASINFO FÖRSÄKRING'!D77","v":0},{"$f":"'BASINFO FÖRSÄKRING'!C77","v":"00:00:00"}]
[{"$f":"'BASINFO FÖRSÄKRING'!G78","v":0},{"$f":"'BASINFO FÖRSÄKRING'!D78","v":0},{"$f":"'BASINFO FÖRSÄKRING'!C78","v":"00:00:00"}]
[{"$f":"'BASINFO FÖRSÄKRING'!G79","v":0},{"$f":"'BASINFO FÖRSÄKRING'!D79","v":0},{"$f":"'BASINFO FÖRSÄKRING'!C79","v":"00:00:00"}]
[{"$f":"'BASINFO FÖRSÄKRING'!G80","v":0},{"$f":"'BASINFO FÖRSÄKRING'!D80","v":0},{"$f":"'BASINFO FÖRSÄKRING'!C80","v":"00:00:00"}]
[{"$f":"'BASINFO FÖRSÄKRING'!G81","v":0},{"$f":"'BASINFO FÖRSÄKRING'!D81","v":0},{"$f":"'BASINFO FÖRSÄKRING'!C81","v":"00:00:00"}]
[{"$f":"'BASINFO FÖRSÄKRING'!G82","v":0},{"$f":"'BASINFO FÖRSÄKRING'!D82","v":0},{"$f":"'BASINFO FÖRSÄKRING'!C82","v":"00:00:00"}]
[{"$f":"'BASINFO FÖRSÄKRING'!G83","v":0},{"$f":"'BASINFO FÖRSÄKRING'!D83","v":0},{"$f":"'BASINFO FÖRSÄKRING'!C83","v":"00:00:00"}]
[{"$f":"'BASINFO FÖRSÄKRING'!G84","v":0},{"$f":"'BASINFO FÖRSÄKRING'!D84","v":0},{"$f":"'BASINFO FÖRSÄKRING'!C84","v":"00:00:00"}]
[{"$f":"'BASINFO FÖRSÄKRING'!G85","v":0},{"$f":"'BASINFO FÖRSÄKRING'!D85","v":0},{"$f":"'BASINFO FÖRSÄKRING'!C85","v":"00:00:00"}]
[{"$f":"'BASINFO FÖRSÄKRING'!G86","v":0},{"$f":"'BASINFO FÖRSÄKRING'!D86","v":0},{"$f":"'BASINFO FÖRSÄKRING'!C86","v":"00:00:00"}]
[{"$f":"'BASINFO FÖRSÄKRING'!G87","v":0},{"$f":"'BASINFO FÖRSÄKRING'!D87","v":0},{"$f":"'BASINFO FÖRSÄKRING'!C87","v":"00:00:00"}]
[{"$f":"'BASINFO FÖRSÄKRING'!G88","v":0},{"$f":"'BASINFO FÖRSÄKRING'!D88","v":0},{"$f":"'BASINFO FÖRSÄKRING'!C88","v":"00:00:00"}]
[{"$f":"'BASINFO FÖRSÄKRING'!G89","v":0},{"$f":"'BASINFO FÖRSÄKRING'!D89","v":0},{"$f":"'BASINFO FÖRSÄKRING'!C89","v":"00:00:00"}]
[{"$f":"'BASINFO FÖRSÄKRING'!G90","v":0},{"$f":"'BASINFO FÖRSÄKRING'!D90","v":0},{"$f":"'BASINFO FÖRSÄKRING'!C90","v":"00:00:00"}]
[{"$f":"'BASINFO FÖRSÄKRING'!G91","v":0},{"$f":"'BASINFO FÖRSÄKRING'!D91","v":0},{"$f":"'BASINFO FÖRSÄKRING'!C91","v":"00:00:00"}]
[{"$f":"'BASINFO FÖRSÄKRING'!G92","v":0},{"$f":"'BASINFO FÖRSÄKRING'!D92","v":0},{"$f":"'BASINFO FÖRSÄKRING'!C92","v":"00:00:00"}]
[{"$f":"'BASINFO FÖRSÄKRING'!G93","v":0},{"$f":"'BASINFO FÖRSÄKRING'!D93","v":0},{"$f":"'BASINFO FÖRSÄKRING'!C93","v":"00:00:00"}]
[{"$f":"'BASINFO FÖRSÄKRING'!G94","v":0},{"$f":"'BASINFO FÖRSÄKRING'!D94","v":0},{"$f":"'BASINFO FÖRSÄKRING'!C94","v":"00:00:00"}]
[{"$f":"'BASINFO FÖRSÄKRING'!G95","v":0},{"$f":"'BASINFO FÖRSÄKRING'!D95","v":0},{"$f":"'BASINFO FÖRSÄKRING'!C95","v":"00:00:00"}]
[{"$f":"'BASINFO FÖRSÄKRING'!G96","v":0},{"$f":"'BASINFO FÖRSÄKRING'!D96","v":0},{"$f":"'BASINFO FÖRSÄKRING'!C96","v":"00:00:00"}]
[{"$f":"'BASINFO FÖRSÄKRING'!G97","v":0},{"$f":"'BASINFO FÖRSÄKRING'!D97","v":0},{"$f":"'BASINFO FÖRSÄKRING'!C97","v":"00:00:00"}]
[{"$f":"'BASINFO FÖRSÄKRING'!G98","v":0},{"$f":"'BASINFO FÖRSÄKRING'!D98","v":0},{"$f":"'BASINFO FÖRSÄKRING'!C98","v":"00:00:00"}]
[{"$f":"'BASINFO FÖRSÄKRING'!G99","v":0},{"$f":"'BASINFO FÖRSÄKRING'!D99","v":0},{"$f":"'BASINFO FÖRSÄKRING'!C99","v":"00:00:00"}]
[{"$f":"'BASINFO FÖRSÄKRING'!G100","v":0},{"$f":"'BASINFO FÖRSÄKRING'!D100","v":0},{"$f":"'BASINFO FÖRSÄKRING'!C100","v":"00:00:00"}]
[{"$f":"'BASINFO FÖRSÄKRING'!G101","v":0},{"$f":"'BASINFO FÖRSÄKRING'!D101","v":0},{"$f":"'BASINFO FÖRSÄKRING'!C101","v":"00:00:00"}]
[{"$f":"'BASINFO FÖRSÄKRING'!G102","v":0},{"$f":"'BASINFO FÖRSÄKRING'!D102","v":0},{"$f":"'BASINFO FÖRSÄKRING'!C102","v":"00:00:00"}]
[{"$f":"'BASINFO FÖRSÄKRING'!G103","v":0},{"$f":"'BASINFO FÖRSÄKRING'!D103","v":0},{"$f":"'BASINFO FÖRSÄKRING'!C103","v":"00:00:00"}]
[{"$f":"'BASINFO FÖRSÄKRING'!G104","v":0},{"$f":"'BASINFO FÖRSÄKRING'!D104","v":0},{"$f":"'BASINFO FÖRSÄKRING'!C104","v":"00:00:00"}]
[{"$f":"'BASINFO FÖRSÄKRING'!G105","v":0},{"$f":"'BASINFO FÖRSÄKRING'!D105","v":0},{"$f":"'BASINFO FÖRSÄKRING'!C105","v":"00:00:00"}]
[{"$f":"'BASINFO FÖRSÄKRING'!G106","v":0},{"$f":"'BASINFO FÖRSÄKRING'!D106","v":0},{"$f":"'BASINFO FÖRSÄKRING'!C106","v":"00:00:00"}]
[{"$f":"'BASINFO FÖRSÄKRING'!G107","v":0},{"$f":"'BASINFO FÖRSÄKRING'!D107","v":0},{"$f":"'BASINFO FÖRSÄKRING'!C107","v":"00:00:00"}]
[{"$f":"'BASINFO FÖRSÄKRING'!G108","v":0},{"$f":"'BASINFO FÖRSÄKRING'!D108","v":0},{"$f":"'BASINFO FÖRSÄKRING'!C108","v":"00:00:00"}]
[{"$f":"'BASINFO FÖRSÄKRING'!G109","v":0},{"$f":"'BASINFO FÖRSÄKRING'!D109","v":0},{"$f":"'BASINFO FÖRSÄKRING'!C109","v":"00:00:00"}]
[{"$f":"'BASINFO FÖRSÄKRING'!G110","v":0},{"$f":"'BASINFO FÖRSÄKRING'!D110","v":0},{"$f":"'BASINFO FÖRSÄKRING'!C110","v":"00:00:00"}]
[{"$f":"'BASINFO FÖRSÄKRING'!G111","v":0},{"$f":"'BASINFO FÖRSÄKRING'!D111","v":0},{"$f":"'BASINFO FÖRSÄKRING'!C111","v":"00:00:00"}]
[{"$f":"'BASINFO FÖRSÄKRING'!G112","v":0},{"$f":"'BASINFO FÖRSÄKRING'!D112","v":0},{"$f":"'BASINFO FÖRSÄKRING'!C112","v":"00:00:00"}]
[{"$f":"'BASINFO FÖRSÄKRING'!G113","v":0},{"$f":"'BASINFO FÖRSÄKRING'!D113","v":0},{"$f":"'BASINFO FÖRSÄKRING'!C113","v":"00:00:00"}]
[{"$f":"'BASINFO FÖRSÄKRING'!G114","v":0},{"$f":"'BASINFO FÖRSÄKRING'!D114","v":0},{"$f":"'BASINFO FÖRSÄKRING'!C114","v":"00:00:00"}]

{"sheet":"BASINFO VAORG","index":2,"n_rows":114,"n_cols":14,"rows_kept":114,"cut":false,"hidden":false,"merged":[[8,1,8,2],[0,0,0,8],[3,1,3,2],[4,1,4,2],[5,1,5,2],[6,1,6,2],[7,1,7,2]]}
["Information från va-organisation till försäkringsbolag"]
["KOMPLETTERANDE BASINFORMATION",null,null,null,"Efter att VA-organisationen fått information från försäkringsbolaget kompletterar va-organisationen med information i raderna nedan"]
[null,null,null,null,"Max 100 rader. Ett ärende per rad. Raden innehåller sektionsvis basinfo, försäkringsinfo och info från va-organisationen "]
[null,null,null,null,"\"Skriv...\" = notera själv data, \"Välj...\" = markera cellen, visa listruta genom klick på pilen, välj ett värde"]
[null,null,null,null,"Trots listruta kan du skriva ett eget värde om du vill. Eller kopiera in data från en egen framtagen lista."]
["Uppdaterad senast","2009-06-19"]
["Kontaktperson va-org","Skriv…",null,"Notera den person som har merparten av ärendena (i listan nedan kan man sedan ändra per ärende)"]
["Telefonnummer","Skriv…",null,"Samma som ovan"]
["Epostadress","Skriv…",null,"Samma som ovan"]
[]
[]
[null,null,null,null,null,null,null,null,null,null,null,null,null,"KONTROLL"]
["Län","Kommun","Skadeställe adress","ev Fast.beteckning","Försäkringstagare","Skadedatum (försäkringsbolag)","Ärendenummer VA-org","Försäkringsbolag","VA-organisation","Kontaktperson VA-org","Telnr","Mejl","Skadedag (hos VA-org)","DUBBLETT"]
[{"$f":"'BASINFO FÖRSÄKRING'!$E$8","v":0},{"$f":"'BASINFO FÖRSÄKRING'!$E$9","v":0},{"$f":"'BASINFO FÖRSÄKRING'!D14","v":0},{"$f":"'BASINFO FÖRSÄKRING'!E14","v":0},{"$f":"'BASINFO FÖRSÄKRING'!F14","v":0},{"$f":"'BASINFO FÖRSÄKRING'!C14","v":"00:00:00"},"Skriv…",{"$f":"'BASINFO FÖRSÄKRING'!I14","v":0},{"$f":"'BASINFO FÖRSÄKRING'!$B$5","v":0},{"$f":"$B$7","v":"Skriv…"},{"$f":"$B$8","v":"Skriv…"},{"$f":"$B$9","v":"Skriv…"},"Fyll i…",{"$f":"IF(G14=\"Skriv…\",\"\",IF(COUNTIF(A14:$G$114,G14)>1,\"DUBBLETT\",\"\"))","v":""}]
[{"$f":"'BASINFO FÖRSÄKRING'!$E$8","v":0},{"$f":"'BASINFO FÖRSÄKRING'!$E$9","v":0},{"$f":"'BASINFO FÖRSÄKRING'!D15","v":0},{"$f":"'BASINFO FÖRSÄKRING'!E15","v":0},{"$f":"'BASINFO FÖRSÄKRING'!F15","v":0},{"$f":"'BASINFO FÖRSÄKRING'!C15","v":"00:00:00"},"Skriv…",{"$f":"'BASINFO FÖRSÄKRING'!I15","v":0},{"$f":"'BASINFO FÖRSÄKRING'!$B$5","v":0},"Skriv…","Skriv…","Skriv…","Fyll i…",{"$f":"IF(G15=\"Skriv…\",\"\",IF(COUNTIF(A15:$G$114,G15)>1,\"DUBBLETT\",\"\"))","v":""}]
[{"$f":"'BASINFO FÖRSÄKRING'!$E$8","v":0},{"$f":"'BASINFO FÖRSÄKRING'!$E$9","v":0},{"$f":"'BASINFO FÖRSÄKRING'!D16","v":0},{"$f":"'BASINFO FÖRSÄKRING'!E16","v":0},{"$f":"'BASINFO FÖRSÄKRING'!F16","v":0},{"$f":"'BASINFO FÖRSÄKRING'!C16","v":"00:00:00"},"Skriv…",{"$f":"'BASINFO FÖRSÄKRING'!I16","v":0},{"$f":"'BASINFO FÖRSÄKRING'!$B$5","v":0},"Skriv…","Skriv…","Skriv…","Fyll i…",{"$f":"IF(G16=\"Skriv…\",\"\",IF(COUNTIF(A16:$G$114,G16)>1,\"DUBBLETT\",\"\"))","v":""}]
[{"$f":"'BASINFO FÖRSÄKRING'!$E$8","v":0},{"$f":"'BASINFO FÖRSÄKRING'!$E$9","v":0},{"$f":"'BASINFO FÖRSÄKRING'!D17","v":0},{"$f":"'BASINFO FÖRSÄKRING'!E17","v":0},{"$f":"'BASINFO FÖRSÄKRING'!F17","v":0},{"$f":"'BASINFO FÖRSÄKRING'!C17","v":"00:00:00"},"Skriv…",{"$f":"'BASINFO FÖRSÄKRING'!I17","v":0},{"$f":"'BASINFO FÖRSÄKRING'!$B$5","v":0},"Skriv…","Skriv…","Skriv…","Fyll i…",{"$f":"IF(G17=\"Skriv…\",\"\",IF(COUNTIF(A17:$G$114,G17)>1,\"DUBBLETT\",\"\"))","v":""}]
[{"$f":"'BASINFO FÖRSÄKRING'!$E$8","v":0},{"$f":"'BASINFO FÖRSÄKRING'!$E$9","v":0},{"$f":"'BASINFO FÖRSÄKRING'!D18","v":0},{"$f":"'BASINFO FÖRSÄKRING'!E18","v":0},{"$f":"'BASINFO FÖRSÄKRING'!F18","v":0},{"$f":"'BASINFO FÖRSÄKRING'!C18","v":"00:00:00"},"Skriv…",{"$f":"'BASINFO FÖRSÄKRING'!I18","v":0},{"$f":"'BASINFO FÖRSÄKRING'!$B$5","v":0},"Skriv…","Skriv…","Skriv…","Fyll i…",{"$f":"IF(G18=\"Skriv…\",\"\",IF(COUNTIF(A18:$G$114,G18)>1,\"DUBBLETT\",\"\"))","v":""}]
[{"$f":"'BASINFO FÖRSÄKRING'!$E$8","v":0},{"$f":"'BASINFO FÖRSÄKRING'!$E$9","v":0},{"$f":"'BASINFO FÖRSÄKRING'!D19","v":0},{"$f":"'BASINFO FÖRSÄKRING'!E19","v":0},{"$f":"'BASINFO FÖRSÄKRING'!F19","v":0},{"$f":"'BASINFO FÖRSÄKRING'!C19","v":"00:00:00"},"Skriv…",{"$f":"'BASINFO FÖRSÄKRING'!I19","v":0},{"$f":"'BASINFO FÖRSÄKRING'!$B$5","v":0},"Skriv…","Skriv…","Skriv…","Fyll i…",{"$f":"IF(G19=\"Skriv…\",\"\",IF(COUNTIF(A19:$G$114,G19)>1,\"DUBBLETT\",\"\"))","v":""}]
[{"$f":"'BASINFO FÖRSÄKRING'!$E$8","v":0},{"$f":"'BASINFO FÖRSÄKRING'!$E$9","v":0},{"$f":"'BASINFO FÖRSÄKRING'!D20","v":0},{"$f":"'BASINFO FÖRSÄKRING'!E20","v":0},{"$f":"'BASINFO FÖRSÄKRING'!F20","v":0},{"$f":"'BASINFO FÖRSÄKRING'!C20","v":"00:00:00"},"Skriv…",{"$f":"'BASINFO FÖRSÄKRING'!I20","v":0},{"$f":"'BASINFO FÖRSÄKRING'!$B$5","v":0},"Skriv…","Skriv…","Skriv…","Fyll i…",{"$f":"IF(G20=\"Skriv…\",\"\",IF(COUNTIF(A20:$G$114,G20)>1,\"DUBBLETT\",\"\"))","v":""}]
[{"$f":"'BASINFO FÖRSÄKRING'!$E$8","v":0},{"$f":"'BASINFO FÖRSÄKRING'!$E$9","v":0},{"$f":"'BASINFO FÖRSÄKRING'!D21","v":0},{"$f":"'BASINFO FÖRSÄKRING'!E21","v":0},{"$f":"'BASINFO FÖRSÄKRING'!F21","v":0},{"$f":"'BASINFO FÖRSÄKRING'!C21","v":"00:00:00"},"Skriv…",{"$f":"'BASINFO FÖRSÄKRING'!I21","v":0},{"$f":"'BASINFO FÖRSÄKRING'!$B$5","v":0},"Skriv…","Skriv…","Skriv…","Fyll i…",{"$f":"IF(G21=\"Skriv…\",\"\",IF(COUNTIF(A21:$G$114,G21)>1,\"DUBBLETT\",\"\"))","v":""}]
[{"$f":"'BASINFO FÖRSÄKRING'!$E$8","v":0},{"$f":"'BASINFO FÖRSÄKRING'!$E$9","v":0},{"$f":"'BASINFO FÖRSÄKRING'!D22","v":0},{"$f":"'BASINFO FÖRSÄKRING'!E22","v":0},{"$f":"'BASINFO FÖRSÄKRING'!F22","v":0},{"$f":"'BASINFO FÖRSÄKRING'!C22","v":"00:00:00"},"Skriv…",{"$f":"'BASINFO FÖRSÄKRING'!I22","v":0},{"$f":"'BASINFO FÖRSÄKRING'!$B$5","v":0},"Skriv…","Skriv…","Skriv…","Fyll i…",{"$f":"IF(G22=\"Skriv…\",\"\",IF(COUNTIF(A22:$G$114,G22)>1,\"DUBBLETT\",\"\"))","v":""}]
[{"$f":"'BASINFO FÖRSÄKRING'!$E$8","v":0},{"$f":"'BASINFO FÖRSÄKRING'!$E$9","v":0},{"$f":"'BASINFO FÖRSÄKRING'!D23","v":0},{"$f":"'BASINFO FÖRSÄKRING'!E23","v":0},{"$f":"'BASINFO FÖRSÄKRING'!F23","v":0},{"$f":"'BASINFO FÖRSÄKRING'!C23","v":"00:00:00"},"Skriv…",{"$f":"'BASINFO FÖRSÄKRING'!I23","v":0},{"$f":"'BASINFO FÖRSÄKRING'!$B$5","v":0},"Skriv…","Skriv…","Skriv…","Fyll i…",{"$f":"IF(G23=\"Skriv…\",\"\",IF(COUNTIF(A23:$G$114,G23)>1,\"DUBBLETT\",\"\"))","v":""}]
[{"$f":"'BASINFO FÖRSÄKRING'!$E$8","v":0},{"$f":"'BASINFO FÖRSÄKRING'!$E$9","v":0},{"$f":"'BASINFO FÖRSÄKRING'!D24","v":0},{"$f":"'BASINFO FÖRSÄKRING'!E24","v":0},{"$f":"'BASINFO FÖRSÄKRING'!F24","v":0},{"$f":"'BASINFO FÖRSÄKRING'!C24","v":"00:00:00"},"Skriv…",{"$f":"'BASINFO FÖRSÄKRING'!I24","v":0},{"$f":"'BASINFO FÖRSÄKRING'!$B$5","v":0},"Skriv…","Skriv…","Skriv…","Fyll i…",{"$f":"IF(G24=\"Skriv…\",\"\",IF(COUNTIF(A24:$G$114,G24)>1,\"DUBBLETT\",\"\"))","v":""}]
[{"$f":"'BASINFO FÖRSÄKRING'!$E$8","v":0},{"$f":"'BASINFO FÖRSÄKRING'!$E$9","v":0},{"$f":"'BASINFO FÖRSÄKRING'!D25","v":0},{"$f":"'BASINFO FÖRSÄKRING'!E25","v":0},{"$f":"'BASINFO FÖRSÄKRING'!F25","v":0},{"$f":"'BASINFO FÖRSÄKRING'!C25","v":"00:00:00"},"Skriv…",{"$f":"'BASINFO FÖRSÄKRING'!I25","v":0},{"$f":"'BASINFO FÖRSÄKRING'!$B$5","v":0},"Skriv…","Skriv…","Skriv…","Fyll i…",{"$f":"IF(G25=\"Skriv…\",\"\",IF(COUNTIF(A25:$G$114,G25)>1,\"DUBBLETT\",\"\"))","v":""}]
[{"$f":"'BASINFO FÖRSÄKRING'!$E$8","v":0},{"$f":"'BASINFO FÖRSÄKRING'!$E$9","v":0},{"$f":"'BASINFO FÖRSÄKRING'!D26","v":0},{"$f":"'BASINFO FÖRSÄKRING'!E26","v":0},{"$f":"'BASINFO FÖRSÄKRING'!F26","v":0},{"$f":"'BASINFO FÖRSÄKRING'!C26","v":"00:00:00"},"Skriv…",{"$f":"'BASINFO FÖRSÄKRING'!I26","v":0},{"$f":"'BASINFO FÖRSÄKRING'!$B$5","v":0},"Skriv…","Skriv…","Skriv…","Fyll i…",{"$f":"IF(G26=\"Skriv…\",\"\",IF(COUNTIF(A26:$G$114,G26)>1,\"DUBBLETT\",\"\"))","v":""}]
[{"$f":"'BASINFO FÖRSÄKRING'!$E$8","v":0},{"$f":"'BASINFO FÖRSÄKRING'!$E$9","v":0},{"$f":"'BASINFO FÖRSÄKRING'!D27","v":0},{"$f":"'BASINFO FÖRSÄKRING'!E27","v":0},{"$f":"'BASINFO FÖRSÄKRING'!F27","v":0},{"$f":"'BASINFO FÖRSÄKRING'!C27","v":"00:00:00"},"Skriv…",{"$f":"'BASINFO FÖRSÄKRING'!I27","v":0},{"$f":"'BASINFO FÖRSÄKRING'!$B$5","v":0},"Skriv…","Skriv…","Skriv…","Fyll i…",{"$f":"IF(G27=\"Skriv…\",\"\",IF(COUNTIF(A27:$G$114,G27)>1,\"DUBBLETT\",\"\"))","v":""}]
[{"$f":"'BASINFO FÖRSÄKRING'!$E$8","v":0},{"$f":"'BASINFO FÖRSÄKRING'!$E$9","v":0},{"$f":"'BASINFO FÖRSÄKRING'!D28","v":0},{"$f":"'BASINFO FÖRSÄKRING'!E28","v":0},{"$f":"'BASINFO FÖRSÄKRING'!F28","v":0},{"$f":"'BASINFO FÖRSÄKRING'!C28","v":"00:00:00"},"Skriv…",{"$f":"'BASINFO FÖRSÄKRING'!I28","v":0},{"$f":"'BASINFO FÖRSÄKRING'!$B$5","v":0},"Skriv…","Skriv…","Skriv…","Fyll i…",{"$f":"IF(G28=\"Skriv…\",\"\",IF(COUNTIF(A28:$G$114,G28)>1,\"DUBBLETT\",\"\"))","v":""}]
[{"$f":"'BASINFO FÖRSÄKRING'!$E$8","v":0},{"$f":"'BASINFO FÖRSÄKRING'!$E$9","v":0},{"$f":"'BASINFO FÖRSÄKRING'!D29","v":0},{"$f":"'BASINFO FÖRSÄKRING'!E29","v":0},{"$f":"'BASINFO FÖRSÄKRING'!F29","v":0},{"$f":"'BASINFO FÖRSÄKRING'!C29","v":"00:00:00"},"Skriv…",{"$f":"'BASINFO FÖRSÄKRING'!I29","v":0},{"$f":"'BASINFO FÖRSÄKRING'!$B$5","v":0},"Skriv…","Skriv…","Skriv…","Fyll i…",{"$f":"IF(G29=\"Skriv…\",\"\",IF(COUNTIF(A29:$G$114,G29)>1,\"DUBBLETT\",\"\"))","v":""}]
[{"$f":"'BASINFO FÖRSÄKRING'!$E$8","v":0},{"$f":"'BASINFO FÖRSÄKRING'!$E$9","v":0},{"$f":"'BASINFO FÖRSÄKRING'!D30","v":0},{"$f":"'BASINFO FÖRSÄKRING'!E30","v":0},{"$f":"'BASINFO FÖRSÄKRING'!F30","v":0},{"$f":"'BASINFO FÖRSÄKRING'!C30","v":"00:00:00"},"Skriv…",{"$f":"'BASINFO FÖRSÄKRING'!I30","v":0},{"$f":"'BASINFO FÖRSÄKRING'!$B$5","v":0},"Skriv…","Skriv…","Skriv…","Fyll i…",{"$f":"IF(G30=\"Skriv…\",\"\",IF(COUNTIF(A30:$G$114,G30)>1,\"DUBBLETT\",\"\"))","v":""}]
[{"$f":"'BASINFO FÖRSÄKRING'!$E$8","v":0},{"$f":"'BASINFO FÖRSÄKRING'!$E$9","v":0},{"$f":"'BASINFO FÖRSÄKRING'!D31","v":0},{"$f":"'BASINFO FÖRSÄKRING'!E31","v":0},{"$f":"'BASINFO FÖRSÄKRING'!F31","v":0},{"$f":"'BASINFO FÖRSÄKRING'!C31","v":"00:00:00"},"Skriv…",{"$f":"'BASINFO FÖRSÄKRING'!I31","v":0},{"$f":"'BASINFO FÖRSÄKRING'!$B$5","v":0},"Skriv…","Skriv…","Skriv…","Fyll i…",{"$f":"IF(G31=\"Skriv…\",\"\",IF(COUNTIF(A31:$G$114,G31)>1,\"DUBBLETT\",\"\"))","v":""}]
[{"$f":"'BASINFO FÖRSÄKRING'!$E$8","v":0},{"$f":"'BASINFO FÖRSÄKRING'!$E$9","v":0},{"$f":"'BASINFO FÖRSÄKRING'!D32","v":0},{"$f":"'BASINFO FÖRSÄKRING'!E32","v":0},{"$f":"'BASINFO FÖRSÄKRING'!F32","v":0},{"$f":"'BASINFO FÖRSÄKRING'!C32","v":"00:00:00"},"Skriv…",{"$f":"'BASINFO FÖRSÄKRING'!I32","v":0},{"$f":"'BASINFO FÖRSÄKRING'!$B$5","v":0},"Skriv…","Skriv…","Skriv…","Fyll i…",{"$f":"IF(G32=\"Skriv…\",\"\",IF(COUNTIF(A32:$G$114,G32)>1,\"DUBBLETT\",\"\"))","v":""}]
[{"$f":"'BASINFO FÖRSÄKRING'!$E$8","v":0},{"$f":"'BASINFO FÖRSÄKRING'!$E$9","v":0},{"$f":"'BASINFO FÖRSÄKRING'!D33","v":0},{"$f":"'BASINFO FÖRSÄKRING'!E33","v":0},{"$f":"'BASINFO FÖRSÄKRING'!F33","v":0},{"$f":"'BASINFO FÖRSÄKRING'!C33","v":"00:00:00"},"Skriv…",{"$f":"'BASINFO FÖRSÄKRING'!I33","v":0},{"$f":"'BASINFO FÖRSÄKRING'!$B$5","v":0},"Skriv…","Skriv…","Skriv…","Fyll i…",{"$f":"IF(G33=\"Skriv…\",\"\",IF(COUNTIF(A33:$G$114,G33)>1,\"DUBBLETT\",\"\"))","v":""}]
[{"$f":"'BASINFO FÖRSÄKRING'!$E$8","v":0},{"$f":"'BASINFO FÖRSÄKRING'!$E$9","v":0},{"$f":"'BASINFO FÖRSÄKRING'!D34","v":0},{"$f":"'BASINFO FÖRSÄKRING'!E34","v":0},{"$f":"'BASINFO FÖRSÄKRING'!F34","v":0},{"$f":"'BASINFO FÖRSÄKRING'!C34","v":"00:00:00"},"Skriv…",{"$f":"'BASINFO FÖRSÄKRING'!I34","v":0},{"$f":"'BASINFO FÖRSÄKRING'!$B$5","v":0},"Skriv…","Skriv…","Skriv…","Fyll i…",{"$f":"IF(G34=\"Skriv…\",\"\",IF(COUNTIF(A34:$G$114,G34)>1,\"DUBBLETT\",\"\"))","v":""}]
[{"$f":"'BASINFO FÖRSÄKRING'!$E$8","v":0},{"$f":"'BASINFO FÖRSÄKRING'!$E$9","v":0},{"$f":"'BASINFO FÖRSÄKRING'!D35","v":0},{"$f":"'BASINFO FÖRSÄKRING'!E35","v":0},{"$f":"'BASINFO FÖRSÄKRING'!F35","v":0},{"$f":"'BASINFO FÖRSÄKRING'!C35","v":"00:00:00"},"Skriv…",{"$f":"'BASINFO FÖRSÄKRING'!I35","v":0},{"$f":"'BASINFO FÖRSÄKRING'!$B$5","v":0},"Skriv…","Skriv…","Skriv…","Fyll i…",{"$f":"IF(G35=\"Skriv…\",\"\",IF(COUNTIF(A35:$G$114,G35)>1,\"DUBBLETT\",\"\"))","v":""}]
[{"$f":"'BASINFO FÖRSÄKRING'!$E$8","v":0},{"$f":"'BASINFO FÖRSÄKRING'!$E$9","v":0},{"$f":"'BASINFO FÖRSÄKRING'!D36","v":0},{"$f":"'BASINFO FÖRSÄKRING'!E36","v":0},{"$f":"'BASINFO FÖRSÄKRING'!F36","v":0},{"$f":"'BASINFO FÖRSÄKRING'!C36","v":"00:00:00"},"Skriv…",{"$f":"'BASINFO FÖRSÄKRING'!I36","v":0},{"$f":"'BASINFO FÖRSÄKRING'!$B$5","v":0},"Skriv…","Skriv…","Skriv…","Fyll i…",{"$f":"IF(G36=\"Skriv…\",\"\",IF(COUNTIF(A36:$G$114,G36)>1,\"DUBBLETT\",\"\"))","v":""}]
[{"$f":"'BASINFO FÖRSÄKRING'!$E$8","v":0},{"$f":"'BASINFO FÖRSÄKRING'!$E$9","v":0},{"$f":"'BASINFO FÖRSÄKRING'!D37","v":0},{"$f":"'BASINFO FÖRSÄKRING'!E37","v":0},{"$f":"'BASINFO FÖRSÄKRING'!F37","v":0},{"$f":"'BASINFO FÖRSÄKRING'!C37","v":"00:00:00"},"Skriv…",{"$f":"'BASINFO FÖRSÄKRING'!I37","v":0},{"$f":"'BASINFO FÖRSÄKRING'!$B$5","v":0},"Skriv…","Skriv…","Skriv…","Fyll i…",{"$f":"IF(G37=\"Skriv…\",\"\",IF(COUNTIF(A37:$G$114,G37)>1,\"DUBBLETT\",\"\"))","v":""}]
[{"$f":"'BASINFO FÖRSÄKRING'!$E$8","v":0},{"$f":"'BASINFO FÖRSÄKRING'!$E$9","v":0},{"$f":"'BASINFO FÖRSÄKRING'!D38","v":0},{"$f":"'BASINFO FÖRSÄKRING'!E38","v":0},{"$f":"'BASINFO FÖRSÄKRING'!F38","v":0},{"$f":"'BASINFO FÖRSÄKRING'!C38","v":"00:00:00"},"Skriv…",{"$f":"'BASINFO FÖRSÄKRING'!I38","v":0},{"$f":"'BASINFO FÖRSÄKRING'!$B$5","v":0},"Skriv…","Skriv…","Skriv…","Fyll i…",{"$f":"IF(G38=\"Skriv…\",\"\",IF(COUNTIF(A38:$G$114,G38)>1,\"DUBBLETT\",\"\"))","v":""}]
[{"$f":"'BASINFO FÖRSÄKRING'!$E$8","v":0},{"$f":"'BASINFO FÖRSÄKRING'!$E$9","v":0},{"$f":"'BASINFO FÖRSÄKRING'!D39","v":0},{"$f":"'BASINFO FÖRSÄKRING'!E39","v":0},{"$f":"'BASINFO FÖRSÄKRING'!F39","v":0},{"$f":"'BASINFO FÖRSÄKRING'!C39","v":"00:00:00"},"Skriv…",{"$f":"'BASINFO FÖRSÄKRING'!I39","v":0},{"$f":"'BASINFO FÖRSÄKRING'!$B$5","v":0},"Skriv…","Skriv…","Skriv…","Fyll i…",{"$f":"IF(G39=\"Skriv…\",\"\",IF(COUNTIF(A39:$G$114,G39)>1,\"DUBBLETT\",\"\"))","v":""}]
[{"$f":"'BASINFO FÖRSÄKRING'!$E$8","v":0},{"$f":"'BASINFO FÖRSÄKRING'!$E$9","v":0},{"$f":"'BASINFO FÖRSÄKRING'!D40","v":0},{"$f":"'BASINFO FÖRSÄKRING'!E40","v":0},{"$f":"'BASINFO FÖRSÄKRING'!F40","v":0},{"$f":"'BASINFO FÖRSÄKRING'!C40","v":"00:00:00"},"Skriv…",{"$f":"'BASINFO FÖRSÄKRING'!I40","v":0},{"$f":"'BASINFO FÖRSÄKRING'!$B$5","v":0},"Skriv…","Skriv…","Skriv…","Fyll i…",{"$f":"IF(G40=\"Skriv…\",\"\",IF(COUNTIF(A40:$G$114,G40)>1,\"DUBBLETT\",\"\"))","v":""}]
[{"$f":"'BASINFO FÖRSÄKRING'!$E$8","v":0},{"$f":"'BASINFO FÖRSÄKRING'!$E$9","v":0},{"$f":"'BASINFO FÖRSÄKRING'!D41","v":0},{"$f":"'BASINFO FÖRSÄKRING'!E41","v":0},{"$f":"'BASINFO FÖRSÄKRING'!F41","v":0},{"$f":"'BASINFO FÖRSÄKRING'!C41","v":"00:00:00"},"Skriv…",{"$f":"'BASINFO FÖRSÄKRING'!I41","v":0},{"$f":"'BASINFO FÖRSÄKRING'!$B$5","v":0},"Skriv…","Skriv…","Skriv…","Fyll i…",{"$f":"IF(G41=\"Skriv…\",\"\",IF(COUNTIF(A41:$G$114,G41)>1,\"DUBBLETT\",\"\"))","v":""}]
[{"$f":"'BASINFO FÖRSÄKRING'!$E$8","v":0},{"$f":"'BASINFO FÖRSÄKRING'!$E$9","v":0},{"$f":"'BASINFO FÖRSÄKRING'!D42","v":0},{"$f":"'BASINFO FÖRSÄKRING'!E42","v":0},{"$f":"'BASINFO FÖRSÄKRING'!F42","v":0},{"$f":"'BASINFO FÖRSÄKRING'!C42","v":"00:00:00"},"Skriv…",{"$f":"'BASINFO FÖRSÄKRING'!I42","v":0},{"$f":"'BASINFO FÖRSÄKRING'!$B$5","v":0},"Skriv…","Skriv…","Skriv…","Fyll i…",{"$f":"IF(G42=\"Skriv…\",\"\",IF(COUNTIF(A42:$G$114,G42)>1,\"DUBBLETT\",\"\"))","v":""}]
[{"$f":"'BASINFO FÖRSÄKRING'!$E$8","v":0},{"$f":"'BASINFO FÖRSÄKRING'!$E$9","v":0},{"$f":"'BASINFO FÖRSÄKRING'!D43","v":0},{"$f":"'BASINFO FÖRSÄKRING'!E43","v":0},{"$f":"'BASINFO FÖRSÄKRING'!F43","v":0},{"$f":"'BASINFO FÖRSÄKRING'!C43","v":"00:00:00"},"Skriv…",{"$f":"'BASINFO FÖRSÄKRING'!I43","v":0},{"$f":"'BASINFO FÖRSÄKRING'!$B$5","v":0},"Skriv…","Skriv…","Skriv…","Fyll i…",{"$f":"IF(G43=\"Skriv…\",\"\",IF(COUNTIF(A43:$G$114,G43)>1,\"DUBBLETT\",\"\"))","v":""}]
[{"$f":"'BASINFO FÖRSÄKRING'!$E$8","v":0},{"$f":"'BASINFO FÖRSÄKRING'!$E$9","v":0},{"$f":"'BASINFO FÖRSÄKRING'!D44","v":0},{"$f":"'BASINFO FÖRSÄKRING'!E44","v":0},{"$f":"'BASINFO FÖRSÄKRING'!F44","v":0},{"$f":"'BASINFO FÖRSÄKRING'!C44","v":"00:00:00"},"Skriv…",{"$f":"'BASINFO FÖRSÄKRING'!I44","v":0},{"$f":"'BASINFO FÖRSÄKRING'!$B$5","v":0},"Skriv…","Skriv…","Skriv…","Fyll i…",{"$f":"IF(G44=\"Skriv…\",\"\",IF(COUNTIF(A44:$G$114,G44)>1,\"DUBBLETT\",\"\"))","v":""}]
[{"$f":"'BASINFO FÖRSÄKRING'!$E$8","v":0},{"$f":"'BASINFO FÖRSÄKRING'!$E$9","v":0},{"$f":"'BASINFO FÖRSÄKRING'!D45","v":0},{"$f":"'BASINFO FÖRSÄKRING'!E45","v":0},{"$f":"'BASINFO FÖRSÄKRING'!F45","v":0},{"$f":"'BASINFO FÖRSÄKRING'!C45","v":"00:00:00"},"Skriv…",{"$f":"'BASINFO FÖRSÄKRING'!I45","v":0},{"$f":"'BASINFO FÖRSÄKRING'!$B$5","v":0},"Skriv…","Skriv…","Skriv…","Fyll i…",{"$f":"IF(G45=\"Skriv…\",\"\",IF(COUNTIF(A45:$G$114,G45)>1,\"DUBBLETT\",\"\"))","v":""}]
[{"$f":"'BASINFO FÖRSÄKRING'!$E$8","v":0},{"$f":"'BASINFO FÖRSÄKRING'!$E$9","v":0},{"$f":"'BASINFO FÖRSÄKRING'!D46","v":0},{"$f":"'BASINFO FÖRSÄKRING'!E46","v":0},{"$f":"'BASINFO FÖRSÄKRING'!F46","v":0},{"$f":"'BASINFO FÖRSÄKRING'!C46","v":"00:00:00"},"Skriv…",{"$f":"'BASINFO FÖRSÄKRING'!I46","v":0},{"$f":"'BASINFO FÖRSÄKRING'!$B$5","v":0},"Skriv…","Skriv…","Skriv…","Fyll i…",{"$f":"IF(G46=\"Skriv…\",\"\",IF(COUNTIF(A46:$G$114,G46)>1,\"DUBBLETT\",\"\"))","v":""}]
[{"$f":"'BASINFO FÖRSÄKRING'!$E$8","v":0},{"$f":"'BASINFO FÖRSÄKRING'!$E$9","v":0},{"$f":"'BASINFO FÖRSÄKRING'!D47","v":0},{"$f":"'BASINFO FÖRSÄKRING'!E47","v":0},{"$f":"'BASINFO FÖRSÄKRING'!F47","v":0},{"$f":"'BASINFO FÖRSÄKRING'!C47","v":"00:00:00"},"Skriv…",{"$f":"'BASINFO FÖRSÄKRING'!I47","v":0},{"$f":"'BASINFO FÖRSÄKRING'!$B$5","v":0},"Skriv…","Skriv…","Skriv…","Fyll i…",{"$f":"IF(G47=\"Skriv…\",\"\",IF(COUNTIF(A47:$G$114,G47)>1,\"DUBBLETT\",\"\"))","v":""}]
[{"$f":"'BASINFO FÖRSÄKRING'!$E$8","v":0},{"$f":"'BASINFO FÖRSÄKRING'!$E$9","v":0},{"$f":"'BASINFO FÖRSÄKRING'!D48","v":0},{"$f":"'BASINFO FÖRSÄKRING'!E48","v":0},{"$f":"'BASINFO FÖRSÄKRING'!F48","v":0},{"$f":"'BASINFO FÖRSÄKRING'!C48","v":"00:00:00"},"Skriv…",{"$f":"'BASINFO FÖRSÄKRING'!I48","v":0},{"$f":"'BASINFO FÖRSÄKRING'!$B$5","v":0},"Skriv…","Skriv…","Skriv…","Fyll i…",{"$f":"IF(G48=\"Skriv…\",\"\",IF(COUNTIF(A48:$G$114,G48)>1,\"DUBBLETT\",\"\"))","v":""}]
[{"$f":"'BASINFO FÖRSÄKRING'!$E$8","v":0},{"$f":"'BASINFO FÖRSÄKRING'!$E$9","v":0},{"$f":"'BASINFO FÖRSÄKRING'!D49","v":0},{"$f":"'BASINFO FÖRSÄKRING'!E49","v":0},{"$f":"'BASINFO FÖRSÄKRING'!F49","v":0},{"$f":"'BASINFO FÖRSÄKRING'!C49","v":"00:00:00"},"Skriv…",{"$f":"'BASINFO FÖRSÄKRING'!I49","v":0},{"$f":"'BASINFO FÖRSÄKRING'!$B$5","v":0},"Skriv…","Skriv…","Skriv…","Fyll i…",{"$f":"IF(G49=\"Skriv…\",\"\",IF(COUNTIF(A49:$G$114,G49)>1,\"DUBBLETT\",\"\"))","v":""}]
[{"$f":"'BASINFO FÖRSÄKRING'!$E$8","v":0},{"$f":"'BASINFO FÖRSÄKRING'!$E$9","v":0},{"$f":"'BASINFO FÖRSÄKRING'!D50","v":0},{"$f":"'BASINFO FÖRSÄKRING'!E50","v":0},{"$f":"'BASINFO FÖRSÄKRING'!F50","v":0},{"$f":"'BASINFO FÖRSÄKRING'!C50","v":"00:00:00"},"Skriv…",{"$f":"'BASINFO FÖRSÄKRING'!I50","v":0},{"$f":"'BASINFO FÖRSÄKRING'!$B$5","v":0},"Skriv…","Skriv…","Skriv…","Fyll i…",{"$f":"IF(G50=\"Skriv…\",\"\",IF(COUNTIF(A50:$G$114,G50)>1,\"DUBBLETT\",\"\"))","v":""}]
[{"$f":"'BASINFO FÖRSÄKRING'!$E$8","v":0},{"$f":"'BASINFO FÖRSÄKRING'!$E$9","v":0},{"$f":"'BASINFO FÖRSÄKRING'!D51","v":0},{"$f":"'BASINFO FÖRSÄKRING'!E51","v":0},{"$f":"'BASINFO FÖRSÄKRING'!F51","v":0},{"$f":"'BASINFO FÖRSÄKRING'!C51","v":"00:00:00"},"Skriv…",{"$f":"'BASINFO FÖRSÄKRING'!I51","v":0},{"$f":"'BASINFO FÖRSÄKRING'!$B$5","v":0},"Skriv…","Skriv…","Skriv…","Fyll i…",{"$f":"IF(G51=\"Skriv…\",\"\",IF(COUNTIF(A51:$G$114,G51)>1,\"DUBBLETT\",\"\"))","v":""}]
[{"$f":"'BASINFO FÖRSÄKRING'!$E$8","v":0},{"$f":"'BASINFO FÖRSÄKRING'!$E$9","v":0},{"$f":"'BASINFO FÖRSÄKRING'!D52","v":0},{"$f":"'BASINFO FÖRSÄKRING'!E52","v":0},{"$f":"'BASINFO FÖRSÄKRING'!F52","v":0},{"$f":"'BASINFO FÖRSÄKRING'!C52","v":"00:00:00"},"Skriv…",{"$f":"'BASINFO FÖRSÄKRING'!I52","v":0},{"$f":"'BASINFO FÖRSÄKRING'!$B$5","v":0},"Skriv…","Skriv…","Skriv…","Fyll i…",{"$f":"IF(G52=\"Skriv…\",\"\",IF(COUNTIF(A52:$G$114,G52)>1,\"DUBBLETT\",\"\"))","v":""}]
[{"$f":"'BASINFO FÖRSÄKRING'!$E$8","v":0},{"$f":"'BASINFO FÖRSÄKRING'!$E$9","v":0},{"$f":"'BASINFO FÖRSÄKRING'!D53","v":0},{"$f":"'BASINFO FÖRSÄKRING'!E53","v":0},{"$f":"'BASINFO FÖRSÄKRING'!F53","v":0},{"$f":"'BASINFO FÖRSÄKRING'!C53","v":"00:00:00"},"Skriv…",{"$f":"'BASINFO FÖRSÄKRING'!I53","v":0},{"$f":"'BASINFO FÖRSÄKRING'!$B$5","v":0},"Skriv…","Skriv…","Skriv…","Fyll i…",{"$f":"IF(G53=\"Skriv…\",\"\",IF(COUNTIF(A53:$G$114,G53)>1,\"DUBBLETT\",\"\"))","v":""}]
[{"$f":"'BASINFO FÖRSÄKRING'!$E$8","v":0},{"$f":"'BASINFO FÖRSÄKRING'!$E$9","v":0},{"$f":"'BASINFO FÖRSÄKRING'!D54","v":0},{"$f":"'BASINFO FÖRSÄKRING'!E54","v":0},{"$f":"'BASINFO FÖRSÄKRING'!F54","v":0},{"$f":"'BASINFO FÖRSÄKRING'!C54","v":"00:00:00"},"Skriv…",{"$f":"'BASINFO FÖRSÄKRING'!I54","v":0},{"$f":"'BASINFO FÖRSÄKRING'!$B$5","v":0},"Skriv…","Skriv…","Skriv…","Fyll i…",{"$f":"IF(G54=\"Skriv…\",\"\",IF(COUNTIF(A54:$G$114,G54)>1,\"DUBBLETT\",\"\"))","v":""}]
[{"$f":"'BASINFO FÖRSÄKRING'!$E$8","v":0},{"$f":"'BASINFO FÖRSÄKRING'!$E$9","v":0},{"$f":"'BASINFO FÖRSÄKRING'!D55","v":0},{"$f":"'BASINFO FÖRSÄKRING'!E55","v":0},{"$f":"'BASINFO FÖRSÄKRING'!F55","v":0},{"$f":"'BASINFO FÖRSÄKRING'!C55","v":"00:00:00"},"Skriv…",{"$f":"'BASINFO FÖRSÄKRING'!I55","v":0},{"$f":"'BASINFO FÖRSÄKRING'!$B$5","v":0},"Skriv…","Skriv…","Skriv…","Fyll i…",{"$f":"IF(G55=\"Skriv…\",\"\",IF(COUNTIF(A55:$G$114,G55)>1,\"DUBBLETT\",\"\"))","v":""}]
[{"$f":"'BASINFO FÖRSÄKRING'!$E$8","v":0},{"$f":"'BASINFO FÖRSÄKRING'!$E$9","v":0},{"$f":"'BASINFO FÖRSÄKRING'!D56","v":0},{"$f":"'BASINFO FÖRSÄKRING'!E56","v":0},{"$f":"'BASINFO FÖRSÄKRING'!F56","v":0},{"$f":"'BASINFO FÖRSÄKRING'!C56","v":"00:00:00"},"Skriv…",{"$f":"'BASINFO FÖRSÄKRING'!I56","v":0},{"$f":"'BASINFO FÖRSÄKRING'!$B$5","v":0},"Skriv…","Skriv…","Skriv…","Fyll i…",{"$f":"IF(G56=\"Skriv…\",\"\",IF(COUNTIF(A56:$G$114,G56)>1,\"DUBBLETT\",\"\"))","v":""}]
[{"$f":"'BASINFO FÖRSÄKRING'!$E$8","v":0},{"$f":"'BASINFO FÖRSÄKRING'!$E$9","v":0},{"$f":"'BASINFO FÖRSÄKRING'!D57","v":0},{"$f":"'BASINFO FÖRSÄKRING'!E57","v":0},{"$f":"'BASINFO FÖRSÄKRING'!F57","v":0},{"$f":"'BASINFO FÖRSÄKRING'!C57","v":"00:00:00"},"Skriv…",{"$f":"'BASINFO FÖRSÄKRING'!I57","v":0},{"$f":"'BASINFO FÖRSÄKRING'!$B$5","v":0},"Skriv…","Skriv…","Skriv…","Fyll i…",{"$f":"IF(G57=\"Skriv…\",\"\",IF(COUNTIF(A57:$G$114,G57)>1,\"DUBBLETT\",\"\"))","v":""}]
[{"$f":"'BASINFO FÖRSÄKRING'!$E$8","v":0},{"$f":"'BASINFO FÖRSÄKRING'!$E$9","v":0},{"$f":"'BASINFO FÖRSÄKRING'!D58","v":0},{"$f":"'BASINFO FÖRSÄKRING'!E58","v":0},{"$f":"'BASINFO FÖRSÄKRING'!F58","v":0},{"$f":"'BASINFO FÖRSÄKRING'!C58","v":"00:00:00"},"Skriv…",{"$f":"'BASINFO FÖRSÄKRING'!I58","v":0},{"$f":"'BASINFO FÖRSÄKRING'!$B$5","v":0},"Skriv…","Skriv…","Skriv…","Fyll i…",{"$f":"IF(G58=\"Skriv…\",\"\",IF(COUNTIF(A58:$G$114,G58)>1,\"DUBBLETT\",\"\"))","v":""}]
[{"$f":"'BASINFO FÖRSÄKRING'!$E$8","v":0},{"$f":"'BASINFO FÖRSÄKRING'!$E$9","v":0},{"$f":"'BASINFO FÖRSÄKRING'!D59","v":0},{"$f":"'BASINFO FÖRSÄKRING'!E59","v":0},{"$f":"'BASINFO FÖRSÄKRING'!F59","v":0},{"$f":"'BASINFO FÖRSÄKRING'!C59","v":"00:00:00"},"Skriv…",{"$f":"'BASINFO FÖRSÄKRING'!I59","v":0},{"$f":"'BASINFO FÖRSÄKRING'!$B$5","v":0},"Skriv…","Skriv…","Skriv…","Fyll i…",{"$f":"IF(G59=\"Skriv…\",\"\",IF(COUNTIF(A59:$G$114,G59)>1,\"DUBBLETT\",\"\"))","v":""}]
[{"$f":"'BASINFO FÖRSÄKRING'!$E$8","v":0},{"$f":"'BASINFO FÖRSÄKRING'!$E$9","v":0},{"$f":"'BASINFO FÖRSÄKRING'!D60","v":0},{"$f":"'BASINFO FÖRSÄKRING'!E60","v":0},{"$f":"'BASINFO FÖRSÄKRING'!F60","v":0},{"$f":"'BASINFO FÖRSÄKRING'!C60","v":"00:00:00"},"Skriv…",{"$f":"'BASINFO FÖRSÄKRING'!I60","v":0},{"$f":"'BASINFO FÖRSÄKRING'!$B$5","v":0},"Skriv…","Skriv…","Skriv…","Fyll i…",{"$f":"IF(G60=\"Skriv…\",\"\",IF(COUNTIF(A60:$G$114,G60)>1,\"DUBBLETT\",\"\"))","v":""}]
[{"$f":"'BASINFO FÖRSÄKRING'!$E$8","v":0},{"$f":"'BASINFO FÖRSÄKRING'!$E$9","v":0},{"$f":"'BASINFO FÖRSÄKRING'!D61","v":0},{"$f":"'BASINFO FÖRSÄKRING'!E61","v":0},{"$f":"'BASINFO FÖRSÄKRING'!F61","v":0},{"$f":"'BASINFO FÖRSÄKRING'!C61","v":"00:00:00"},"Skriv…",{"$f":"'BASINFO FÖRSÄKRING'!I61","v":0},{"$f":"'BASINFO FÖRSÄKRING'!$B$5","v":0},"Skriv…","Skriv…","Skriv…","Fyll i…",{"$f":"IF(G61=\"Skriv…\",\"\",IF(COUNTIF(A61:$G$114,G61)>1,\"DUBBLETT\",\"\"))","v":""}]
[{"$f":"'BASINFO FÖRSÄKRING'!$E$8","v":0},{"$f":"'BASINFO FÖRSÄKRING'!$E$9","v":0},{"$f":"'BASINFO FÖRSÄKRING'!D62","v":0},{"$f":"'BASINFO FÖRSÄKRING'!E62","v":0},{"$f":"'BASINFO FÖRSÄKRING'!F62","v":0},{"$f":"'BASINFO FÖRSÄKRING'!C62","v":"00:00:00"},"Skriv…",{"$f":"'BASINFO FÖRSÄKRING'!I62","v":0},{"$f":"'BASINFO FÖRSÄKRING'!$B$5","v":0},"Skriv…","Skriv…","Skriv…","Fyll i…",{"$f":"IF(G62=\"Skriv…\",\"\",IF(COUNTIF(A62:$G$114,G62)>1,\"DUBBLETT\",\"\"))","v":""}]
[{"$f":"'BASINFO FÖRSÄKRING'!$E$8","v":0},{"$f":"'BASINFO FÖRSÄKRING'!$E$9","v":0},{"$f":"'BASINFO FÖRSÄKRING'!D63","v":0},{"$f":"'BASINFO FÖRSÄKRING'!E63","v":0},{"$f":"'BASINFO FÖRSÄKRING'!F63","v":0},{"$f":"'BASINFO FÖRSÄKRING'!C63","v":"00:00:00"},"Skriv…",{"$f":"'BASINFO FÖRSÄKRING'!I63","v":0},{"$f":"'BASINFO FÖRSÄKRING'!$B$5","v":0},"Skriv…","Skriv…","Skriv…","Fyll i…",{"$f":"IF(G63=\"Skriv…\",\"\",IF(COUNTIF(A63:$G$114,G63)>1,\"DUBBLETT\",\"\"))","v":""}]
[{"$f":"'BASINFO FÖRSÄKRING'!$E$8","v":0},{"$f":"'BASINFO FÖRSÄKRING'!$E$9","v":0},{"$f":"'BASINFO FÖRSÄKRING'!D64","v":0},{"$f":"'BASINFO FÖRSÄKRING'!E64","v":0},{"$f":"'BASINFO FÖRSÄKRING'!F64","v":0},{"$f":"'BASINFO FÖRSÄKRING'!C64","v":"00:00:00"},"Skriv…",{"$f":"'BASINFO FÖRSÄKRING'!I64","v":0},{"$f":"'BASINFO FÖRSÄKRING'!$B$5","v":0},"Skriv…","Skriv…","Skriv…","Fyll i…",{"$f":"IF(G64=\"Skriv…\",\"\",IF(COUNTIF(A64:$G$114,G64)>1,\"DUBBLETT\",\"\"))","v":""}]
[{"$f":"'BASINFO FÖRSÄKRING'!$E$8","v":0},{"$f":"'BASINFO FÖRSÄKRING'!$E$9","v":0},{"$f":"'BASINFO FÖRSÄKRING'!D65","v":0},{"$f":"'BASINFO FÖRSÄKRING'!E65","v":0},{"$f":"'BASINFO FÖRSÄKRING'!F65","v":0},{"$f":"'BASINFO FÖRSÄKRING'!C65","v":"00:00:00"},"Skriv…",{"$f":"'BASINFO FÖRSÄKRING'!I65","v":0},{"$f":"'BASINFO FÖRSÄKRING'!$B$5","v":0},"Skriv…","Skriv…","Skriv…","Fyll i…",{"$f":"IF(G65=\"Skriv…\",\"\",IF(COUNTIF(A65:$G$114,G65)>1,\"DUBBLETT\",\"\"))","v":""}]
[{"$f":"'BASINFO FÖRSÄKRING'!$E$8","v":0},{"$f":"'BASINFO FÖRSÄKRING'!$E$9","v":0},{"$f":"'BASINFO FÖRSÄKRING'!D66","v":0},{"$f":"'BASINFO FÖRSÄKRING'!E66","v":0},{"$f":"'BASINFO FÖRSÄKRING'!F66","v":0},{"$f":"'BASINFO FÖRSÄKRING'!C66","v":"00:00:00"},"Skriv…",{"$f":"'BASINFO FÖRSÄKRING'!I66","v":0},{"$f":"'BASINFO FÖRSÄKRING'!$B$5","v":0},"Skriv…","Skriv…","Skriv…","Fyll i…",{"$f":"IF(G66=\"Skriv…\",\"\",IF(COUNTIF(A66:$G$114,G66)>1,\"DUBBLETT\",\"\"))","v":""}]
[{"$f":"'BASINFO FÖRSÄKRING'!$E$8","v":0},{"$f":"'BASINFO FÖRSÄKRING'!$E$9","v":0},{"$f":"'BASINFO FÖRSÄKRING'!D67","v":0},{"$f":"'BASINFO FÖRSÄKRING'!E67","v":0},{"$f":"'BASINFO FÖRSÄKRING'!F67","v":0},{"$f":"'BASINFO FÖRSÄKRING'!C67","v":"00:00:00"},"Skriv…",{"$f":"'BASINFO FÖRSÄKRING'!I67","v":0},{"$f":"'BASINFO FÖRSÄKRING'!$B$5","v":0},"Skriv…","Skriv…","Skriv…","Fyll i…",{"$f":"IF(G67=\"Skriv…\",\"\",IF(COUNTIF(A67:$G$114,G67)>1,\"DUBBLETT\",\"\"))","v":""}]
[{"$f":"'BASINFO FÖRSÄKRING'!$E$8","v":0},{"$f":"'BASINFO FÖRSÄKRING'!$E$9","v":0},{"$f":"'BASINFO FÖRSÄKRING'!D68","v":0},{"$f":"'BASINFO FÖRSÄKRING'!E68","v":0},{"$f":"'BASINFO FÖRSÄKRING'!F68","v":0},{"$f":"'BASINFO FÖRSÄKRING'!C68","v":"00:00:00"},"Skriv…",{"$f":"'BASINFO FÖRSÄKRING'!I68","v":0},{"$f":"'BASINFO FÖRSÄKRING'!$B$5","v":0},"Skriv…","Skriv…","Skriv…","Fyll i…",{"$f":"IF(G68=\"Skriv…\",\"\",IF(COUNTIF(A68:$G$114,G68)>1,\"DUBBLETT\",\"\"))","v":""}]
[{"$f":"'BASINFO FÖRSÄKRING'!$E$8","v":0},{"$f":"'BASINFO FÖRSÄKRING'!$E$9","v":0},{"$f":"'BASINFO FÖRSÄKRING'!D69","v":0},{"$f":"'BASINFO FÖRSÄKRING'!E69","v":0},{"$f":"'BASINFO FÖRSÄKRING'!F69","v":0},{"$f":"'BASINFO FÖRSÄKRING'!C69","v":"00:00:00"},"Skriv…",{"$f":"'BASINFO FÖRSÄKRING'!I69","v":0},{"$f":"'BASINFO FÖRSÄKRING'!$B$5","v":0},"Skriv…","Skriv…","Skriv…","Fyll i…",{"$f":"IF(G69=\"Skriv…\",\"\",IF(COUNTIF(A69:$G$114,G69)>1,\"DUBBLETT\",\"\"))","v":""}]
[{"$f":"'BASINFO FÖRSÄKRING'!$E$8","v":0},{"$f":"'BASINFO FÖRSÄKRING'!$E$9","v":0},{"$f":"'BASINFO FÖRSÄKRING'!D70","v":0},{"$f":"'BASINFO FÖRSÄKRING'!E70","v":0},{"$f":"'BASINFO FÖRSÄKRING'!F70","v":0},{"$f":"'BASINFO FÖRSÄKRING'!C70","v":"00:00:00"},"Skriv…",{"$f":"'BASINFO FÖRSÄKRING'!I70","v":0},{"$f":"'BASINFO FÖRSÄKRING'!$B$5","v":0},"Skriv…","Skriv…","Skriv…","Fyll i…",{"$f":"IF(G70=\"Skriv…\",\"\",IF(COUNTIF(A70:$G$114,G70)>1,\"DUBBLETT\",\"\"))","v":""}]
[{"$f":"'BASINFO FÖRSÄKRING'!$E$8","v":0},{"$f":"'BASINFO FÖRSÄKRING'!$E$9","v":0},{"$f":"'BASINFO FÖRSÄKRING'!D71","v":0},{"$f":"'BASINFO FÖRSÄKRING'!E71","v":0},{"$f":"'BASINFO FÖRSÄKRING'!F71","v":0},{"$f":"'BASINFO FÖRSÄKRING'!C71","v":"00:00:00"},"Skriv…",{"$f":"'BASINFO FÖRSÄKRING'!I71","v":0},{"$f":"'BASINFO FÖRSÄKRING'!$B$5","v":0},"Skriv…","Skriv…","Skriv…","Fyll i…",{"$f":"IF(G71=\"Skriv…\",\"\",IF(COUNTIF(A71:$G$114,G71)>1,\"DUBBLETT\",\"\"))","v":""}]
[{"$f":"'BASINFO FÖRSÄKRING'!$E$8","v":0},{"$f":"'BASINFO FÖRSÄKRING'!$E$9","v":0},{"$f":"'BASINFO FÖRSÄKRING'!D72","v":0},{"$f":"'BASINFO FÖRSÄKRING'!E72","v":0},{"$f":"'BASINFO FÖRSÄKRING'!F72","v":0},{"$f":"'BASINFO FÖRSÄKRING'!C72","v":"00:00:00"},"Skriv…",{"$f":"'BASINFO FÖRSÄKRING'!I72","v":0},{"$f":"'BASINFO FÖRSÄKRING'!$B$5","v":0},"Skriv…","Skriv…","Skriv…","Fyll i…",{"$f":"IF(G72=\"Skriv…\",\"\",IF(COUNTIF(A72:$G$114,G72)>1,\"DUBBLETT\",\"\"))","v":""}]
[{"$f":"'BASINFO FÖRSÄKRING'!$E$8","v":0},{"$f":"'BASINFO FÖRSÄKRING'!$E$9","v":0},{"$f":"'BASINFO FÖRSÄKRING'!D73","v":0},{"$f":"'BASINFO FÖRSÄKRING'!E73","v":0},{"$f":"'BASINFO FÖRSÄKRING'!F73","v":0},{"$f":"'BASINFO FÖRSÄKRING'!C73","v":"00:00:00"},"Skriv…",{"$f":"'BASINFO FÖRSÄKRING'!I73","v":0},{"$f":"'BASINFO FÖRSÄKRING'!$B$5","v":0},"Skriv…","Skriv…","Skriv…","Fyll i…",{"$f":"IF(G73=\"Skriv…\",\"\",IF(COUNTIF(A73:$G$114,G73)>1,\"DUBBLETT\",\"\"))","v":""}]
[{"$f":"'BASINFO FÖRSÄKRING'!$E$8","v":0},{"$f":"'BASINFO FÖRSÄKRING'!$E$9","v":0},{"$f":"'BASINFO FÖRSÄKRING'!D74","v":0},{"$f":"'BASINFO FÖRSÄKRING'!E74","v":0},{"$f":"'BASINFO FÖRSÄKRING'!F74","v":0},{"$f":"'BASINFO FÖRSÄKRING'!C74","v":"00:00:00"},"Skriv…",{"$f":"'BASINFO FÖRSÄKRING'!I74","v":0},{"$f":"'BASINFO FÖRSÄKRING'!$B$5","v":0},"Skriv…","Skriv…","Skriv…","Fyll i…",{"$f":"IF(G74=\"Skriv…\",\"\",IF(COUNTIF(A74:$G$114,G74)>1,\"DUBBLETT\",\"\"))","v":""}]
[{"$f":"'BASINFO FÖRSÄKRING'!$E$8","v":0},{"$f":"'BASINFO FÖRSÄKRING'!$E$9","v":0},{"$f":"'BASINFO FÖRSÄKRING'!D75","v":0},{"$f":"'BASINFO FÖRSÄKRING'!E75","v":0},{"$f":"'BASINFO FÖRSÄKRING'!F75","v":0},{"$f":"'BASINFO FÖRSÄKRING'!C75","v":"00:00:00"},"Skriv…",{"$f":"'BASINFO FÖRSÄKRING'!I75","v":0},{"$f":"'BASINFO FÖRSÄKRING'!$B$5","v":0},"Skriv…","Skriv…","Skriv…","Fyll i…",{"$f":"IF(G75=\"Skriv…\",\"\",IF(COUNTIF(A75:$G$114,G75)>1,\"DUBBLETT\",\"\"))","v":""}]
[{"$f":"'BASINFO FÖRSÄKRING'!$E$8","v":0},{"$f":"'BASINFO FÖRSÄKRING'!$E$9","v":0},{"$f":"'BASINFO FÖRSÄKRING'!D76","v":0},{"$f":"'BASINFO FÖRSÄKRING'!E76","v":0},{"$f":"'BASINFO FÖRSÄKRING'!F76","v":0},{"$f":"'BASINFO FÖRSÄKRING'!C76","v":"00:00:00"},"Skriv…",{"$f":"'BASINFO FÖRSÄKRING'!I76","v":0},{"$f":"'BASINFO FÖRSÄKRING'!$B$5","v":0},"Skriv…","Skriv…","Skriv…","Fyll i…",{"$f":"IF(G76=\"Skriv…\",\"\",IF(COUNTIF(A76:$G$114,G76)>1,\"DUBBLETT\",\"\"))","v":""}]
[{"$f":"'BASINFO FÖRSÄKRING'!$E$8","v":0},{"$f":"'BASINFO FÖRSÄKRING'!$E$9","v":0},{"$f":"'BASINFO FÖRSÄKRING'!D77","v":0},{"$f":"'BASINFO FÖRSÄKRING'!E77","v":0},{"$f":"'BASINFO FÖRSÄKRING'!F77","v":0},{"$f":"'BASINFO FÖRSÄKRING'!C77","v":"00:00:00"},"Skriv…",{"$f":"'BASINFO FÖRSÄKRING'!I77","v":0},{"$f":"'BASINFO FÖRSÄKRING'!$B$5","v":0},"Skriv…","Skriv…","Skriv…","Fyll i…",{"$f":"IF(G77=\"Skriv…\",\"\",IF(COUNTIF(A77:$G$114,G77)>1,\"DUBBLETT\",\"\"))","v":""}]
[{"$f":"'BASINFO FÖRSÄKRING'!$E$8","v":0},{"$f":"'BASINFO FÖRSÄKRING'!$E$9","v":0},{"$f":"'BASINFO FÖRSÄKRING'!D78","v":0},{"$f":"'BASINFO FÖRSÄKRING'!E78","v":0},{"$f":"'BASINFO FÖRSÄKRING'!F78","v":0},{"$f":"'BASINFO FÖRSÄKRING'!C78","v":"00:00:00"},"Skriv…",{"$f":"'BASINFO FÖRSÄKRING'!I78","v":0},{"$f":"'BASINFO FÖRSÄKRING'!$B$5","v":0},{"$f":"$B$7","v":"Skriv…"},{"$f":"$B$8","v":"Skriv…"},{"$f":"$B$9","v":"Skriv…"},"Fyll i…",{"$f":"IF(G78=\"Skriv…\",\"\",IF(COUNTIF(A78:$G$114,G78)>1,\"DUBBLETT\",\"\"))","v":""}]
[{"$f":"'BASINFO FÖRSÄKRING'!$E$8","v":0},{"$f":"'BASINFO FÖRSÄKRING'!$E$9","v":0},{"$f":"'BASINFO FÖRSÄKRING'!D79","v":0},{"$f":"'BASINFO FÖRSÄKRING'!E79","v":0},{"$f":"'BASINFO FÖRSÄKRING'!F79","v":0},{"$f":"'BASINFO FÖRSÄKRING'!C79","v":"00:00:00"},"Skriv…",{"$f":"'BASINFO FÖRSÄKRING'!I79","v":0},{"$f":"'BASINFO FÖRSÄKRING'!$B$5","v":0},"Skriv…","Skriv…","Skriv…","Fyll i…",{"$f":"IF(G79=\"Skriv…\",\"\",IF(COUNTIF(A79:$G$114,G79)>1,\"DUBBLETT\",\"\"))","v":""}]
[{"$f":"'BASINFO FÖRSÄKRING'!$E$8","v":0},{"$f":"'BASINFO FÖRSÄKRING'!$E$9","v":0},{"$f":"'BASINFO FÖRSÄKRING'!D80","v":0},{"$f":"'BASINFO FÖRSÄKRING'!E80","v":0},{"$f":"'BASINFO FÖRSÄKRING'!F80","v":0},{"$f":"'BASINFO FÖRSÄKRING'!C80","v":"00:00:00"},"Skriv…",{"$f":"'BASINFO FÖRSÄKRING'!I80","v":0},{"$f":"'BASINFO FÖRSÄKRING'!$B$5","v":0},"Skriv…","Skriv…","Skriv…","Fyll i…",{"$f":"IF(G80=\"Skriv…\",\"\",IF(COUNTIF(A80:$G$114,G80)>1,\"DUBBLETT\",\"\"))","v":""}]
[{"$f":"'BASINFO FÖRSÄKRING'!$E$8","v":0},{"$f":"'BASINFO FÖRSÄKRING'!$E$9","v":0},{"$f":"'BASINFO FÖRSÄKRING'!D81","v":0},{"$f":"'BASINFO FÖRSÄKRING'!E81","v":0},{"$f":"'BASINFO FÖRSÄKRING'!F81","v":0},{"$f":"'BASINFO FÖRSÄKRING'!C81","v":"00:00:00"},"Skriv…",{"$f":"'BASINFO FÖRSÄKRING'!I81","v":0},{"$f":"'BASINFO FÖRSÄKRING'!$B$5","v":0},"Skriv…","Skriv…","Skriv…","Fyll i…",{"$f":"IF(G81=\"Skriv…\",\"\",IF(COUNTIF(A81:$G$114,G81)>1,\"DUBBLETT\",\"\"))","v":""}]
[{"$f":"'BASINFO FÖRSÄKRING'!$E$8","v":0},{"$f":"'BASINFO FÖRSÄKRING'!$E$9","v":0},{"$f":"'BASINFO FÖRSÄKRING'!D82","v":0},{"$f":"'BASINFO FÖRSÄKRING'!E82","v":0},{"$f":"'BASINFO FÖRSÄKRING'!F82","v":0},{"$f":"'BASINFO FÖRSÄKRING'!C82","v":"00:00:00"},"Skriv…",{"$f":"'BASINFO FÖRSÄKRING'!I82","v":0},{"$f":"'BASINFO FÖRSÄKRING'!$B$5","v":0},"Skriv…","Skriv…","Skriv…","Fyll i…",{"$f":"IF(G82=\"Skriv…\",\"\",IF(COUNTIF(A82:$G$114,G82)>1,\"DUBBLETT\",\"\"))","v":""}]
[{"$f":"'BASINFO FÖRSÄKRING'!$E$8","v":0},{"$f":"'BASINFO FÖRSÄKRING'!$E$9","v":0},{"$f":"'BASINFO FÖRSÄKRING'!D83","v":0},{"$f":"'BASINFO FÖRSÄKRING'!E83","v":0},{"$f":"'BASINFO FÖRSÄKRING'!F83","v":0},{"$f":"'BASINFO FÖRSÄKRING'!C83","v":"00:00:00"},"Skriv…",{"$f":"'BASINFO FÖRSÄKRING'!I83","v":0},{"$f":"'BASINFO FÖRSÄKRING'!$B$5","v":0},"Skriv…","Skriv…","Skriv…","Fyll i…",{"$f":"IF(G83=\"Skriv…\",\"\",IF(COUNTIF(A83:$G$114,G83)>1,\"DUBBLETT\",\"\"))","v":""}]
[{"$f":"'BASINFO FÖRSÄKRING'!$E$8","v":0},{"$f":"'BASINFO FÖRSÄKRING'!$E$9","v":0},{"$f":"'BASINFO FÖRSÄKRING'!D84","v":0},{"$f":"'BASINFO FÖRSÄKRING'!E84","v":0},{"$f":"'BASINFO FÖRSÄKRING'!F84","v":0},{"$f":"'BASINFO FÖRSÄKRING'!C84","v":"00:00:00"},"Skriv…",{"$f":"'BASINFO FÖRSÄKRING'!I84","v":0},{"$f":"'BASINFO FÖRSÄKRING'!$B$5","v":0},"Skriv…","Skriv…","Skriv…","Fyll i…",{"$f":"IF(G84=\"Skriv…\",\"\",IF(COUNTIF(A84:$G$114,G84)>1,\"DUBBLETT\",\"\"))","v":""}]
[{"$f":"'BASINFO FÖRSÄKRING'!$E$8","v":0},{"$f":"'BASINFO FÖRSÄKRING'!$E$9","v":0},{"$f":"'BASINFO FÖRSÄKRING'!D85","v":0},{"$f":"'BASINFO FÖRSÄKRING'!E85","v":0},{"$f":"'BASINFO FÖRSÄKRING'!F85","v":0},{"$f":"'BASINFO FÖRSÄKRING'!C85","v":"00:00:00"},"Skriv…",{"$f":"'BASINFO FÖRSÄKRING'!I85","v":0},{"$f":"'BASINFO FÖRSÄKRING'!$B$5","v":0},"Skriv…","Skriv…","Skriv…","Fyll i…",{"$f":"IF(G85=\"Skriv…\",\"\",IF(COUNTIF(A85:$G$114,G85)>1,\"DUBBLETT\",\"\"))","v":""}]
[{"$f":"'BASINFO FÖRSÄKRING'!$E$8","v":0},{"$f":"'BASINFO FÖRSÄKRING'!$E$9","v":0},{"$f":"'BASINFO FÖRSÄKRING'!D86","v":0},{"$f":"'BASINFO FÖRSÄKRING'!E86","v":0},{"$f":"'BASINFO FÖRSÄKRING'!F86","v":0},{"$f":"'BASINFO FÖRSÄKRING'!C86","v":"00:00:00"},"Skriv…",{"$f":"'BASINFO FÖRSÄKRING'!I86","v":0},{"$f":"'BASINFO FÖRSÄKRING'!$B$5","v":0},"Skriv…","Skriv…","Skriv…","Fyll i…",{"$f":"IF(G86=\"Skriv…\",\"\",IF(COUNTIF(A86:$G$114,G86)>1,\"DUBBLETT\",\"\"))","v":""}]
[{"$f":"'BASINFO FÖRSÄKRING'!$E$8","v":0},{"$f":"'BASINFO FÖRSÄKRING'!$E$9","v":0},{"$f":"'BASINFO FÖRSÄKRING'!D87","v":0},{"$f":"'BASINFO FÖRSÄKRING'!E87","v":0},{"$f":"'BASINFO FÖRSÄKRING'!F87","v":0},{"$f":"'BASINFO FÖRSÄKRING'!C87","v":"00:00:00"},"Skriv…",{"$f":"'BASINFO FÖRSÄKRING'!I87","v":0},{"$f":"'BASINFO FÖRSÄKRING'!$B$5","v":0},"Skriv…","Skriv…","Skriv…","Fyll i…",{"$f":"IF(G87=\"Skriv…\",\"\",IF(COUNTIF(A87:$G$114,G87)>1,\"DUBBLETT\",\"\"))","v":""}]
[{"$f":"'BASINFO FÖRSÄKRING'!$E$8","v":0},{"$f":"'BASINFO FÖRSÄKRING'!$E$9","v":0},{"$f":"'BASINFO FÖRSÄKRING'!D88","v":0},{"$f":"'BASINFO FÖRSÄKRING'!E88","v":0},{"$f":"'BASINFO FÖRSÄKRING'!F88","v":0},{"$f":"'BASINFO FÖRSÄKRING'!C88","v":"00:00:00"},"Skriv…",{"$f":"'BASINFO FÖRSÄKRING'!I88","v":0},{"$f":"'BASINFO FÖRSÄKRING'!$B$5","v":0},"Skriv…","Skriv…","Skriv…","Fyll i…",{"$f":"IF(G88=\"Skriv…\",\"\",IF(COUNTIF(A88:$G$114,G88)>1,\"DUBBLETT\",\"\"))","v":""}]
[{"$f":"'BASINFO FÖRSÄKRING'!$E$8","v":0},{"$f":"'BASINFO FÖRSÄKRING'!$E$9","v":0},{"$f":"'BASINFO FÖRSÄKRING'!D89","v":0},{"$f":"'BASINFO FÖRSÄKRING'!E89","v":0},{"$f":"'BASINFO FÖRSÄKRING'!F89","v":0},{"$f":"'BASINFO FÖRSÄKRING'!C89","v":"00:00:00"},"Skriv…",{"$f":"'BASINFO FÖRSÄKRING'!I89","v":0},{"$f":"'BASINFO FÖRSÄKRING'!$B$5","v":0},"Skriv…","Skriv…","Skriv…","Fyll i…",{"$f":"IF(G89=\"Skriv…\",\"\",IF(COUNTIF(A89:$G$114,G89)>1,\"DUBBLETT\",\"\"))","v":""}]
[{"$f":"'BASINFO FÖRSÄKRING'!$E$8","v":0},{"$f":"'BASINFO FÖRSÄKRING'!$E$9","v":0},{"$f":"'BASINFO FÖRSÄKRING'!D90","v":0},{"$f":"'BASINFO FÖRSÄKRING'!E90","v":0},{"$f":"'BASINFO FÖRSÄKRING'!F90","v":0},{"$f":"'BASINFO FÖRSÄKRING'!C90","v":"00:00:00"},"Skriv…",{"$f":"'BASINFO FÖRSÄKRING'!I90","v":0},{"$f":"'BASINFO FÖRSÄKRING'!$B$5","v":0},"Skriv…","Skriv…","Skriv…","Fyll i…",{"$f":"IF(G90=\"Skriv…\",\"\",IF(COUNTIF(A90:$G$114,G90)>1,\"DUBBLETT\",\"\"))","v":""}]
[{"$f":"'BASINFO FÖRSÄKRING'!$E$8","v":0},{"$f":"'BASINFO FÖRSÄKRING'!$E$9","v":0},{"$f":"'BASINFO FÖRSÄKRING'!D91","v":0},{"$f":"'BASINFO FÖRSÄKRING'!E91","v":0},{"$f":"'BASINFO FÖRSÄKRING'!F91","v":0},{"$f":"'BASINFO FÖRSÄKRING'!C91","v":"00:00:00"},"Skriv…",{"$f":"'BASINFO FÖRSÄKRING'!I91","v":0},{"$f":"'BASINFO FÖRSÄKRING'!$B$5","v":0},"Skriv…","Skriv…","Skriv…","Fyll i…",{"$f":"IF(G91=\"Skriv…\",\"\",IF(COUNTIF(A91:$G$114,G91)>1,\"DUBBLETT\",\"\"))","v":""}]
[{"$f":"'BASINFO FÖRSÄKRING'!$E$8","v":0},{"$f":"'BASINFO FÖRSÄKRING'!$E$9","v":0},{"$f":"'BASINFO FÖRSÄKRING'!D92","v":0},{"$f":"'BASINFO FÖRSÄKRING'!E92","v":0},{"$f":"'BASINFO FÖRSÄKRING'!F92","v":0},{"$f":"'BASINFO FÖRSÄKRING'!C92","v":"00:00:00"},"Skriv…",{"$f":"'BASINFO FÖRSÄKRING'!I92","v":0},{"$f":"'BASINFO FÖRSÄKRING'!$B$5","v":0},"Skriv…","Skriv…","Skriv…","Fyll i…",{"$f":"IF(G92=\"Skriv…\",\"\",IF(COUNTIF(A92:$G$114,G92)>1,\"DUBBLETT\",\"\"))","v":""}]
[{"$f":"'BASINFO FÖRSÄKRING'!$E$8","v":0},{"$f":"'BASINFO FÖRSÄKRING'!$E$9","v":0},{"$f":"'BASINFO FÖRSÄKRING'!D93","v":0},{"$f":"'BASINFO FÖRSÄKRING'!E93","v":0},{"$f":"'BASINFO FÖRSÄKRING'!F93","v":0},{"$f":"'BASINFO FÖRSÄKRING'!C93","v":"00:00:00"},"Skriv…",{"$f":"'BASINFO FÖRSÄKRING'!I93","v":0},{"$f":"'BASINFO FÖRSÄKRING'!$B$5","v":0},"Skriv…","Skriv…","Skriv…","Fyll i…",{"$f":"IF(G93=\"Skriv…\",\"\",IF(COUNTIF(A93:$G$114,G93)>1,\"DUBBLETT\",\"\"))","v":""}]
[{"$f":"'BASINFO FÖRSÄKRING'!$E$8","v":0},{"$f":"'BASINFO FÖRSÄKRING'!$E$9","v":0},{"$f":"'BASINFO FÖRSÄKRING'!D94","v":0},{"$f":"'BASINFO FÖRSÄKRING'!E94","v":0},{"$f":"'BASINFO FÖRSÄKRING'!F94","v":0},{"$f":"'BASINFO FÖRSÄKRING'!C94","v":"00:00:00"},"Skriv…",{"$f":"'BASINFO FÖRSÄKRING'!I94","v":0},{"$f":"'BASINFO FÖRSÄKRING'!$B$5","v":0},"Skriv…","Skriv…","Skriv…","Fyll i…",{"$f":"IF(G94=\"Skriv…\",\"\",IF(COUNTIF(A94:$G$114,G94)>1,\"DUBBLETT\",\"\"))","v":""}]
[{"$f":"'BASINFO FÖRSÄKRING'!$E$8","v":0},{"$f":"'BASINFO FÖRSÄKRING'!$E$9","v":0},{"$f":"'BASINFO FÖRSÄKRING'!D95","v":0},{"$f":"'BASINFO FÖRSÄKRING'!E95","v":0},{"$f":"'BASINFO FÖRSÄKRING'!F95","v":0},{"$f":"'BASINFO FÖRSÄKRING'!C95","v":"00:00:00"},"Skriv…",{"$f":"'BASINFO FÖRSÄKRING'!I95","v":0},{"$f":"'BASINFO FÖRSÄKRING'!$B$5","v":0},"Skriv…","Skriv…","Skriv…","Fyll i…",{"$f":"IF(G95=\"Skriv…\",\"\",IF(COUNTIF(A95:$G$114,G95)>1,\"DUBBLETT\",\"\"))","v":""}]
[{"$f":"'BASINFO FÖRSÄKRING'!$E$8","v":0},{"$f":"'BASINFO FÖRSÄKRING'!$E$9","v":0},{"$f":"'BASINFO FÖRSÄKRING'!D96","v":0},{"$f":"'BASINFO FÖRSÄKRING'!E96","v":0},{"$f":"'BASINFO FÖRSÄKRING'!F96","v":0},{"$f":"'BASINFO FÖRSÄKRING'!C96","v":"00:00:00"},"Skriv…",{"$f":"'BASINFO FÖRSÄKRING'!I96","v":0},{"$f":"'BASINFO FÖRSÄKRING'!$B$5","v":0},"Skriv…","Skriv…","Skriv…","Fyll i…",{"$f":"IF(G96=\"Skriv…\",\"\",IF(COUNTIF(A96:$G$114,G96)>1,\"DUBBLETT\",\"\"))","v":""}]
[{"$f":"'BASINFO FÖRSÄKRING'!$E$8","v":0},{"$f":"'BASINFO FÖRSÄKRING'!$E$9","v":0},{"$f":"'BASINFO FÖRSÄKRING'!D97","v":0},{"$f":"'BASINFO FÖRSÄKRING'!E97","v":0},{"$f":"'BASINFO FÖRSÄKRING'!F97","v":0},{"$f":"'BASINFO FÖRSÄKRING'!C97","v":"00:00:00"},"Skriv…",{"$f":"'BASINFO FÖRSÄKRING'!I97","v":0},{"$f":"'BASINFO FÖRSÄKRING'!$B$5","v":0},"Skriv…","Skriv…","Skriv…","Fyll i…",{"$f":"IF(G97=\"Skriv…\",\"\",IF(COUNTIF(A97:$G$114,G97)>1,\"DUBBLETT\",\"\"))","v":""}]
[{"$f":"'BASINFO FÖRSÄKRING'!$E$8","v":0},{"$f":"'BASINFO FÖRSÄKRING'!$E$9","v":0},{"$f":"'BASINFO FÖRSÄKRING'!D98","v":0},{"$f":"'BASINFO FÖRSÄKRING'!E98","v":0},{"$f":"'BASINFO FÖRSÄKRING'!F98","v":0},{"$f":"'BASINFO FÖRSÄKRING'!C98","v":"00:00:00"},"Skriv…",{"$f":"'BASINFO FÖRSÄKRING'!I98","v":0},{"$f":"'BASINFO FÖRSÄKRING'!$B$5","v":0},"Skriv…","Skriv…","Skriv…","Fyll i…",{"$f":"IF(G98=\"Skriv…\",\"\",IF(COUNTIF(A98:$G$114,G98)>1,\"DUBBLETT\",\"\"))","v":""}]
[{"$f":"'BASINFO FÖRSÄKRING'!$E$8","v":0},{"$f":"'BASINFO FÖRSÄKRING'!$E$9","v":0},{"$f":"'BASINFO FÖRSÄKRING'!D99","v":0},{"$f":"'BASINFO FÖRSÄKRING'!E99","v":0},{"$f":"'BASINFO FÖRSÄKRING'!F99","v":0},{"$f":"'BASINFO FÖRSÄKRING'!C99","v":"00:00:00"},"Skriv…",{"$f":"'BASINFO FÖRSÄKRING'!I99","v":0},{"$f":"'BASINFO FÖRSÄKRING'!$B$5","v":0},"Skriv…","Skriv…","Skriv…","Fyll i…",{"$f":"IF(G99=\"Skriv…\",\"\",IF(COUNTIF(A99:$G$114,G99)>1,\"DUBBLETT\",\"\"))","v":""}]
[{"$f":"'BASINFO FÖRSÄKRING'!$E$8","v":0},{"$f":"'BASINFO FÖRSÄKRING'!$E$9","v":0},{"$f":"'BASINFO FÖRSÄKRING'!D100","v":0},{"$f":"'BASINFO FÖRSÄKRING'!E100","v":0},{"$f":"'BASINFO FÖRSÄKRING'!F100","v":0},{"$f":"'BASINFO FÖRSÄKRING'!C100","v":"00:00:00"},"Skriv…",{"$f":"'BASINFO FÖRSÄKRING'!I100","v":0},{"$f":"'BASINFO FÖRSÄKRING'!$B$5","v":0},"Skriv…","Skriv…","Skriv…","Fyll i…",{"$f":"IF(G100=\"Skriv…\",\"\",IF(COUNTIF(A100:$G$114,G100)>1,\"DUBBLETT\",\"\"))","v":""}]
[{"$f":"'BASINFO FÖRSÄKRING'!$E$8","v":0},{"$f":"'BASINFO FÖRSÄKRING'!$E$9","v":0},{"$f":"'BASINFO FÖRSÄKRING'!D101","v":0},{"$f":"'BASINFO FÖRSÄKRING'!E101","v":0},{"$f":"'BASINFO FÖRSÄKRING'!F101","v":0},{"$f":"'BASINFO FÖRSÄKRING'!C101","v":"00:00:00"},"Skriv…",{"$f":"'BASINFO FÖRSÄKRING'!I101","v":0},{"$f":"'BASINFO FÖRSÄKRING'!$B$5","v":0},"Skriv…","Skriv…","Skriv…","Fyll i…",{"$f":"IF(G101=\"Skriv…\",\"\",IF(COUNTIF(A101:$G$114,G101)>1,\"DUBBLETT\",\"\"))","v":""}]
[{"$f":"'BASINFO FÖRSÄKRING'!$E$8","v":0},{"$f":"'BASINFO FÖRSÄKRING'!$E$9","v":0},{"$f":"'BASINFO FÖRSÄKRING'!D102","v":0},{"$f":"'BASINFO FÖRSÄKRING'!E102","v":0},{"$f":"'BASINFO FÖRSÄKRING'!F102","v":0},{"$f":"'BASINFO FÖRSÄKRING'!C102","v":"00:00:00"},"Skriv…",{"$f":"'BASINFO FÖRSÄKRING'!I102","v":0},{"$f":"'BASINFO FÖRSÄKRING'!$B$5","v":0},"Skriv…","Skriv…","Skriv…","Fyll i…",{"$f":"IF(G102=\"Skriv…\",\"\",IF(COUNTIF(A102:$G$114,G102)>1,\"DUBBLETT\",\"\"))","v":""}]
[{"$f":"'BASINFO FÖRSÄKRING'!$E$8","v":0},{"$f":"'BASINFO FÖRSÄKRING'!$E$9","v":0},{"$f":"'BASINFO FÖRSÄKRING'!D103","v":0},{"$f":"'BASINFO FÖRSÄKRING'!E103","v":0},{"$f":"'BASINFO FÖRSÄKRING'!F103","v":0},{"$f":"'BASINFO FÖRSÄKRING'!C103","v":"00:00:00"},"Skriv…",{"$f":"'BASINFO FÖRSÄKRING'!I103","v":0},{"$f":"'BASINFO FÖRSÄKRING'!$B$5","v":0},"Skriv…","Skriv…","Skriv…","Fyll i…",{"$f":"IF(G103=\"Skriv…\",\"\",IF(COUNTIF(A103:$G$114,G103)>1,\"DUBBLETT\",\"\"))","v":""}]
[{"$f":"'BASINFO FÖRSÄKRING'!$E$8","v":0},{"$f":"'BASINFO FÖRSÄKRING'!$E$9","v":0},{"$f":"'BASINFO FÖRSÄKRING'!D104","v":0},{"$f":"'BASINFO FÖRSÄKRING'!E104","v":0},{"$f":"'BASINFO FÖRSÄKRING'!F104","v":0},{"$f":"'BASINFO FÖRSÄKRING'!C104","v":"00:00:00"},"Skriv…",{"$f":"'BASINFO FÖRSÄKRING'!I104","v":0},{"$f":"'BASINFO FÖRSÄKRING'!$B$5","v":0},"Skriv…","Skriv…","Skriv…","Fyll i…",{"$f":"IF(G104=\"Skriv…\",\"\",IF(COUNTIF(A104:$G$114,G104)>1,\"DUBBLETT\",\"\"))","v":""}]
[{"$f":"'BASINFO FÖRSÄKRING'!$E$8","v":0},{"$f":"'BASINFO FÖRSÄKRING'!$E$9","v":0},{"$f":"'BASINFO FÖRSÄKRING'!D105","v":0},{"$f":"'BASINFO FÖRSÄKRING'!E105","v":0},{"$f":"'BASINFO FÖRSÄKRING'!F105","v":0},{"$f":"'BASINFO FÖRSÄKRING'!C105","v":"00:00:00"},"Skriv…",{"$f":"'BASINFO FÖRSÄKRING'!I105","v":0},{"$f":"'BASINFO FÖRSÄKRING'!$B$5","v":0},"Skriv…","Skriv…","Skriv…","Fyll i…",{"$f":"IF(G105=\"Skriv…\",\"\",IF(COUNTIF(A105:$G$114,G105)>1,\"DUBBLETT\",\"\"))","v":""}]
[{"$f":"'BASINFO FÖRSÄKRING'!$E$8","v":0},{"$f":"'BASINFO FÖRSÄKRING'!$E$9","v":0},{"$f":"'BASINFO FÖRSÄKRING'!D106","v":0},{"$f":"'BASINFO FÖRSÄKRING'!E106","v":0},{"$f":"'BASINFO FÖRSÄKRING'!F106","v":0},{"$f":"'BASINFO FÖRSÄKRING'!C106","v":"00:00:00"},"Skriv…",{"$f":"'BASINFO FÖRSÄKRING'!I106","v":0},{"$f":"'BASINFO FÖRSÄKRING'!$B$5","v":0},"Skriv…","Skriv…","Skriv…","Fyll i…",{"$f":"IF(G106=\"Skriv…\",\"\",IF(COUNTIF(A106:$G$114,G106)>1,\"DUBBLETT\",\"\"))","v":""}]
[{"$f":"'BASINFO FÖRSÄKRING'!$E$8","v":0},{"$f":"'BASINFO FÖRSÄKRING'!$E$9","v":0},{"$f":"'BASINFO FÖRSÄKRING'!D107","v":0},{"$f":"'BASINFO FÖRSÄKRING'!E107","v":0},{"$f":"'BASINFO FÖRSÄKRING'!F107","v":0},{"$f":"'BASINFO FÖRSÄKRING'!C107","v":"00:00:00"},"Skriv…",{"$f":"'BASINFO FÖRSÄKRING'!I107","v":0},{"$f":"'BASINFO FÖRSÄKRING'!$B$5","v":0},"Skriv…","Skriv…","Skriv…","Fyll i…",{"$f":"IF(G107=\"Skriv…\",\"\",IF(COUNTIF(A107:$G$114,G107)>1,\"DUBBLETT\",\"\"))","v":""}]
[{"$f":"'BASINFO FÖRSÄKRING'!$E$8","v":0},{"$f":"'BASINFO FÖRSÄKRING'!$E$9","v":0},{"$f":"'BASINFO FÖRSÄKRING'!D108","v":0},{"$f":"'BASINFO FÖRSÄKRING'!E108","v":0},{"$f":"'BASINFO FÖRSÄKRING'!F108","v":0},{"$f":"'BASINFO FÖRSÄKRING'!C108","v":"00:00:00"},"Skriv…",{"$f":"'BASINFO FÖRSÄKRING'!I108","v":0},{"$f":"'BASINFO FÖRSÄKRING'!$B$5","v":0},"Skriv…","Skriv…","Skriv…","Fyll i…",{"$f":"IF(G108=\"Skriv…\",\"\",IF(COUNTIF(A108:$G$114,G108)>1,\"DUBBLETT\",\"\"))","v":""}]
[{"$f":"'BASINFO FÖRSÄKRING'!$E$8","v":0},{"$f":"'BASINFO FÖRSÄKRING'!$E$9","v":0},{"$f":"'BASINFO FÖRSÄKRING'!D109","v":0},{"$f":"'BASINFO FÖRSÄKRING'!E109","v":0},{"$f":"'BASINFO FÖRSÄKRING'!F109","v":0},{"$f":"'BASINFO FÖRSÄKRING'!C109","v":"00:00:00"},"Skriv…",{"$f":"'BASINFO FÖRSÄKRING'!I109","v":0},{"$f":"'BASINFO FÖRSÄKRING'!$B$5","v":0},"Skriv…","Skriv…","Skriv…","Fyll i…",{"$f":"IF(G109=\"Skriv…\",\"\",IF(COUNTIF(A109:$G$114,G109)>1,\"DUBBLETT\",\"\"))","v":""}]
[{"$f":"'BASINFO FÖRSÄKRING'!$E$8","v":0},{"$f":"'BASINFO FÖRSÄKRING'!$E$9","v":0},{"$f":"'BASINFO FÖRSÄKRING'!D110","v":0},{"$f":"'BASINFO FÖRSÄKRING'!E110","v":0},{"$f":"'BASINFO FÖRSÄKRING'!F110","v":0},{"$f":"'BASINFO FÖRSÄKRING'!C110","v":"00:00:00"},"Skriv…",{"$f":"'BASINFO FÖRSÄKRING'!I110","v":0},{"$f":"'BASINFO FÖRSÄKRING'!$B$5","v":0},"Skriv…","Skriv…","Skriv…","Fyll i…",{"$f":"IF(G110=\"Skriv…\",\"\",IF(COUNTIF(A110:$G$114,G110)>1,\"DUBBLETT\",\"\"))","v":""}]
[{"$f":"'BASINFO FÖRSÄKRING'!$E$8","v":0},{"$f":"'BASINFO FÖRSÄKRING'!$E$9","v":0},{"$f":"'BASINFO FÖRSÄKRING'!D111","v":0},{"$f":"'BASINFO FÖRSÄKRING'!E111","v":0},{"$f":"'BASINFO FÖRSÄKRING'!F111","v":0},{"$f":"'BASINFO FÖRSÄKRING'!C111","v":"00:00:00"},"Skriv…",{"$f":"'BASINFO FÖRSÄKRING'!I111","v":0},{"$f":"'BASINFO FÖRSÄKRING'!$B$5","v":0},"Skriv…","Skriv…","Skriv…","Fyll i…",{"$f":"IF(G111=\"Skriv…\",\"\",IF(COUNTIF(A111:$G$114,G111)>1,\"DUBBLETT\",\"\"))","v":""}]
[{"$f":"'BASINFO FÖRSÄKRING'!$E$8","v":0},{"$f":"'BASINFO FÖRSÄKRING'!$E$9","v":0},{"$f":"'BASINFO FÖRSÄKRING'!D112","v":0},{"$f":"'BASINFO FÖRSÄKRING'!E112","v":0},{"$f":"'BASINFO FÖRSÄKRING'!F112","v":0},{"$f":"'BASINFO FÖRSÄKRING'!C112","v":"00:00:00"},"Skriv…",{"$f":"'BASINFO FÖRSÄKRING'!I112","v":0},{"$f":"'BASINFO FÖRSÄKRING'!$B$5","v":0},"Skriv…","Skriv…","Skriv…","Fyll i…",{"$f":"IF(G112=\"Skriv…\",\"\",IF(COUNTIF(A112:$G$114,G112)>1,\"DUBBLETT\",\"\"))","v":""}]
[{"$f":"'BASINFO FÖRSÄKRING'!$E$8","v":0},{"$f":"'BASINFO FÖRSÄKRING'!$E$9","v":0},{"$f":"'BASINFO FÖRSÄKRING'!D113","v":0},{"$f":"'BASINFO FÖRSÄKRING'!E113","v":0},{"$f":"'BASINFO FÖRSÄKRING'!F113","v":0},{"$f":"'BASINFO FÖRSÄKRING'!C113","v":"00:00:00"},"Skriv…",{"$f":"'BASINFO FÖRSÄKRING'!I113","v":0},{"$f":"'BASINFO FÖRSÄKRING'!$B$5","v":0},"Skriv…","Skriv…","Skriv…","Fyll i…",{"$f":"IF(G113=\"Skriv…\",\"\",IF(COUNTIF(A113:$G$114,G113)>1,\"DUBBLETT\",\"\"))","v":""}]
[{"$f":"'BASINFO FÖRSÄKRING'!$E$8","v":0},{"$f":"'BASINFO FÖRSÄKRING'!$E$9","v":0},{"$f":"'BASINFO FÖRSÄKRING'!D114","v":0},{"$f":"'BASINFO FÖRSÄKRING'!E114","v":0},{"$f":"'BASINFO FÖRSÄKRING'!F114","v":0},{"$f":"'BASINFO FÖRSÄKRING'!C114","v":"00:00:00"},"Skriv…",{"$f":"'BASINFO FÖRSÄKRING'!I114","v":0},{"$f":"'BASINFO FÖRSÄKRING'!$B$5","v":0},"Skriv…","Skriv…","Skriv…","Fyll i…",{"$f":"IF(G114=\"Skriv…\",\"\",IF(COUNTIF(A114:$G$114,G114)>1,\"DUBBLETT\",\"\"))","v":""}]

{"sheet":"SKADEINFO VAORG","index":3,"n_rows":114,"n_cols":19,"rows_kept":114,"cut":false,"hidden":false,"merged":[[0,0,0,7],[1,0,1,5]]}
["Information från försäkringsbolag till va-organisation"]
["KOMPLETTERANDE RAPPORT VA-HUVUDMAN"]
[]
[]
[]
[]
["FYLL I CELLER MED BLÅ TEXT"]
[]
[]
[]
["FYLL I CELLER MED BLÅ TEXT (obs datum kan ändras)"]
[]
["Ärendenr","Skadeställe adress","Skadedatum","Klockslag","Skada upptäckt direkt","Översvämn inträffat tidigare","Hur kom vattnet till byggnaden","Hur kom vattnet in","Samband med nederbörd","Avloppslukt","Vattennivå inne i cm","Finns foton","Typ av ledning","Bedömd orsak","Skadan kommer hanteras enl följande","Återkopplingstid (månader)","Har huvudmannen försäkringsskydd","Om ja - bolag","Övrigt (fritext)"]
[{"$f":"'BASINFO VAORG'!G14","v":"Skriv…"},{"$f":"'BASINFO VAORG'!C14","v":0},{"$f":"'BASINFO VAORG'!M14","v":"Fyll i…"},"Välj…","Välj…","Välj…","Välj…","Välj…","Välj…","Välj…","Välj…","Välj…","Välj…","Skriv…","Skriv…","Välj…","Välj…","Skriv…","Skriv…"]
[{"$f":"'BASINFO VAORG'!G15","v":"Skriv…"},{"$f":"'BASINFO VAORG'!C15","v":0},{"$f":"'BASINFO VAORG'!M15","v":"Fyll i…"},"Välj…","Välj…","Välj…","Välj…","Välj…","Välj…","Välj…","Välj…","Välj…","Välj…","Skriv…","Skriv…","Välj…","Välj…","Skriv…","Skriv…"]
[{"$f":"'BASINFO VAORG'!G16","v":"Skriv…"},{"$f":"'BASINFO VAORG'!C16","v":0},{"$f":"'BASINFO VAORG'!M16","v":"Fyll i…"},"Välj…","Välj…","Välj…","Välj…","Välj…","Välj…","Välj…","Välj…","Välj…","Välj…","Skriv…","Skriv…","Välj…","Välj…","Skriv…","Skriv…"]
[{"$f":"'BASINFO VAORG'!G17","v":"Skriv…"},{"$f":"'BASINFO VAORG'!C17","v":0},{"$f":"'BASINFO VAORG'!M17","v":"Fyll i…"},"Välj…","Välj…","Välj…","Välj…","Välj…","Välj…","Välj…","Välj…","Välj…","Välj…","Skriv…","Skriv…","Välj…","Välj…","Skriv…","Skriv…"]
[{"$f":"'BASINFO VAORG'!G18","v":"Skriv…"},{"$f":"'BASINFO VAORG'!C18","v":0},{"$f":"'BASINFO VAORG'!M18","v":"Fyll i…"},"Välj…","Välj…","Välj…","Välj…","Välj…","Välj…","Välj…","Välj…","Välj…","Välj…","Skriv…","Skriv…","Välj…","Välj…","Skriv…","Skriv…"]
[{"$f":"'BASINFO VAORG'!G19","v":"Skriv…"},{"$f":"'BASINFO VAORG'!C19","v":0},{"$f":"'BASINFO VAORG'!M19","v":"Fyll i…"},"Välj…","Välj…","Välj…","Välj…","Välj…","Välj…","Välj…","Välj…","Välj…","Välj…","Skriv…","Skriv…","Välj…","Välj…","Skriv…","Skriv…"]
[{"$f":"'BASINFO VAORG'!G20","v":"Skriv…"},{"$f":"'BASINFO VAORG'!C20","v":0},{"$f":"'BASINFO VAORG'!M20","v":"Fyll i…"},"Välj…","Välj…","Välj…","Välj…","Välj…","Välj…","Välj…","Välj…","Välj…","Välj…","Skriv…","Skriv…","Välj…","Välj…","Skriv…","Skriv…"]
[{"$f":"'BASINFO VAORG'!G21","v":"Skriv…"},{"$f":"'BASINFO VAORG'!C21","v":0},{"$f":"'BASINFO VAORG'!M21","v":"Fyll i…"},"Välj…","Välj…","Välj…","Välj…","Välj…","Välj…","Välj…","Välj…","Välj…","Välj…","Skriv…","Skriv…","Välj…","Välj…","Skriv…","Skriv…"]
[{"$f":"'BASINFO VAORG'!G22","v":"Skriv…"},{"$f":"'BASINFO VAORG'!C22","v":0},{"$f":"'BASINFO VAORG'!M22","v":"Fyll i…"},"Välj…","Välj…","Välj…","Välj…","Välj…","Välj…","Välj…","Välj…","Välj…","Välj…","Skriv…","Skriv…","Välj…","Välj…","Skriv…","Skriv…"]
[{"$f":"'BASINFO VAORG'!G23","v":"Skriv…"},{"$f":"'BASINFO VAORG'!C23","v":0},{"$f":"'BASINFO VAORG'!M23","v":"Fyll i…"},"Välj…","Välj…","Välj…","Välj…","Välj…","Välj…","Välj…","Välj…","Välj…","Välj…","Skriv…","Skriv…","Välj…","Välj…","Skriv…","Skriv…"]
[{"$f":"'BASINFO VAORG'!G24","v":"Skriv…"},{"$f":"'BASINFO VAORG'!C24","v":0},{"$f":"'BASINFO VAORG'!M24","v":"Fyll i…"},"Välj…","Välj…","Välj…","Välj…","Välj…","Välj…","Välj…","Välj…","Välj…","Välj…","Skriv…","Skriv…","Välj…","Välj…","Skriv…","Skriv…"]
[{"$f":"'BASINFO VAORG'!G25","v":"Skriv…"},{"$f":"'BASINFO VAORG'!C25","v":0},{"$f":"'BASINFO VAORG'!M25","v":"Fyll i…"},"Välj…","Välj…","Välj…","Välj…","Välj…","Välj…","Välj…","Välj…","Välj…","Välj…","Skriv…","Skriv…","Välj…","Välj…","Skriv…","Skriv…"]
[{"$f":"'BASINFO VAORG'!G26","v":"Skriv…"},{"$f":"'BASINFO VAORG'!C26","v":0},{"$f":"'BASINFO VAORG'!M26","v":"Fyll i…"},"Välj…","Välj…","Välj…","Välj…","Välj…","Välj…","Välj…","Välj…","Välj…","Välj…","Skriv…","Skriv…","Välj…","Välj…","Skriv…","Skriv…"]
[{"$f":"'BASINFO VAORG'!G27","v":"Skriv…"},{"$f":"'BASINFO VAORG'!C27","v":0},{"$f":"'BASINFO VAORG'!M27","v":"Fyll i…"},"Välj…","Välj…","Välj…","Välj…","Välj…","Välj…","Välj…","Välj…","Välj…","Välj…","Skriv…","Skriv…","Välj…","Välj…","Skriv…","Skriv…"]
[{"$f":"'BASINFO VAORG'!G28","v":"Skriv…"},{"$f":"'BASINFO VAORG'!C28","v":0},{"$f":"'BASINFO VAORG'!M28","v":"Fyll i…"},"Välj…","Välj…","Välj…","Välj…","Välj…","Välj…","Välj…","Välj…","Välj…","Välj…","Skriv…","Skriv…","Välj…","Välj…","Skriv…","Skriv…"]
[{"$f":"'BASINFO VAORG'!G29","v":"Skriv…"},{"$f":"'BASINFO VAORG'!C29","v":0},{"$f":"'BASINFO VAORG'!M29","v":"Fyll i…"},"Välj…","Välj…","Välj…","Välj…","Välj…","Välj…","Välj…","Välj…","Välj…","Välj…","Skriv…","Skriv…","Välj…","Välj…","Skriv…","Skriv…"]
[{"$f":"'BASINFO VAORG'!G30","v":"Skriv…"},{"$f":"'BASINFO VAORG'!C30","v":0},{"$f":"'BASINFO VAORG'!M30","v":"Fyll i…"},"Välj…","Välj…","Välj…","Välj…","Välj…","Välj…","Välj…","Välj…","Välj…","Välj…","Skriv…","Skriv…","Välj…","Välj…","Skriv…","Skriv…"]
[{"$f":"'BASINFO VAORG'!G31","v":"Skriv…"},{"$f":"'BASINFO VAORG'!C31","v":0},{"$f":"'BASINFO VAORG'!M31","v":"Fyll i…"},"Välj…","Välj…","Välj…","Välj…","Välj…","Välj…","Välj…","Välj…","Välj…","Välj…","Skriv…","Skriv…","Välj…","Välj…","Skriv…","Skriv…"]
[{"$f":"'BASINFO VAORG'!G32","v":"Skriv…"},{"$f":"'BASINFO VAORG'!C32","v":0},{"$f":"'BASINFO VAORG'!M32","v":"Fyll i…"},"Välj…","Välj…","Välj…","Välj…","Välj…","Välj…","Välj…","Välj…","Välj…","Välj…","Skriv…","Skriv…","Välj…","Välj…","Skriv…","Skriv…"]
[{"$f":"'BASINFO VAORG'!G33","v":"Skriv…"},{"$f":"'BASINFO VAORG'!C33","v":0},{"$f":"'BASINFO VAORG'!M33","v":"Fyll i…"},"Välj…","Välj…","Välj…","Välj…","Välj…","Välj…","Välj…","Välj…","Välj…","Välj…","Skriv…","Skriv…","Välj…","Välj…","Skriv…","Skriv…"]
[{"$f":"'BASINFO VAORG'!G34","v":"Skriv…"},{"$f":"'BASINFO VAORG'!C34","v":0},{"$f":"'BASINFO VAORG'!M34","v":"Fyll i…"},"Välj…","Välj…","Välj…","Välj…","Välj…","Välj…","Välj…","Välj…","Välj…","Välj…","Skriv…","Skriv…","Välj…","Välj…","Skriv…","Skriv…"]
[{"$f":"'BASINFO VAORG'!G35","v":"Skriv…"},{"$f":"'BASINFO VAORG'!C35","v":0},{"$f":"'BASINFO VAORG'!M35","v":"Fyll i…"},"Välj…","Välj…","Välj…","Välj…","Välj…","Välj…","Välj…","Välj…","Välj…","Välj…","Skriv…","Skriv…","Välj…","Välj…","Skriv…","Skriv…"]
[{"$f":"'BASINFO VAORG'!G36","v":"Skriv…"},{"$f":"'BASINFO VAORG'!C36","v":0},{"$f":"'BASINFO VAORG'!M36","v":"Fyll i…"},"Välj…","Välj…","Välj…","Välj…","Välj…","Välj…","Välj…","Välj…","Välj…","Välj…","Skriv…","Skriv…","Välj…","Välj…","Skriv…","Skriv…"]
[{"$f":"'BASINFO VAORG'!G37","v":"Skriv…"},{"$f":"'BASINFO VAORG'!C37","v":0},{"$f":"'BASINFO VAORG'!M37","v":"Fyll i…"},"Välj…","Välj…","Välj…","Välj…","Välj…","Välj…","Välj…","Välj…","Välj…","Välj…","Skriv…","Skriv…","Välj…","Välj…","Skriv…","Skriv…"]
[{"$f":"'BASINFO VAORG'!G38","v":"Skriv…"},{"$f":"'BASINFO VAORG'!C38","v":0},{"$f":"'BASINFO VAORG'!M38","v":"Fyll i…"},"Välj…","Välj…","Välj…","Välj…","Välj…","Välj…","Välj…","Välj…","Välj…","Välj…","Skriv…","Skriv…","Välj…","Välj…","Skriv…","Skriv…"]
[{"$f":"'BASINFO VAORG'!G39","v":"Skriv…"},{"$f":"'BASINFO VAORG'!C39","v":0},{"$f":"'BASINFO VAORG'!M39","v":"Fyll i…"},"Välj…","Välj…","Välj…","Välj…","Välj…","Välj…","Välj…","Välj…","Välj…","Välj…","Skriv…","Skriv…","Välj…","Välj…","Skriv…","Skriv…"]
[{"$f":"'BASINFO VAORG'!G40","v":"Skriv…"},{"$f":"'BASINFO VAORG'!C40","v":0},{"$f":"'BASINFO VAORG'!M40","v":"Fyll i…"},"Välj…","Välj…","Välj…","Välj…","Välj…","Välj…","Välj…","Välj…","Välj…","Välj…","Skriv…","Skriv…","Välj…","Välj…","Skriv…","Skriv…"]
[{"$f":"'BASINFO VAORG'!G41","v":"Skriv…"},{"$f":"'BASINFO VAORG'!C41","v":0},{"$f":"'BASINFO VAORG'!M41","v":"Fyll i…"},"Välj…","Välj…","Välj…","Välj…","Välj…","Välj…","Välj…","Välj…","Välj…","Välj…","Skriv…","Skriv…","Välj…","Välj…","Skriv…","Skriv…"]
[{"$f":"'BASINFO VAORG'!G42","v":"Skriv…"},{"$f":"'BASINFO VAORG'!C42","v":0},{"$f":"'BASINFO VAORG'!M42","v":"Fyll i…"},"Välj…","Välj…","Välj…","Välj…","Välj…","Välj…","Välj…","Välj…","Välj…","Välj…","Skriv…","Skriv…","Välj…","Välj…","Skriv…","Skriv…"]
[{"$f":"'BASINFO VAORG'!G43","v":"Skriv…"},{"$f":"'BASINFO VAORG'!C43","v":0},{"$f":"'BASINFO VAORG'!M43","v":"Fyll i…"},"Välj…","Välj…","Välj…","Välj…","Välj…","Välj…","Välj…","Välj…","Välj…","Välj…","Skriv…","Skriv…","Välj…","Välj…","Skriv…","Skriv…"]
[{"$f":"'BASINFO VAORG'!G44","v":"Skriv…"},{"$f":"'BASINFO VAORG'!C44","v":0},{"$f":"'BASINFO VAORG'!M44","v":"Fyll i…"},"Välj…","Välj…","Välj…","Välj…","Välj…","Välj…","Välj…","Välj…","Välj…","Välj…","Skriv…","Skriv…","Välj…","Välj…","Skriv…","Skriv…"]
[{"$f":"'BASINFO VAORG'!G45","v":"Skriv…"},{"$f":"'BASINFO VAORG'!C45","v":0},{"$f":"'BASINFO VAORG'!M45","v":"Fyll i…"},"Välj…","Välj…","Välj…","Välj…","Välj…","Välj…","Välj…","Välj…","Välj…","Välj…","Skriv…","Skriv…","Välj…","Välj…","Skriv…","Skriv…"]
[{"$f":"'BASINFO VAORG'!G46","v":"Skriv…"},{"$f":"'BASINFO VAORG'!C46","v":0},{"$f":"'BASINFO VAORG'!M46","v":"Fyll i…"},"Välj…","Välj…","Välj…","Välj…","Välj…","Välj…","Välj…","Välj…","Välj…","Välj…","Skriv…","Skriv…","Välj…","Välj…","Skriv…","Skriv…"]
[{"$f":"'BASINFO VAORG'!G47","v":"Skriv…"},{"$f":"'BASINFO VAORG'!C47","v":0},{"$f":"'BASINFO VAORG'!M47","v":"Fyll i…"},"Välj…","Välj…","Välj…","Välj…","Välj…","Välj…","Välj…","Välj…","Välj…","Välj…","Skriv…","Skriv…","Välj…","Välj…","Skriv…","Skriv…"]
[{"$f":"'BASINFO VAORG'!G48","v":"Skriv…"},{"$f":"'BASINFO VAORG'!C48","v":0},{"$f":"'BASINFO VAORG'!M48","v":"Fyll i…"},"Välj…","Välj…","Välj…","Välj…","Välj…","Välj…","Välj…","Välj…","Välj…","Välj…","Skriv…","Skriv…","Välj…","Välj…","Skriv…","Skriv…"]
[{"$f":"'BASINFO VAORG'!G49","v":"Skriv…"},{"$f":"'BASINFO VAORG'!C49","v":0},{"$f":"'BASINFO VAORG'!M49","v":"Fyll i…"},"Välj…","Välj…","Välj…","Välj…","Välj…","Välj…","Välj…","Välj…","Välj…","Välj…","Skriv…","Skriv…","Välj…","Välj…","Skriv…","Skriv…"]
[{"$f":"'BASINFO VAORG'!G50","v":"Skriv…"},{"$f":"'BASINFO VAORG'!C50","v":0},{"$f":"'BASINFO VAORG'!M50","v":"Fyll i…"},"Välj…","Välj…","Välj…","Välj…","Välj…","Välj…","Välj…","Välj…","Välj…","Välj…","Skriv…","Skriv…","Välj…","Välj…","Skriv…","Skriv…"]
[{"$f":"'BASINFO VAORG'!G51","v":"Skriv…"},{"$f":"'BASINFO VAORG'!C51","v":0},{"$f":"'BASINFO VAORG'!M51","v":"Fyll i…"},"Välj…","Välj…","Välj…","Välj…","Välj…","Välj…","Välj…","Välj…","Välj…","Välj…","Skriv…","Skriv…","Välj…","Välj…","Skriv…","Skriv…"]
[{"$f":"'BASINFO VAORG'!G52","v":"Skriv…"},{"$f":"'BASINFO VAORG'!C52","v":0},{"$f":"'BASINFO VAORG'!M52","v":"Fyll i…"},"Välj…","Välj…","Välj…","Välj…","Välj…","Välj…","Välj…","Välj…","Välj…","Välj…","Skriv…","Skriv…","Välj…","Välj…","Skriv…","Skriv…"]
[{"$f":"'BASINFO VAORG'!G53","v":"Skriv…"},{"$f":"'BASINFO VAORG'!C53","v":0},{"$f":"'BASINFO VAORG'!M53","v":"Fyll i…"},"Välj…","Välj…","Välj…","Välj…","Välj…","Välj…","Välj…","Välj…","Välj…","Välj…","Skriv…","Skriv…","Välj…","Välj…","Skriv…","Skriv…"]
[{"$f":"'BASINFO VAORG'!G54","v":"Skriv…"},{"$f":"'BASINFO VAORG'!C54","v":0},{"$f":"'BASINFO VAORG'!M54","v":"Fyll i…"},"Välj…","Välj…","Välj…","Välj…","Välj…","Välj…","Välj…","Välj…","Välj…","Välj…","Skriv…","Skriv…","Välj…","Välj…","Skriv…","Skriv…"]
[{"$f":"'BASINFO VAORG'!G55","v":"Skriv…"},{"$f":"'BASINFO VAORG'!C55","v":0},{"$f":"'BASINFO VAORG'!M55","v":"Fyll i…"},"Välj…","Välj…","Välj…","Välj…","Välj…","Välj…","Välj…","Välj…","Välj…","Välj…","Skriv…","Skriv…","Välj…","Välj…","Skriv…","Skriv…"]
[{"$f":"'BASINFO VAORG'!G56","v":"Skriv…"},{"$f":"'BASINFO VAORG'!C56","v":0},{"$f":"'BASINFO VAORG'!M56","v":"Fyll i…"},"Välj…","Välj…","Välj…","Välj…","Välj…","Välj…","Välj…","Välj…","Välj…","Välj…","Skriv…","Skriv…","Välj…","Välj…","Skriv…","Skriv…"]
[{"$f":"'BASINFO VAORG'!G57","v":"Skriv…"},{"$f":"'BASINFO VAORG'!C57","v":0},{"$f":"'BASINFO VAORG'!M57","v":"Fyll i…"},"Välj…","Välj…","Välj…","Välj…","Välj…","Välj…","Välj…","Välj…","Välj…","Välj…","Skriv…","Skriv…","Välj…","Välj…","Skriv…","Skriv…"]
[{"$f":"'BASINFO VAORG'!G58","v":"Skriv…"},{"$f":"'BASINFO VAORG'!C58","v":0},{"$f":"'BASINFO VAORG'!M58","v":"Fyll i…"},"Välj…","Välj…","Välj…","Välj…","Välj…","Välj…","Välj…","Välj…","Välj…","Välj…","Skriv…","Skriv…","Välj…","Välj…","Skriv…","Skriv…"]
[{"$f":"'BASINFO VAORG'!G59","v":"Skriv…"},{"$f":"'BASINFO VAORG'!C59","v":0},{"$f":"'BASINFO VAORG'!M59","v":"Fyll i…"},"Välj…","Välj…","Välj…","Välj…","Välj…","Välj…","Välj…","Välj…","Välj…","Välj…","Skriv…","Skriv…","Välj…","Välj…","Skriv…","Skriv…"]
[{"$f":"'BASINFO VAORG'!G60","v":"Skriv…"},{"$f":"'BASINFO VAORG'!C60","v":0},{"$f":"'BASINFO VAORG'!M60","v":"Fyll i…"},"Välj…","Välj…","Välj…","Välj…","Välj…","Välj…","Välj…","Välj…","Välj…","Välj…","Skriv…","Skriv…","Välj…","Välj…","Skriv…","Skriv…"]
[{"$f":"'BASINFO VAORG'!G61","v":"Skriv…"},{"$f":"'BASINFO VAORG'!C61","v":0},{"$f":"'BASINFO VAORG'!M61","v":"Fyll i…"},"Välj…","Välj…","Välj…","Välj…","Välj…","Välj…","Välj…","Välj…","Välj…","Välj…","Skriv…","Skriv…","Välj…","Välj…","Skriv…","Skriv…"]
[{"$f":"'BASINFO VAORG'!G62","v":"Skriv…"},{"$f":"'BASINFO VAORG'!C62","v":0},{"$f":"'BASINFO VAORG'!M62","v":"Fyll i…"},"Välj…","Välj…","Välj…","Välj…","Välj…","Välj…","Välj…","Välj…","Välj…","Välj…","Skriv…","Skriv…","Välj…","Välj…","Skriv…","Skriv…"]
[{"$f":"'BASINFO VAORG'!G63","v":"Skriv…"},{"$f":"'BASINFO VAORG'!C63","v":0},{"$f":"'BASINFO VAORG'!M63","v":"Fyll i…"},"Välj…","Välj…","Välj…","Välj…","Välj…","Välj…","Välj…","Välj…","Välj…","Välj…","Skriv…","Skriv…","Välj…","Välj…","Skriv…","Skriv…"]
[{"$f":"'BASINFO VAORG'!G64","v":"Skriv…"},{"$f":"'BASINFO VAORG'!C64","v":0},{"$f":"'BASINFO VAORG'!M64","v":"Fyll i…"},"Välj…","Välj…","Välj…","Välj…","Välj…","Välj…","Välj…","Välj…","Välj…","Välj…","Skriv…","Skriv…","Välj…","Välj…","Skriv…","Skriv…"]
[{"$f":"'BASINFO VAORG'!G65","v":"Skriv…"},{"$f":"'BASINFO VAORG'!C65","v":0},{"$f":"'BASINFO VAORG'!M65","v":"Fyll i…"},"Välj…","Välj…","Välj…","Välj…","Välj…","Välj…","Välj…","Välj…","Välj…","Välj…","Skriv…","Skriv…","Välj…","Välj…","Skriv…","Skriv…"]
[{"$f":"'BASINFO VAORG'!G66","v":"Skriv…"},{"$f":"'BASINFO VAORG'!C66","v":0},{"$f":"'BASINFO VAORG'!M66","v":"Fyll i…"},"Välj…","Välj…","Välj…","Välj…","Välj…","Välj…","Välj…","Välj…","Välj…","Välj…","Skriv…","Skriv…","Välj…","Välj…","Skriv…","Skriv…"]
[{"$f":"'BASINFO VAORG'!G67","v":"Skriv…"},{"$f":"'BASINFO VAORG'!C67","v":0},{"$f":"'BASINFO VAORG'!M67","v":"Fyll i…"},"Välj…","Välj…","Välj…","Välj…","Välj…","Välj…","Välj…","Välj…","Välj…","Välj…","Skriv…","Skriv…","Välj…","Välj…","Skriv…","Skriv…"]
[{"$f":"'BASINFO VAORG'!G68","v":"Skriv…"},{"$f":"'BASINFO VAORG'!C68","v":0},{"$f":"'BASINFO VAORG'!M68","v":"Fyll i…"},"Välj…","Välj…","Välj…","Välj…","Välj…","Välj…","Välj…","Välj…","Välj…","Välj…","Skriv…","Skriv…","Välj…","Välj…","Skriv…","Skriv…"]
[{"$f":"'BASINFO VAORG'!G69","v":"Skriv…"},{"$f":"'BASINFO VAORG'!C69","v":0},{"$f":"'BASINFO VAORG'!M69","v":"Fyll i…"},"Välj…","Välj…","Välj…","Välj…","Välj…","Välj…","Välj…","Välj…","Välj…","Välj…","Skriv…","Skriv…","Välj…","Välj…","Skriv…","Skriv…"]
[{"$f":"'BASINFO VAORG'!G70","v":"Skriv…"},{"$f":"'BASINFO VAORG'!C70","v":0},{"$f":"'BASINFO VAORG'!M70","v":"Fyll i…"},"Välj…","Välj…","Välj…","Välj…","Välj…","Välj…","Välj…","Välj…","Välj…","Välj…","Skriv…","Skriv…","Välj…","Välj…","Skriv…","Skriv…"]
[{"$f":"'BASINFO VAORG'!G71","v":"Skriv…"},{"$f":"'BASINFO VAORG'!C71","v":0},{"$f":"'BASINFO VAORG'!M71","v":"Fyll i…"},"Välj…","Välj…","Välj…","Välj…","Välj…","Välj…","Välj…","Välj…","Välj…","Välj…","Skriv…","Skriv…","Välj…","Välj…","Skriv…","Skriv…"]
[{"$f":"'BASINFO VAORG'!G72","v":"Skriv…"},{"$f":"'BASINFO VAORG'!C72","v":0},{"$f":"'BASINFO VAORG'!M72","v":"Fyll i…"},"Välj…","Välj…","Välj…","Välj…","Välj…","Välj…","Välj…","Välj…","Välj…","Välj…","Skriv…","Skriv…","Välj…","Välj…","Skriv…","Skriv…"]
[{"$f":"'BASINFO VAORG'!G73","v":"Skriv…"},{"$f":"'BASINFO VAORG'!C73","v":0},{"$f":"'BASINFO VAORG'!M73","v":"Fyll i…"},"Välj…","Välj…","Välj…","Välj…","Välj…","Välj…","Välj…","Välj…","Välj…","Välj…","Skriv…","Skriv…","Välj…","Välj…","Skriv…","Skriv…"]
[{"$f":"'BASINFO VAORG'!G74","v":"Skriv…"},{"$f":"'BASINFO VAORG'!C74","v":0},{"$f":"'BASINFO VAORG'!M74","v":"Fyll i…"},"Välj…","Välj…","Välj…","Välj…","Välj…","Välj…","Välj…","Välj…","Välj…","Välj…","Skriv…","Skriv…","Välj…","Välj…","Skriv…","Skriv…"]
[{"$f":"'BASINFO VAORG'!G75","v":"Skriv…"},{"$f":"'BASINFO VAORG'!C75","v":0},{"$f":"'BASINFO VAORG'!M75","v":"Fyll i…"},"Välj…","Välj…","Välj…","Välj…","Välj…","Välj…","Välj…","Välj…","Välj…","Välj…","Skriv…","Skriv…","Välj…","Välj…","Skriv…","Skriv…"]
[{"$f":"'BASINFO VAORG'!G76","v":"Skriv…"},{"$f":"'BASINFO VAORG'!C76","v":0},{"$f":"'BASINFO VAORG'!M76","v":"Fyll i…"},"Välj…","Välj…","Välj…","Välj…","Välj…","Välj…","Välj…","Välj…","Välj…","Välj…","Skriv…","Skriv…","Välj…","Välj…","Skriv…","Skriv…"]
[{"$f":"'BASINFO VAORG'!G77","v":"Skriv…"},{"$f":"'BASINFO VAORG'!C77","v":0},{"$f":"'BASINFO VAORG'!M77","v":"Fyll i…"},"Välj…","Välj…","Välj…","Välj…","Välj…","Välj…","Välj…","Välj…","Välj…","Välj…","Skriv…","Skriv…","Välj…","Välj…","Skriv…","Skriv…"]
[{"$f":"'BASINFO VAORG'!G78","v":"Skriv…"},{"$f":"'BASINFO VAORG'!C78","v":0},{"$f":"'BASINFO VAORG'!M78","v":"Fyll i…"},"Välj…","Välj…","Välj…","Välj…","Välj…","Välj…","Välj…","Välj…","Välj…","Välj…","Skriv…","Skriv…","Välj…","Välj…","Skriv…","Skriv…"]
[{"$f":"'BASINFO VAORG'!G79","v":"Skriv…"},{"$f":"'BASINFO VAORG'!C79","v":0},{"$f":"'BASINFO VAORG'!M79","v":"Fyll i…"},"Välj…","Välj…","Välj…","Välj…","Välj…","Välj…","Välj…","Välj…","Välj…","Välj…","Skriv…","Skriv…","Välj…","Välj…","Skriv…","Skriv…"]
[{"$f":"'BASINFO VAORG'!G80","v":"Skriv…"},{"$f":"'BASINFO VAORG'!C80","v":0},{"$f":"'BASINFO VAORG'!M80","v":"Fyll i…"},"Välj…","Välj…","Välj…","Välj…","Välj…","Välj…","Välj…","Välj…","Välj…","Välj…","Skriv…","Skriv…","Välj…","Välj…","Skriv…","Skriv…"]
[{"$f":"'BASINFO VAORG'!G81","v":"Skriv…"},{"$f":"'BASINFO VAORG'!C81","v":0},{"$f":"'BASINFO VAORG'!M81","v":"Fyll i…"},"Välj…","Välj…","Välj…","Välj…","Välj…","Välj…","Välj…","Välj…","Välj…","Välj…","Skriv…","Skriv…","Välj…","Välj…","Skriv…","Skriv…"]
[{"$f":"'BASINFO VAORG'!G82","v":"Skriv…"},{"$f":"'BASINFO VAORG'!C82","v":0},{"$f":"'BASINFO VAORG'!M82","v":"Fyll i…"},"Välj…","Välj…","Välj…","Välj…","Välj…","Välj…","Välj…","Välj…","Välj…","Välj…","Skriv…","Skriv…","Välj…","Välj…","Skriv…","Skriv…"]
[{"$f":"'BASINFO VAORG'!G83","v":"Skriv…"},{"$f":"'BASINFO VAORG'!C83","v":0},{"$f":"'BASINFO VAORG'!M83","v":"Fyll i…"},"Välj…","Välj…","Välj…","Välj…","Välj…","Välj…","Välj…","Välj…","Välj…","Välj…","Skriv…","Skriv…","Välj…","Välj…","Skriv…","Skriv…"]
[{"$f":"'BASINFO VAORG'!G84","v":"Skriv…"},{"$f":"'BASINFO VAORG'!C84","v":0},{"$f":"'BASINFO VAORG'!M84","v":"Fyll i…"},"Välj…","Välj…","Välj…","Välj…","Välj…","Välj…","Välj…","Välj…","Välj…","Välj…","Skriv…","Skriv…","Välj…","Välj…","Skriv…","Skriv…"]
[{"$f":"'BASINFO VAORG'!G85","v":"Skriv…"},{"$f":"'BASINFO VAORG'!C85","v":0},{"$f":"'BASINFO VAORG'!M85","v":"Fyll i…"},"Välj…","Välj…","Välj…","Välj…","Välj…","Välj…","Välj…","Välj…","Välj…","Välj…","Skriv…","Skriv…","Välj…","Välj…","Skriv…","Skriv…"]
[{"$f":"'BASINFO VAORG'!G86","v":"Skriv…"},{"$f":"'BASINFO VAORG'!C86","v":0},{"$f":"'BASINFO VAORG'!M86","v":"Fyll i…"},"Välj…","Välj…","Välj…","Välj…","Välj…","Välj…","Välj…","Välj…","Välj…","Välj…","Skriv…","Skriv…","Välj…","Välj…","Skriv…","Skriv…"]
[{"$f":"'BASINFO VAORG'!G87","v":"Skriv…"},{"$f":"'BASINFO VAORG'!C87","v":0},{"$f":"'BASINFO VAORG'!M87","v":"Fyll i…"},"Välj…","Välj…","Välj…","Välj…","Välj…","Välj…","Välj…","Välj…","Välj…","Välj…","Skriv…","Skriv…","Välj…","Välj…","Skriv…","Skriv…"]
[{"$f":"'BASINFO VAORG'!G88","v":"Skriv…"},{"$f":"'BASINFO VAORG'!C88","v":0},{"$f":"'BASINFO VAORG'!M88","v":"Fyll i…"},"Välj…","Välj…","Välj…","Välj…","Välj…","Välj…","Välj…","Välj…","Välj…","Välj…","Skriv…","Skriv…","Välj…","Välj…","Skriv…","Skriv…"]
[{"$f":"'BASINFO VAORG'!G89","v":"Skriv…"},{"$f":"'BASINFO VAORG'!C89","v":0},{"$f":"'BASINFO VAORG'!M89","v":"Fyll i…"},"Välj…","Välj…","Välj…","Välj…","Välj…","Välj…","Välj…","Välj…","Välj…","Välj…","Skriv…","Skriv…","Välj…","Välj…","Skriv…","Skriv…"]
[{"$f":"'BASINFO VAORG'!G90","v":"Skriv…"},{"$f":"'BASINFO VAORG'!C90","v":0},{"$f":"'BASINFO VAORG'!M90","v":"Fyll i…"},"Välj…","Välj…","Välj…","Välj…","Välj…","Välj…","Välj…","Välj…","Välj…","Välj…","Skriv…","Skriv…","Välj…","Välj…","Skriv…","Skriv…"]
[{"$f":"'BASINFO VAORG'!G91","v":"Skriv…"},{"$f":"'BASINFO VAORG'!C91","v":0},{"$f":"'BASINFO VAORG'!M91","v":"Fyll i…"},"Välj…","Välj…","Välj…","Välj…","Välj…","Välj…","Välj…","Välj…","Välj…","Välj…","Skriv…","Skriv…","Välj…","Välj…","Skriv…","Skriv…"]
[{"$f":"'BASINFO VAORG'!G92","v":"Skriv…"},{"$f":"'BASINFO VAORG'!C92","v":0},{"$f":"'BASINFO VAORG'!M92","v":"Fyll i…"},"Välj…","Välj…","Välj…","Välj…","Välj…","Välj…","Välj…","Välj…","Välj…","Välj…","Skriv…","Skriv…","Välj…","Välj…","Skriv…","Skriv…"]
[{"$f":"'BASINFO VAORG'!G93","v":"Skriv…"},{"$f":"'BASINFO VAORG'!C93","v":0},{"$f":"'BASINFO VAORG'!M93","v":"Fyll i…"},"Välj…","Välj…","Välj…","Välj…","Välj…","Välj…","Välj…","Välj…","Välj…","Välj…","Skriv…","Skriv…","Välj…","Välj…","Skriv…","Skriv…"]
[{"$f":"'BASINFO VAORG'!G94","v":"Skriv…"},{"$f":"'BASINFO VAORG'!C94","v":0},{"$f":"'BASINFO VAORG'!M94","v":"Fyll i…"},"Välj…","Välj…","Välj…","Välj…","Välj…","Välj…","Välj…","Välj…","Välj…","Välj…","Skriv…","Skriv…","Välj…","Välj…","Skriv…","Skriv…"]
[{"$f":"'BASINFO VAORG'!G95","v":"Skriv…"},{"$f":"'BASINFO VAORG'!C95","v":0},{"$f":"'BASINFO VAORG'!M95","v":"Fyll i…"},"Välj…","Välj…","Välj…","Välj…","Välj…","Välj…","Välj…","Välj…","Välj…","Välj…","Skriv…","Skriv…","Välj…","Välj…","Skriv…","Skriv…"]
[{"$f":"'BASINFO VAORG'!G96","v":"Skriv…"},{"$f":"'BASINFO VAORG'!C96","v":0},{"$f":"'BASINFO VAORG'!M96","v":"Fyll i…"},"Välj…","Välj…","Välj…","Välj…","Välj…","Välj…","Välj…","Välj…","Välj…","Välj…","Skriv…","Skriv…","Välj…","Välj…","Skriv…","Skriv…"]
[{"$f":"'BASINFO VAORG'!G97","v":"Skriv…"},{"$f":"'BASINFO VAORG'!C97","v":0},{"$f":"'BASINFO VAORG'!M97","v":"Fyll i…"},"Välj…","Välj…","Välj…","Välj…","Välj…","Välj…","Välj…","Välj…","Välj…","Välj…","Skriv…","Skriv…","Välj…","Välj…","Skriv…","Skriv…"]
[{"$f":"'BASINFO VAORG'!G98","v":"Skriv…"},{"$f":"'BASINFO VAORG'!C98","v":0},{"$f":"'BASINFO VAORG'!M98","v":"Fyll i…"},"Välj…","Välj…","Välj…","Välj…","Välj…","Välj…","Välj…","Välj…","Välj…","Välj…","Skriv…","Skriv…","Välj…","Välj…","Skriv…","Skriv…"]
[{"$f":"'BASINFO VAORG'!G99","v":"Skriv…"},{"$f":"'BASINFO VAORG'!C99","v":0},{"$f":"'BASINFO VAORG'!M99","v":"Fyll i…"},"Välj…","Välj…","Välj…","Välj…","Välj…","Välj…","Välj…","Välj…","Välj…","Välj…","Skriv…","Skriv…","Välj…","Välj…","Skriv…","Skriv…"]
[{"$f":"'BASINFO VAORG'!G100","v":"Skriv…"},{"$f":"'BASINFO VAORG'!C100","v":0},{"$f":"'BASINFO VAORG'!M100","v":"Fyll i…"},"Välj…","Välj…","Välj…","Välj…","Välj…","Välj…","Välj…","Välj…","Välj…","Välj…","Skriv…","Skriv…","Välj…","Välj…","Skriv…","Skriv…"]
[{"$f":"'BASINFO VAORG'!G101","v":"Skriv…"},{"$f":"'BASINFO VAORG'!C101","v":0},{"$f":"'BASINFO VAORG'!M101","v":"Fyll i…"},"Välj…","Välj…","Välj…","Välj…","Välj…","Välj…","Välj…","Välj…","Välj…","Välj…","Skriv…","Skriv…","Välj…","Välj…","Skriv…","Skriv…"]
[{"$f":"'BASINFO VAORG'!G102","v":"Skriv…"},{"$f":"'BASINFO VAORG'!C102","v":0},{"$f":"'BASINFO VAORG'!M102","v":"Fyll i…"},"Välj…","Välj…","Välj…","Välj…","Välj…","Välj…","Välj…","Välj…","Välj…","Välj…","Skriv…","Skriv…","Välj…","Välj…","Skriv…","Skriv…"]
[{"$f":"'BASINFO VAORG'!G103","v":"Skriv…"},{"$f":"'BASINFO VAORG'!C103","v":0},{"$f":"'BASINFO VAORG'!M103","v":"Fyll i…"},"Välj…","Välj…","Välj…","Välj…","Välj…","Välj…","Välj…","Välj…","Välj…","Välj…","Skriv…","Skriv…","Välj…","Välj…","Skriv…","Skriv…"]
[{"$f":"'BASINFO VAORG'!G104","v":"Skriv…"},{"$f":"'BASINFO VAORG'!C104","v":0},{"$f":"'BASINFO VAORG'!M104","v":"Fyll i…"},"Välj…","Välj…","Välj…","Välj…","Välj…","Välj…","Välj…","Välj…","Välj…","Välj…","Skriv…","Skriv…","Välj…","Välj…","Skriv…","Skriv…"]
[{"$f":"'BASINFO VAORG'!G105","v":"Skriv…"},{"$f":"'BASINFO VAORG'!C105","v":0},{"$f":"'BASINFO VAORG'!M105","v":"Fyll i…"},"Välj…","Välj…","Välj…","Välj…","Välj…","Välj…","Välj…","Välj…","Välj…","Välj…","Skriv…","Skriv…","Välj…","Välj…","Skriv…","Skriv…"]
[{"$f":"'BASINFO VAORG'!G106","v":"Skriv…"},{"$f":"'BASINFO VAORG'!C106","v":0},{"$f":"'BASINFO VAORG'!M106","v":"Fyll i…"},"Välj…","Välj…","Välj…","Välj…","Välj…","Välj…","Välj…","Välj…","Välj…","Välj…","Skriv…","Skriv…","Välj…","Välj…","Skriv…","Skriv…"]
[{"$f":"'BASINFO VAORG'!G107","v":"Skriv…"},{"$f":"'BASINFO VAORG'!C107","v":0},{"$f":"'BASINFO VAORG'!M107","v":"Fyll i…"},"Välj…","Välj…","Välj…","Välj…","Välj…","Välj…","Välj…","Välj…","Välj…","Välj…","Skriv…","Skriv…","Välj…","Välj…","Skriv…","Skriv…"]
[{"$f":"'BASINFO VAORG'!G108","v":"Skriv…"},{"$f":"'BASINFO VAORG'!C108","v":0},{"$f":"'BASINFO VAORG'!M108","v":"Fyll i…"},"Välj…","Välj…","Välj…","Välj…","Välj…","Välj…","Välj…","Välj…","Välj…","Välj…","Skriv…","Skriv…","Välj…","Välj…","Skriv…","Skriv…"]
[{"$f":"'BASINFO VAORG'!G109","v":"Skriv…"},{"$f":"'BASINFO VAORG'!C109","v":0},{"$f":"'BASINFO VAORG'!M109","v":"Fyll i…"},"Välj…","Välj…","Välj…","Välj…","Välj…","Välj…","Välj…","Välj…","Välj…","Välj…","Skriv…","Skriv…","Välj…","Välj…","Skriv…","Skriv…"]
[{"$f":"'BASINFO VAORG'!G110","v":"Skriv…"},{"$f":"'BASINFO VAORG'!C110","v":0},{"$f":"'BASINFO VAORG'!M110","v":"Fyll i…"},"Välj…","Välj…","Välj…","Välj…","Välj…","Välj…","Välj…","Välj…","Välj…","Välj…","Skriv…","Skriv…","Välj…","Välj…","Skriv…","Skriv…"]
[{"$f":"'BASINFO VAORG'!G111","v":"Skriv…"},{"$f":"'BASINFO VAORG'!C111","v":0},{"$f":"'BASINFO VAORG'!M111","v":"Fyll i…"},"Välj…","Välj…","Välj…","Välj…","Välj…","Välj…","Välj…","Välj…","Välj…","Välj…","Skriv…","Skriv…","Välj…","Välj…","Skriv…","Skriv…"]
[{"$f":"'BASINFO VAORG'!G112","v":"Skriv…"},{"$f":"'BASINFO VAORG'!C112","v":0},{"$f":"'BASINFO VAORG'!M112","v":"Fyll i…"},"Välj…","Välj…","Välj…","Välj…","Välj…","Välj…","Välj…","Välj…","Välj…","Välj…","Skriv…","Skriv…","Välj…","Välj…","Skriv…","Skriv…"]
[{"$f":"'BASINFO VAORG'!G113","v":"Skriv…"},{"$f":"'BASINFO VAORG'!C113","v":0},{"$f":"'BASINFO VAORG'!M113","v":"Fyll i…"},"Välj…","Välj…","Välj…","Välj…","Välj…","Välj…","Välj…","Välj…","Välj…","Välj…","Skriv…","Skriv…","Välj…","Välj…","Skriv…","Skriv…"]
[{"$f":"'BASINFO VAORG'!G114","v":"Skriv…"},{"$f":"'BASINFO VAORG'!C114","v":0},{"$f":"'BASINFO VAORG'!M114","v":"Fyll i…"},"Välj…","Välj…","Välj…","Välj…","Välj…","Välj…","Välj…","Välj…","Välj…","Välj…","Skriv…","Skriv…","Välj…","Välj…","Skriv…","Skriv…"]

{"sheet":"SAMMANSTÄLLNING ALL INFO","index":4,"n_rows":203,"n_cols":45,"rows_kept":203,"cut":false,"hidden":true,"merged":[[11,0,11,4],[11,5,11,9],[0,29,0,36],[1,29,1,34],[0,0,0,7],[0,16,0,23],[1,16,1,21]]}
["INFORMATIONSUTBYTE GÄLLANDE ÖVERSVÄMNINGSSKADOR",null,null,null,null,null,null,null,null,null,null,null,null,null,null,null,"INFORMATIONSUTBYTE GÄLLANDE ÖVERSVÄMNINGSSKADOR",null,null,null,null,null,null,null,null,null,null,null,null,"INFORMATIONSUTBYTE GÄLLANDE ÖVERSVÄMNINGSSKADOR"]
["BASINFORMATION",null,null,null,null,null,null,null,null,null,null,null,null,null,null,null,"RAPPORT FÖRSÄKRINGSBOLAG",null,null,null,null,null,null,null,null,null,null,null,null,"RAPPORT VA-HUVUDMAN"]
[]
[]
[]
[]
[]
[]
[]
[]
[]
["FÖRSÄKRING",null,null,null,null,"VA-ORGANISATION",null,null,null,null,null,null,"ALLMÄNNA UPPGIFTER OM SKADESTÄLLE"]
["Försäkringsbolag","Skadenummer","Kontaktperson","Telnr","Mejl","VA-organisation","Ärendenummer","Kontaktperson","Telnr","Mejl","Län","Kommun","Skadeställe adress","ev Fast.beteckning","Försäkringstagare","Var uppkom skada","Skadedatum","Klockslag","Skada upptäckt direkt","Översvämn inträffat tidigare","Hur kom vattnet in","Samband med nederbörd","Avloppslukt","Vattennivå inne i cm","Finns foton","Skada anmäld till VA-org","Uppskattad skadekostnad","Övrigt (fritext)","Skadedatum","Klockslag","Skada upptäckt direkt","Översvämn inträffat tidigare","Hur kom vattnet till byggnaden","Hur kom vattnet in","Samband med nederbörd","Avloppslukt","Vattennivå inne i cm","Finns foton","Typ av ledning","Bedömd orsak","Skadan kommer hanteras enl följande","Återkopplingstid (månader)","Har huvudmannen försäkringsskydd","Bolag","Övrigt (fritext)"]
[{"$f":"'BASINFO FÖRSÄKRING'!I14","v":0},{"$f":"'BASINFO FÖRSÄKRING'!G14","v":0},{"$f":"'BASINFO FÖRSÄKRING'!J14","v":0},{"$f":"'BASINFO FÖRSÄKRING'!K14","v":0},{"$f":"'BASINFO FÖRSÄKRING'!L14","v":0},{"$f":"'BASINFO VAORG'!I14","v":0},{"$f":"'BASINFO VAORG'!G14","v":"Skriv…"},{"$f":"'BASINFO VAORG'!J14","v":"Skriv…"},{"$f":"'BASINFO VAORG'!K14","v":"Skriv…"},{"$f":"'BASINFO VAORG'!L14","v":"Skriv…"},{"$f":"IF('BASINFO FÖRSÄKRING'!A14=0,'BASINFO VAORG'!A14,'BASINFO FÖRSÄKRING'!A14)","v":0},{"$f":"IF('BASINFO FÖRSÄKRING'!B14=0,'BASINFO VAORG'!B14,'BASINFO FÖRSÄKRING'!B14)","v":0},{"$f":"IF('BASINFO FÖRSÄKRING'!D14=0,'BASINFO VAORG'!C14,'BASINFO FÖRSÄKRING'!D14)","v":0},{"$f":"IF('BASINFO FÖRSÄKRING'!E14=0,'BASINFO VAORG'!D14,'BASINFO FÖRSÄKRING'!E14)","v":0},{"$f":"IF('BASINFO FÖRSÄKRING'!F14=0,'BASINFO VAORG'!E14,'BASINFO FÖRSÄKRING'!F14)","v":0},{"$f":"'SKADEINFO FÖRSÄKRING'!D14","v":0},{"$f":"'SKADEINFO FÖRSÄKRING'!C14","v":"00:00:00"},{"$f":"'SKADEINFO FÖRSÄKRING'!E14","v":"00:00:00"},{"$f":"'SKADEINFO FÖRSÄKRING'!F14","v":0},{"$f":"'SKADEINFO FÖRSÄKRING'!G14","v":0},{"$f":"'SKADEINFO FÖRSÄKRING'!H14","v":0},{"$f":"'SKADEINFO FÖRSÄKRING'!I14","v":0},{"$f":"'SKADEINFO FÖRSÄKRING'!J14","v":0},{"$f":"'SKADEINFO FÖRSÄKRING'!K14","v":0},{"$f":"'SKADEINFO FÖRSÄKRING'!L14","v":0},{"$f":"'SKADEINFO FÖRSÄKRING'!M14","v":0},{"$f":"'SKADEINFO FÖRSÄKRING'!N14","v":0},{"$f":"'SKADEINFO FÖRSÄKRING'!O14","v":0},{"$f":"'SKADEINFO VAORG'!C14","v":"Fyll i…"},{"$f":"'SKADEINFO VAORG'!D14","v":"Välj…"},{"$f":"'SKADEINFO VAORG'!E14","v":"Välj…"},{"$f":"'SKADEINFO VAORG'!F14","v":"Välj…"},{"$f":"'SKADEINFO VAORG'!G14","v":"Välj…"},{"$f":"'SKADEINFO VAORG'!H14","v":"Välj…"},{"$f":"'SKADEINFO VAORG'!I14","v":"Välj…"},{"$f":"'SKADEINFO VAORG'!J14","v":"Välj…"},{"$f":"'SKADEINFO VAORG'!K14","v":"Välj…"},{"$f":"'SKADEINFO VAORG'!L14","v":"Välj…"},{"$f":"'SKADEINFO VAORG'!M14","v":"Välj…"},{"$f":"'SKADEINFO VAORG'!N14","v":"Skriv…"},{"$f":"'SKADEINFO VAORG'!O14","v":"Skriv…"},{"$f":"'SKADEINFO VAORG'!P14","v":"Välj…"},{"$f":"'SKADEINFO VAORG'!Q14","v":"Välj…"},{"$f":"'SKADEINFO VAORG'!R14","v":"Skriv…"},{"$f":"'SKADEINFO VAORG'!S14","v":"Skriv…"}]
[{"$f":"'BASINFO FÖRSÄKRING'!I15","v":0},{"$f":"'BASINFO FÖRSÄKRING'!G15","v":0},{"$f":"'BASINFO FÖRSÄKRING'!J15","v":0},{"$f":"'BASINFO FÖRSÄKRING'!K15","v":0},{"$f":"'BASINFO FÖRSÄKRING'!L15","v":0},{"$f":"'BASINFO VAORG'!I15","v":0},{"$f":"'BASINFO VAORG'!G15","v":"Skriv…"},{"$f":"'BASINFO VAORG'!J15","v":"Skriv…"},{"$f":"'BASINFO VAORG'!K15","v":"Skriv…"},{"$f":"'BASINFO VAORG'!L15","v":"Skriv…"},{"$f":"IF('BASINFO FÖRSÄKRING'!A15=0,'BASINFO VAORG'!A15,'BASINFO FÖRSÄKRING'!A15)","v":0},{"$f":"IF('BASINFO FÖRSÄKRING'!B15=0,'BASINFO VAORG'!F15,'BASINFO FÖRSÄKRING'!B15)","v":0},{"$f":"IF('BASINFO FÖRSÄKRING'!D15=0,'BASINFO VAORG'!C15,'BASINFO FÖRSÄKRING'!D15)","v":0},{"$f":"IF('BASINFO FÖRSÄKRING'!E15=0,'BASINFO VAORG'!D15,'BASINFO FÖRSÄKRING'!E15)","v":0},{"$f":"IF('BASINFO FÖRSÄKRING'!F15=0,'BASINFO VAORG'!E15,'BASINFO FÖRSÄKRING'!F15)","v":0},{"$f":"'SKADEINFO FÖRSÄKRING'!D15","v":0},{"$f":"'SKADEINFO FÖRSÄKRING'!C15","v":"00:00:00"},{"$f":"'SKADEINFO FÖRSÄKRING'!E15","v":"00:00:00"},{"$f":"'SKADEINFO FÖRSÄKRING'!F15","v":0},{"$f":"'SKADEINFO FÖRSÄKRING'!G15","v":0},{"$f":"'SKADEINFO FÖRSÄKRING'!H15","v":0},{"$f":"'SKADEINFO FÖRSÄKRING'!I15","v":0},{"$f":"'SKADEINFO FÖRSÄKRING'!J15","v":0},{"$f":"'SKADEINFO FÖRSÄKRING'!K15","v":0},{"$f":"'SKADEINFO FÖRSÄKRING'!L15","v":0},{"$f":"'SKADEINFO FÖRSÄKRING'!M15","v":0},{"$f":"'SKADEINFO FÖRSÄKRING'!N15","v":0},{"$f":"'SKADEINFO FÖRSÄKRING'!O15","v":0},{"$f":"'SKADEINFO VAORG'!C15","v":"Fyll i…"},{"$f":"'SKADEINFO VAORG'!D15","v":"Välj…"},{"$f":"'SKADEINFO VAORG'!E15","v":"Välj…"},{"$f":"'SKADEINFO VAORG'!F15","v":"Välj…"},{"$f":"'SKADEINFO VAORG'!G15","v":"Välj…"},{"$f":"'SKADEINFO VAORG'!H15","v":"Välj…"},{"$f":"'SKADEINFO VAORG'!I15","v":"Välj…"},{"$f":"'SKADEINFO VAORG'!J15","v":"Välj…"},{"$f":"'SKADEINFO VAORG'!K15","v":"Välj…"},{"$f":"'SKADEINFO VAORG'!L15","v":"Välj…"},{"$f":"'SKADEINFO VAORG'!M15","v":"Välj…"},{"$f":"'SKADEINFO VAORG'!N15","v":"Skriv…"},{"$f":"'SKADEINFO VAORG'!O15","v":"Skriv…"},{"$f":"'SKADEINFO VAORG'!P15","v":"Välj…"},{"$f":"'SKADEINFO VAORG'!Q15","v":"Välj…"},{"$f":"'SKADEINFO VAORG'!R15","v":"Skriv…"},{"$f":"'SKADEINFO VAORG'!S15","v":"Skriv…"}]
[{"$f":"'BASINFO FÖRSÄKRING'!I16","v":0},{"$f":"'BASINFO FÖRSÄKRING'!G16","v":0},{"$f":"'BASINFO FÖRSÄKRING'!J16","v":0},{"$f":"'BASINFO FÖRSÄKRING'!K16","v":0},{"$f":"'BASINFO FÖRSÄKRING'!L16","v":0},{"$f":"'BASINFO VAORG'!I16","v":0},{"$f":"'BASINFO VAORG'!G16","v":"Skriv…"},{"$f":"'BASINFO VAORG'!J16","v":"Skriv…"},{"$f":"'BASINFO VAORG'!K16","v":"Skriv…"},{"$f":"'BASINFO VAORG'!L16","v":"Skriv…"},{"$f":"IF('BASINFO FÖRSÄKRING'!A16=0,'BASINFO VAORG'!A16,'BASINFO FÖRSÄKRING'!A16)","v":0},{"$f":"IF('BASINFO FÖRSÄKRING'!B16=0,'BASINFO VAORG'!B16,'BASINFO FÖRSÄKRING'!B16)","v":0},{"$f":"IF('BASINFO FÖRSÄKRING'!D16=0,'BASINFO VAORG'!C16,'BASINFO FÖRSÄKRING'!D16)","v":0},{"$f":"IF('BASINFO FÖRSÄKRING'!E16=0,'BASINFO VAORG'!D16,'BASINFO FÖRSÄKRING'!E16)","v":0},{"$f":"IF('BASINFO FÖRSÄKRING'!F16=0,'BASINFO VAORG'!E16,'BASINFO FÖRSÄKRING'!F16)","v":0},{"$f":"'SKADEINFO FÖRSÄKRING'!D16","v":0},{"$f":"'SKADEINFO FÖRSÄKRING'!C16","v":"00:00:00"},{"$f":"'SKADEINFO FÖRSÄKRING'!E16","v":"00:00:00"},{"$f":"'SKADEINFO FÖRSÄKRING'!F16","v":0},{"$f":"'SKADEINFO FÖRSÄKRING'!G16","v":0},{"$f":"'SKADEINFO FÖRSÄKRING'!H16","v":0},{"$f":"'SKADEINFO FÖRSÄKRING'!I16","v":0},{"$f":"'SKADEINFO FÖRSÄKRING'!J16","v":0},{"$f":"'SKADEINFO FÖRSÄKRING'!K16","v":0},{"$f":"'SKADEINFO FÖRSÄKRING'!L16","v":0},{"$f":"'SKADEINFO FÖRSÄKRING'!M16","v":0},{"$f":"'SKADEINFO FÖRSÄKRING'!N16","v":0},{"$f":"'SKADEINFO FÖRSÄKRING'!O16","v":0},{"$f":"'SKADEINFO VAORG'!C16","v":"Fyll i…"},{"$f":"'SKADEINFO VAORG'!D16","v":"Välj…"},{"$f":"'SKADEINFO VAORG'!E16","v":"Välj…"},{"$f":"'SKADEINFO VAORG'!F16","v":"Välj…"},{"$f":"'SKADEINFO VAORG'!G16","v":"Välj…"},{"$f":"'SKADEINFO VAORG'!H16","v":"Välj…"},{"$f":"'SKADEINFO VAORG'!I16","v":"Välj…"},{"$f":"'SKADEINFO VAORG'!J16","v":"Välj…"},{"$f":"'SKADEINFO VAORG'!K16","v":"Välj…"},{"$f":"'SKADEINFO VAORG'!L16","v":"Välj…"},{"$f":"'SKADEINFO VAORG'!M16","v":"Välj…"},{"$f":"'SKADEINFO VAORG'!N16","v":"Skriv…"},{"$f":"'SKADEINFO VAORG'!O16","v":"Skriv…"},{"$f":"'SKADEINFO VAORG'!P16","v":"Välj…"},{"$f":"'SKADEINFO VAORG'!Q16","v":"Välj…"},{"$f":"'SKADEINFO VAORG'!R16","v":"Skriv…"},{"$f":"'SKADEINFO VAORG'!S16","v":"Skriv…"}]
[{"$f":"'BASINFO FÖRSÄKRING'!I17","v":0},{"$f":"'BASINFO FÖRSÄKRING'!G17","v":0},{"$f":"'BASINFO FÖRSÄKRING'!J17","v":0},{"$f":"'BASINFO FÖRSÄKRING'!K17","v":0},{"$f":"'BASINFO FÖRSÄKRING'!L17","v":0},{"$f":"'BASINFO VAORG'!I17","v":0},{"$f":"'BASINFO VAORG'!G17","v":"Skriv…"},{"$f":"'BASINFO VAORG'!J17","v":"Skriv…"},{"$f":"'BASINFO VAORG'!K17","v":"Skriv…"},{"$f":"'BASINFO VAORG'!L17","v":"Skriv…"},{"$f":"IF('BASINFO FÖRSÄKRING'!A17=0,'BASINFO VAORG'!A17,'BASINFO FÖRSÄKRING'!A17)","v":0},{"$f":"IF('BASINFO FÖRSÄKRING'!B17=0,'BASINFO VAORG'!B17,'BASINFO FÖRSÄKRING'!B17)","v":0},{"$f":"IF('BASINFO FÖRSÄKRING'!D17=0,'BASINFO VAORG'!C17,'BASINFO FÖRSÄKRING'!D17)","v":0},{"$f":"IF('BASINFO FÖRSÄKRING'!E17=0,'BASINFO VAORG'!D17,'BASINFO FÖRSÄKRING'!E17)","v":0},{"$f":"IF('BASINFO FÖRSÄKRING'!F17=0,'BASINFO VAORG'!E17,'BASINFO FÖRSÄKRING'!F17)","v":0},{"$f":"'SKADEINFO FÖRSÄKRING'!D17","v":0},{"$f":"'SKADEINFO FÖRSÄKRING'!C17","v":"00:00:00"},{"$f":"'SKADEINFO FÖRSÄKRING'!E17","v":"00:00:00"},{"$f":"'SKADEINFO FÖRSÄKRING'!F17","v":0},{"$f":"'SKADEINFO FÖRSÄKRING'!G17","v":0},{"$f":"'SKADEINFO FÖRSÄKRING'!H17","v":0},{"$f":"'SKADEINFO FÖRSÄKRING'!I17","v":0},{"$f":"'SKADEINFO FÖRSÄKRING'!J17","v":0},{"$f":"'SKADEINFO FÖRSÄKRING'!K17","v":0},{"$f":"'SKADEINFO FÖRSÄKRING'!L17","v":0},{"$f":"'SKADEINFO FÖRSÄKRING'!M17","v":0},{"$f":"'SKADEINFO FÖRSÄKRING'!N17","v":0},{"$f":"'SKADEINFO FÖRSÄKRING'!O17","v":0},{"$f":"'SKADEINFO VAORG'!C17","v":"Fyll i…"},{"$f":"'SKADEINFO VAORG'!D17","v":"Välj…"},{"$f":"'SKADEINFO VAORG'!E17","v":"Välj…"},{"$f":"'SKADEINFO VAORG'!F17","v":"Välj…"},{"$f":"'SKADEINFO VAORG'!G17","v":"Välj…"},{"$f":"'SKADEINFO VAORG'!H17","v":"Välj…"},{"$f":"'SKADEINFO VAORG'!I17","v":"Välj…"},{"$f":"'SKADEINFO VAORG'!J17","v":"Välj…"},{"$f":"'SKADEINFO VAORG'!K17","v":"Välj…"},{"$f":"'SKADEINFO VAORG'!L17","v":"Välj…"},{"$f":"'SKADEINFO VAORG'!M17","v":"Välj…"},{"$f":"'SKADEINFO VAORG'!N17","v":"Skriv…"},{"$f":"'SKADEINFO VAORG'!O17","v":"Skriv…"},{"$f":"'SKADEINFO VAORG'!P17","v":"Välj…"},{"$f":"'SKADEINFO VAORG'!Q17","v":"Välj…"},{"$f":"'SKADEINFO VAORG'!R17","v":"Skriv…"},{"$f":"'SKADEINFO VAORG'!S17","v":"Skriv…"}]
[{"$f":"'BASINFO FÖRSÄKRING'!I18","v":0},{"$f":"'BASINFO FÖRSÄKRING'!G18","v":0},{"$f":"'BASINFO FÖRSÄKRING'!J18","v":0},{"$f":"'BASINFO FÖRSÄKRING'!K18","v":0},{"$f":"'BASINFO FÖRSÄKRING'!L18","v":0},{"$f":"'BASINFO VAORG'!I18","v":0},{"$f":"'BASINFO VAORG'!G18","v":"Skriv…"},{"$f":"'BASINFO VAORG'!J18","v":"Skriv…"},{"$f":"'BASINFO VAORG'!K18","v":"Skriv…"},{"$f":"'BASINFO VAORG'!L18","v":"Skriv…"},{"$f":"IF('BASINFO FÖRSÄKRING'!A18=0,'BASINFO VAORG'!A18,'BASINFO FÖRSÄKRING'!A18)","v":0},{"$f":"IF('BASINFO FÖRSÄKRING'!B18=0,'BASINFO VAORG'!B18,'BASINFO FÖRSÄKRING'!B18)","v":0},{"$f":"IF('BASINFO FÖRSÄKRING'!D18=0,'BASINFO VAORG'!C18,'BASINFO FÖRSÄKRING'!D18)","v":0},{"$f":"IF('BASINFO FÖRSÄKRING'!E18=0,'BASINFO VAORG'!D18,'BASINFO FÖRSÄKRING'!E18)","v":0},{"$f":"IF('BASINFO FÖRSÄKRING'!F18=0,'BASINFO VAORG'!E18,'BASINFO FÖRSÄKRING'!F18)","v":0},{"$f":"'SKADEINFO FÖRSÄKRING'!D18","v":0},{"$f":"'SKADEINFO FÖRSÄKRING'!C18","v":"00:00:00"},{"$f":"'SKADEINFO FÖRSÄKRING'!E18","v":"00:00:00"},{"$f":"'SKADEINFO FÖRSÄKRING'!F18","v":0},{"$f":"'SKADEINFO FÖRSÄKRING'!G18","v":0},{"$f":"'SKADEINFO FÖRSÄKRING'!H18","v":0},{"$f":"'SKADEINFO FÖRSÄKRING'!I18","v":0},{"$f":"'SKADEINFO FÖRSÄKRING'!J18","v":0},{"$f":"'SKADEINFO FÖRSÄKRING'!K18","v":0},{"$f":"'SKADEINFO FÖRSÄKRING'!L18","v":0},{"$f":"'SKADEINFO FÖRSÄKRING'!M18","v":0},{"$f":"'SKADEINFO FÖRSÄKRING'!N18","v":0},{"$f":"'SKADEINFO FÖRSÄKRING'!O18","v":0},{"$f":"'SKADEINFO VAORG'!C18","v":"Fyll i…"},{"$f":"'SKADEINFO VAORG'!D18","v":"Välj…"},{"$f":"'SKADEINFO VAORG'!E18","v":"Välj…"},{"$f":"'SKADEINFO VAORG'!F18","v":"Välj…"},{"$f":"'SKADEINFO VAORG'!G18","v":"Välj…"},{"$f":"'SKADEINFO VAORG'!H18","v":"Välj…"},{"$f":"'SKADEINFO VAORG'!I18","v":"Välj…"},{"$f":"'SKADEINFO VAORG'!J18","v":"Välj…"},{"$f":"'SKADEINFO VAORG'!K18","v":"Välj…"},{"$f":"'SKADEINFO VAORG'!L18","v":"Välj…"},{"$f":"'SKADEINFO VAORG'!M18","v":"Välj…"},{"$f":"'SKADEINFO VAORG'!N18","v":"Skriv…"},{"$f":"'SKADEINFO VAORG'!O18","v":"Skriv…"},{"$f":"'SKADEINFO VAORG'!P18","v":"Välj…"},{"$f":"'SKADEINFO VAORG'!Q18","v":"Välj…"},{"$f":"'SKADEINFO VAORG'!R18","v":"Skriv…"},{"$f":"'SKADEINFO VAORG'!S18","v":"Skriv…"}]
[{"$f":"'BASINFO FÖRSÄKRING'!I19","v":0},{"$f":"'BASINFO FÖRSÄKRING'!G19","v":0},{"$f":"'BASINFO FÖRSÄKRING'!J19","v":0},{"$f":"'BASINFO FÖRSÄKRING'!K19","v":0},{"$f":"'BASINFO FÖRSÄKRING'!L19","v":0},{"$f":"'BASINFO VAORG'!I19","v":0},{"$f":"'BASINFO VAORG'!G19","v":"Skriv…"},{"$f":"'BASINFO VAORG'!J19","v":"Skriv…"},{"$f":"'BASINFO VAORG'!K19","v":"Skriv…"},{"$f":"'BASINFO VAORG'!L19","v":"Skriv…"},{"$f":"IF('BASINFO FÖRSÄKRING'!A19=0,'BASINFO VAORG'!A19,'BASINFO FÖRSÄKRING'!A19)","v":0},{"$f":"IF('BASINFO FÖRSÄKRING'!B19=0,'BASINFO VAORG'!B19,'BASINFO FÖRSÄKRING'!B19)","v":0},{"$f":"IF('BASINFO FÖRSÄKRING'!D19=0,'BASINFO VAORG'!C19,'BASINFO FÖRSÄKRING'!D19)","v":0},{"$f":"IF('BASINFO FÖRSÄKRING'!E19=0,'BASINFO VAORG'!D19,'BASINFO FÖRSÄKRING'!E19)","v":0},{"$f":"IF('BASINFO FÖRSÄKRING'!F19=0,'BASINFO VAORG'!E19,'BASINFO FÖRSÄKRING'!F19)","v":0},{"$f":"'SKADEINFO FÖRSÄKRING'!D19","v":0},{"$f":"'SKADEINFO FÖRSÄKRING'!C19","v":"00:00:00"},{"$f":"'SKADEINFO FÖRSÄKRING'!E19","v":"00:00:00"},{"$f":"'SKADEINFO FÖRSÄKRING'!F19","v":0},{"$f":"'SKADEINFO FÖRSÄKRING'!G19","v":0},{"$f":"'SKADEINFO FÖRSÄKRING'!H19","v":0},{"$f":"'SKADEINFO FÖRSÄKRING'!I19","v":0},{"$f":"'SKADEINFO FÖRSÄKRING'!J19","v":0},{"$f":"'SKADEINFO FÖRSÄKRING'!K19","v":0},{"$f":"'SKADEINFO FÖRSÄKRING'!L19","v":0},{"$f":"'SKADEINFO FÖRSÄKRING'!M19","v":0},{"$f":"'SKADEINFO FÖRSÄKRING'!N19","v":0},{"$f":"'SKADEINFO FÖRSÄKRING'!O19","v":0},{"$f":"'SKADEINFO VAORG'!C19","v":"Fyll i…"},{"$f":"'SKADEINFO VAORG'!D19","v":"Välj…"},{"$f":"'SKADEINFO VAORG'!E19","v":"Välj…"},{"$f":"'SKADEINFO VAORG'!F19","v":"Välj…"},{"$f":"'SKADEINFO VAORG'!G19","v":"Välj…"},{"$f":"'SKADEINFO VAORG'!H19","v":"Välj…"},{"$f":"'SKADEINFO VAORG'!I19","v":"Välj…"},{"$f":"'SKADEINFO VAORG'!J19","v":"Välj…"},{"$f":"'SKADEINFO VAORG'!K19","v":"Välj…"},{"$f":"'SKADEINFO VAORG'!L19","v":"Välj…"},{"$f":"'SKADEINFO VAORG'!M19","v":"Välj…"},{"$f":"'SKADEINFO VAORG'!N19","v":"Skriv…"},{"$f":"'SKADEINFO VAORG'!O19","v":"Skriv…"},{"$f":"'SKADEINFO VAORG'!P19","v":"Välj…"},{"$f":"'SKADEINFO VAORG'!Q19","v":"Välj…"},{"$f":"'SKADEINFO VAORG'!R19","v":"Skriv…"},{"$f":"'SKADEINFO VAORG'!S19","v":"Skriv…"}]
[{"$f":"'BASINFO FÖRSÄKRING'!I20","v":0},{"$f":"'BASINFO FÖRSÄKRING'!G20","v":0},{"$f":"'BASINFO FÖRSÄKRING'!J20","v":0},{"$f":"'BASINFO FÖRSÄKRING'!K20","v":0},{"$f":"'BASINFO FÖRSÄKRING'!L20","v":0},{"$f":"'BASINFO VAORG'!I20","v":0},{"$f":"'BASINFO VAORG'!G20","v":"Skriv…"},{"$f":"'BASINFO VAORG'!J20","v":"Skriv…"},{"$f":"'BASINFO VAORG'!K20","v":"Skriv…"},{"$f":"'BASINFO VAORG'!L20","v":"Skriv…"},{"$f":"IF('BASINFO FÖRSÄKRING'!A20=0,'BASINFO VAORG'!A20,'BASINFO FÖRSÄKRING'!A20)","v":0},{"$f":"IF('BASINFO FÖRSÄKRING'!B20=0,'BASINFO VAORG'!B20,'BASINFO FÖRSÄKRING'!B20)","v":0},{"$f":"IF('BASINFO FÖRSÄKRING'!D20=0,'BASINFO VAORG'!C20,'BASINFO FÖRSÄKRING'!D20)","v":0},{"$f":"IF('BASINFO FÖRSÄKRING'!E20=0,'BASINFO VAORG'!D20,'BASINFO FÖRSÄKRING'!E20)","v":0},{"$f":"IF('BASINFO FÖRSÄKRING'!F20=0,'BASINFO VAORG'!E20,'BASINFO FÖRSÄKRING'!F20)","v":0},{"$f":"'SKADEINFO FÖRSÄKRING'!D20","v":0},{"$f":"'SKADEINFO FÖRSÄKRING'!C20","v":"00:00:00"},{"$f":"'SKADEINFO FÖRSÄKRING'!E20","v":"00:00:00"},{"$f":"'SKADEINFO FÖRSÄKRING'!F20","v":0},{"$f":"'SKADEINFO FÖRSÄKRING'!G20","v":0},{"$f":"'SKADEINFO FÖRSÄKRING'!H20","v":0},{"$f":"'SKADEINFO FÖRSÄKRING'!I20","v":0},{"$f":"'SKADEINFO FÖRSÄKRING'!J20","v":0},{"$f":"'SKADEINFO FÖRSÄKRING'!K20","v":0},{"$f":"'SKADEINFO FÖRSÄKRING'!L20","v":0},{"$f":"'SKADEINFO FÖRSÄKRING'!M20","v":0},{"$f":"'SKADEINFO FÖRSÄKRING'!N20","v":0},{"$f":"'SKADEINFO FÖRSÄKRING'!O20","v":0},{"$f":"'SKADEINFO VAORG'!C20","v":"Fyll i…"},{"$f":"'SKADEINFO VAORG'!D20","v":"Välj…"},{"$f":"'SKADEINFO VAORG'!E20","v":"Välj…"},{"$f":"'SKADEINFO VAORG'!F20","v":"Välj…"},{"$f":"'SKADEINFO VAORG'!G20","v":"Välj…"},{"$f":"'SKADEINFO VAORG'!H20","v":"Välj…"},{"$f":"'SKADEINFO VAORG'!I20","v":"Välj…"},{"$f":"'SKADEINFO VAORG'!J20","v":"Välj…"},{"$f":"'SKADEINFO VAORG'!K20","v":"Välj…"},{"$f":"'SKADEINFO VAORG'!L20","v":"Välj…"},{"$f":"'SKADEINFO VAORG'!M20","v":"Välj…"},{"$f":"'SKADEINFO VAORG'!N20","v":"Skriv…"},{"$f":"'SKADEINFO VAORG'!O20","v":"Skriv…"},{"$f":"'SKADEINFO VAORG'!P20","v":"Välj…"},{"$f":"'SKADEINFO VAORG'!Q20","v":"Välj…"},{"$f":"'SKADEINFO VAORG'!R20","v":"Skriv…"},{"$f":"'SKADEINFO VAORG'!S20","v":"Skriv…"}]
[{"$f":"'BASINFO FÖRSÄKRING'!I21","v":0},{"$f":"'BASINFO FÖRSÄKRING'!G21","v":0},{"$f":"'BASINFO FÖRSÄKRING'!J21","v":0},{"$f":"'BASINFO FÖRSÄKRING'!K21","v":0},{"$f":"'BASINFO FÖRSÄKRING'!L21","v":0},{"$f":"'BASINFO VAORG'!I21","v":0},{"$f":"'BASINFO VAORG'!G21","v":"Skriv…"},{"$f":"'BASINFO VAORG'!J21","v":"Skriv…"},{"$f":"'BASINFO VAORG'!K21","v":"Skriv…"},{"$f":"'BASINFO VAORG'!L21","v":"Skriv…"},{"$f":"IF('BASINFO FÖRSÄKRING'!A21=0,'BASINFO VAORG'!A21,'BASINFO FÖRSÄKRING'!A21)","v":0},{"$f":"IF('BASINFO FÖRSÄKRING'!B21=0,'BASINFO VAORG'!B21,'BASINFO FÖRSÄKRING'!B21)","v":0},{"$f":"IF('BASINFO FÖRSÄKRING'!D21=0,'BASINFO VAORG'!C21,'BASINFO FÖRSÄKRING'!D21)","v":0},{"$f":"IF('BASINFO FÖRSÄKRING'!E21=0,'BASINFO VAORG'!D21,'BASINFO FÖRSÄKRING'!E21)","v":0},{"$f":"IF('BASINFO FÖRSÄKRING'!F21=0,'BASINFO VAORG'!E21,'BASINFO FÖRSÄKRING'!F21)","v":0},{"$f":"'SKADEINFO FÖRSÄKRING'!D21","v":0},{"$f":"'SKADEINFO FÖRSÄKRING'!C21","v":"00:00:00"},{"$f":"'SKADEINFO FÖRSÄKRING'!E21","v":"00:00:00"},{"$f":"'SKADEINFO FÖRSÄKRING'!F21","v":0},{"$f":"'SKADEINFO FÖRSÄKRING'!G21","v":0},{"$f":"'SKADEINFO FÖRSÄKRING'!H21","v":0},{"$f":"'SKADEINFO FÖRSÄKRING'!I21","v":0},{"$f":"'SKADEINFO FÖRSÄKRING'!J21","v":0},{"$f":"'SKADEINFO FÖRSÄKRING'!K21","v":0},{"$f":"'SKADEINFO FÖRSÄKRING'!L21","v":0},{"$f":"'SKADEINFO FÖRSÄKRING'!M21","v":0},{"$f":"'SKADEINFO FÖRSÄKRING'!N21","v":0},{"$f":"'SKADEINFO FÖRSÄKRING'!O21","v":0},{"$f":"'SKADEINFO VAORG'!C21","v":"Fyll i…"},{"$f":"'SKADEINFO VAORG'!D21","v":"Välj…"},{"$f":"'SKADEINFO VAORG'!E21","v":"Välj…"},{"$f":"'SKADEINFO VAORG'!F21","v":"Välj…"},{"$f":"'SKADEINFO VAORG'!G21","v":"Välj…"},{"$f":"'SKADEINFO VAORG'!H21","v":"Välj…"},{"$f":"'SKADEINFO VAORG'!I21","v":"Välj…"},{"$f":"'SKADEINFO VAORG'!J21","v":"Välj…"},{"$f":"'SKADEINFO VAORG'!K21","v":"Välj…"},{"$f":"'SKADEINFO VAORG'!L21","v":"Välj…"},{"$f":"'SKADEINFO VAORG'!M21","v":"Välj…"},{"$f":"'SKADEINFO VAORG'!N21","v":"Skriv…"},{"$f":"'SKADEINFO VAORG'!O21","v":"Skriv…"},{"$f":"'SKADEINFO VAORG'!P21","v":"Välj…"},{"$f":"'SKADEINFO VAORG'!Q21","v":"Välj…"},{"$f":"'SKADEINFO VAORG'!R21","v":"Skriv…"},{"$f":"'SKADEINFO VAORG'!S21","v":"Skriv…"}]
[{"$f":"'BASINFO FÖRSÄKRING'!I22","v":0},{"$f":"'BASINFO FÖRSÄKRING'!G22","v":0},{"$f":"'BASINFO FÖRSÄKRING'!J22","v":0},{"$f":"'BASINFO FÖRSÄKRING'!K22","v":0},{"$f":"'BASINFO FÖRSÄKRING'!L22","v":0},{"$f":"'BASINFO VAORG'!I22","v":0},{"$f":"'BASINFO VAORG'!G22","v":"Skriv…"},{"$f":"'BASINFO VAORG'!J22","v":"Skriv…"},{"$f":"'BASINFO VAORG'!K22","v":"Skriv…"},{"$f":"'BASINFO VAORG'!L22","v":"Skriv…"},{"$f":"IF('BASINFO FÖRSÄKRING'!A22=0,'BASINFO VAORG'!A22,'BASINFO FÖRSÄKRING'!A22)","v":0},{"$f":"IF('BASINFO FÖRSÄKRING'!B22=0,'BASINFO VAORG'!B22,'BASINFO FÖRSÄKRING'!B22)","v":0},{"$f":"IF('BASINFO FÖRSÄKRING'!D22=0,'BASINFO VAORG'!C22,'BASINFO FÖRSÄKRING'!D22)","v":0},{"$f":"IF('BASINFO FÖRSÄKRING'!E22=0,'BASINFO VAORG'!D22,'BASINFO FÖRSÄKRING'!E22)","v":0},{"$f":"IF('BASINFO FÖRSÄKRING'!F22=0,'BASINFO VAORG'!E22,'BASINFO FÖRSÄKRING'!F22)","v":0},{"$f":"'SKADEINFO FÖRSÄKRING'!D22","v":0},{"$f":"'SKADEINFO FÖRSÄKRING'!C22","v":"00:00:00"},{"$f":"'SKADEINFO FÖRSÄKRING'!E22","v":"00:00:00"},{"$f":"'SKADEINFO FÖRSÄKRING'!F22","v":0},{"$f":"'SKADEINFO FÖRSÄKRING'!G22","v":0},{"$f":"'SKADEINFO FÖRSÄKRING'!H22","v":0},{"$f":"'SKADEINFO FÖRSÄKRING'!I22","v":0},{"$f":"'SKADEINFO FÖRSÄKRING'!J22","v":0},{"$f":"'SKADEINFO FÖRSÄKRING'!K22","v":0},{"$f":"'SKADEINFO FÖRSÄKRING'!L22","v":0},{"$f":"'SKADEINFO FÖRSÄKRING'!M22","v":0},{"$f":"'SKADEINFO FÖRSÄKRING'!N22","v":0},{"$f":"'SKADEINFO FÖRSÄKRING'!O22","v":0},{"$f":"'SKADEINFO VAORG'!C22","v":"Fyll i…"},{"$f":"'SKADEINFO VAORG'!D22","v":"Välj…"},{"$f":"'SKADEINFO VAORG'!E22","v":"Välj…"},{"$f":"'SKADEINFO VAORG'!F22","v":"Välj…"},{"$f":"'SKADEINFO VAORG'!G22","v":"Välj…"},{"$f":"'SKADEINFO VAORG'!H22","v":"Välj…"},{"$f":"'SKADEINFO VAORG'!I22","v":"Välj…"},{"$f":"'SKADEINFO VAORG'!J22","v":"Välj…"},{"$f":"'SKADEINFO VAORG'!K22","v":"Välj…"},{"$f":"'SKADEINFO VAORG'!L22","v":"Välj…"},{"$f":"'SKADEINFO VAORG'!M22","v":"Välj…"},{"$f":"'SKADEINFO VAORG'!N22","v":"Skriv…"},{"$f":"'SKADEINFO VAORG'!O22","v":"Skriv…"},{"$f":"'SKADEINFO VAORG'!P22","v":"Välj…"},{"$f":"'SKADEINFO VAORG'!Q22","v":"Välj…"},{"$f":"'SKADEINFO VAORG'!R22","v":"Skriv…"},{"$f":"'SKADEINFO VAORG'!S22","v":"Skriv…"}]
[{"$f":"'BASINFO FÖRSÄKRING'!I23","v":0},{"$f":"'BASINFO FÖRSÄKRING'!G23","v":0},{"$f":"'BASINFO FÖRSÄKRING'!J23","v":0},{"$f":"'BASINFO FÖRSÄKRING'!K23","v":0},{"$f":"'BASINFO FÖRSÄKRING'!L23","v":0},{"$f":"'BASINFO VAORG'!I23","v":0},{"$f":"'BASINFO VAORG'!G23","v":"Skriv…"},{"$f":"'BASINFO VAORG'!J23","v":"Skriv…"},{"$f":"'BASINFO VAORG'!K23","v":"Skriv…"},{"$f":"'BASINFO VAORG'!L23","v":"Skriv…"},{"$f":"IF('BASINFO FÖRSÄKRING'!A23=0,'BASINFO VAORG'!A23,'BASINFO FÖRSÄKRING'!A23)","v":0},{"$f":"IF('BASINFO FÖRSÄKRING'!B23=0,'BASINFO VAORG'!B23,'BASINFO FÖRSÄKRING'!B23)","v":0},{"$f":"IF('BASINFO FÖRSÄKRING'!D23=0,'BASINFO VAORG'!C23,'BASINFO FÖRSÄKRING'!D23)","v":0},{"$f":"IF('BASINFO FÖRSÄKRING'!E23=0,'BASINFO VAORG'!D23,'BASINFO FÖRSÄKRING'!E23)","v":0},{"$f":"IF('BASINFO FÖRSÄKRING'!F23=0,'BASINFO VAORG'!E23,'BASINFO FÖRSÄKRING'!F23)","v":0},{"$f":"'SKADEINFO FÖRSÄKRING'!D23","v":0},{"$f":"'SKADEINFO FÖRSÄKRING'!C23","v":"00:00:00"},{"$f":"'SKADEINFO FÖRSÄKRING'!E23","v":"00:00:00"},{"$f":"'SKADEINFO FÖRSÄKRING'!F23","v":0},{"$f":"'SKADEINFO FÖRSÄKRING'!G23","v":0},{"$f":"'SKADEINFO FÖRSÄKRING'!H23","v":0},{"$f":"'SKADEINFO FÖRSÄKRING'!I23","v":0},{"$f":"'SKADEINFO FÖRSÄKRING'!J23","v":0},{"$f":"'SKADEINFO FÖRSÄKRING'!K23","v":0},{"$f":"'SKADEINFO FÖRSÄKRING'!L23","v":0},{"$f":"'SKADEINFO FÖRSÄKRING'!M23","v":0},{"$f":"'SKADEINFO FÖRSÄKRING'!N23","v":0},{"$f":"'SKADEINFO FÖRSÄKRING'!O23","v":0},{"$f":"'SKADEINFO VAORG'!C23","v":"Fyll i…"},{"$f":"'SKADEINFO VAORG'!D23","v":"Välj…"},{"$f":"'SKADEINFO VAORG'!E23","v":"Välj…"},{"$f":"'SKADEINFO VAORG'!F23","v":"Välj…"},{"$f":"'SKADEINFO VAORG'!G23","v":"Välj…"},{"$f":"'SKADEINFO VAORG'!H23","v":"Välj…"},{"$f":"'SKADEINFO VAORG'!I23","v":"Välj…"},{"$f":"'SKADEINFO VAORG'!J23","v":"Välj…"},{"$f":"'SKADEINFO VAORG'!K23","v":"Välj…"},{"$f":"'SKADEINFO VAORG'!L23","v":"Välj…"},{"$f":"'SKADEINFO VAORG'!M23","v":"Välj…"},{"$f":"'SKADEINFO VAORG'!N23","v":"Skriv…"},{"$f":"'SKADEINFO VAORG'!O23","v":"Skriv…"},{"$f":"'SKADEINFO VAORG'!P23","v":"Välj…"},{"$f":"'SKADEINFO VAORG'!Q23","v":"Välj…"},{"$f":"'SKADEINFO VAORG'!R23","v":"Skriv…"},{"$f":"'SKADEINFO VAORG'!S23","v":"Skriv…"}]
[{"$f":"'BASINFO FÖRSÄKRING'!I24","v":0},{"$f":"'BASINFO FÖRSÄKRING'!G24","v":0},{"$f":"'BASINFO FÖRSÄKRING'!J24","v":0},{"$f":"'BASINFO FÖRSÄKRING'!K24","v":0},{"$f":"'BASINFO FÖRSÄKRING'!L24","v":0},{"$f":"'BASINFO VAORG'!I24","v":0},{"$f":"'BASINFO VAORG'!G24","v":"Skriv…"},{"$f":"'BASINFO VAORG'!J24","v":"Skriv…"},{"$f":"'BASINFO VAORG'!K24","v":"Skriv…"},{"$f":"'BASINFO VAORG'!L24","v":"Skriv…"},{"$f":"IF('BASINFO FÖRSÄKRING'!A24=0,'BASINFO VAORG'!A24,'BASINFO FÖRSÄKRING'!A24)","v":0},{"$f":"IF('BASINFO FÖRSÄKRING'!B24=0,'BASINFO VAORG'!B24,'BASINFO FÖRSÄKRING'!B24)","v":0},{"$f":"IF('BASINFO FÖRSÄKRING'!D24=0,'BASINFO VAORG'!C24,'BASINFO FÖRSÄKRING'!D24)","v":0},{"$f":"IF('BASINFO FÖRSÄKRING'!E24=0,'BASINFO VAORG'!D24,'BASINFO FÖRSÄKRING'!E24)","v":0},{"$f":"IF('BASINFO FÖRSÄKRING'!F24=0,'BASINFO VAORG'!E24,'BASINFO FÖRSÄKRING'!F24)","v":0},{"$f":"'SKADEINFO FÖRSÄKRING'!D24","v":0},{"$f":"'SKADEINFO FÖRSÄKRING'!C24","v":"00:00:00"},{"$f":"'SKADEINFO FÖRSÄKRING'!E24","v":"00:00:00"},{"$f":"'SKADEINFO FÖRSÄKRING'!F24","v":0},{"$f":"'SKADEINFO FÖRSÄKRING'!G24","v":0},{"$f":"'SKADEINFO FÖRSÄKRING'!H24","v":0},{"$f":"'SKADEINFO FÖRSÄKRING'!I24","v":0},{"$f":"'SKADEINFO FÖRSÄKRING'!J24","v":0},{"$f":"'SKADEINFO FÖRSÄKRING'!K24","v":0},{"$f":"'SKADEINFO FÖRSÄKRING'!L24","v":0},{"$f":"'SKADEINFO FÖRSÄKRING'!M24","v":0},{"$f":"'SKADEINFO FÖRSÄKRING'!N24","v":0},{"$f":"'SKADEINFO FÖRSÄKRING'!O24","v":0},{"$f":"'SKADEINFO VAORG'!C24","v":"Fyll i…"},{"$f":"'SKADEINFO VAORG'!D24","v":"Välj…"},{"$f":"'SKADEINFO VAORG'!E24","v":"Välj…"},{"$f":"'SKADEINFO VAORG'!F24","v":"Välj…"},{"$f":"'SKADEINFO VAORG'!G24","v":"Välj…"},{"$f":"'SKADEINFO VAORG'!H24","v":"Välj…"},{"$f":"'SKADEINFO VAORG'!I24","v":"Välj…"},{"$f":"'SKADEINFO VAORG'!J24","v":"Välj…"},{"$f":"'SKADEINFO VAORG'!K24","v":"Välj…"},{"$f":"'SKADEINFO VAORG'!L24","v":"Välj…"},{"$f":"'SKADEINFO VAORG'!M24","v":"Välj…"},{"$f":"'SKADEINFO VAORG'!N24","v":"Skriv…"},{"$f":"'SKADEINFO VAORG'!O24","v":"Skriv…"},{"$f":"'SKADEINFO VAORG'!P24","v":"Välj…"},{"$f":"'SKADEINFO VAORG'!Q24","v":"Välj…"},{"$f":"'SKADEINFO VAORG'!R24","v":"Skriv…"},{"$f":"'SKADEINFO VAORG'!S24","v":"Skriv…"}]
[{"$f":"'BASINFO FÖRSÄKRING'!I25","v":0},{"$f":"'BASINFO FÖRSÄKRING'!G25","v":0},{"$f":"'BASINFO FÖRSÄKRING'!J25","v":0},{"$f":"'BASINFO FÖRSÄKRING'!K25","v":0},{"$f":"'BASINFO FÖRSÄKRING'!L25","v":0},{"$f":"'BASINFO VAORG'!I25","v":0},{"$f":"'BASINFO VAORG'!G25","v":"Skriv…"},{"$f":"'BASINFO VAORG'!J25","v":"Skriv…"},{"$f":"'BASINFO VAORG'!K25","v":"Skriv…"},{"$f":"'BASINFO VAORG'!L25","v":"Skriv…"},{"$f":"IF('BASINFO FÖRSÄKRING'!A25=0,'BASINFO VAORG'!A25,'BASINFO FÖRSÄKRING'!A25)","v":0},{"$f":"IF('BASINFO FÖRSÄKRING'!B25=0,'BASINFO VAORG'!B25,'BASINFO FÖRSÄKRING'!B25)","v":0},{"$f":"IF('BASINFO FÖRSÄKRING'!D25=0,'BASINFO VAORG'!C25,'BASINFO FÖRSÄKRING'!D25)","v":0},{"$f":"IF('BASINFO FÖRSÄKRING'!E25=0,'BASINFO VAORG'!D25,'BASINFO FÖRSÄKRING'!E25)","v":0},{"$f":"IF('BASINFO FÖRSÄKRING'!F25=0,'BASINFO VAORG'!E25,'BASINFO FÖRSÄKRING'!F25)","v":0},{"$f":"'SKADEINFO FÖRSÄKRING'!D25","v":0},{"$f":"'SKADEINFO FÖRSÄKRING'!C25","v":"00:00:00"},{"$f":"'SKADEINFO FÖRSÄKRING'!E25","v":"00:00:00"},{"$f":"'SKADEINFO FÖRSÄKRING'!F25","v":0},{"$f":"'SKADEINFO FÖRSÄKRING'!G25","v":0},{"$f":"'SKADEINFO FÖRSÄKRING'!H25","v":0},{"$f":"'SKADEINFO FÖRSÄKRING'!I25","v":0},{"$f":"'SKADEINFO FÖRSÄKRING'!J25","v":0},{"$f":"'SKADEINFO FÖRSÄKRING'!K25","v":0},{"$f":"'SKADEINFO FÖRSÄKRING'!L25","v":0},{"$f":"'SKADEINFO FÖRSÄKRING'!M25","v":0},{"$f":"'SKADEINFO FÖRSÄKRING'!N25","v":0},{"$f":"'SKADEINFO FÖRSÄKRING'!O25","v":0},{"$f":"'SKADEINFO VAORG'!C25","v":"Fyll i…"},{"$f":"'SKADEINFO VAORG'!D25","v":"Välj…"},{"$f":"'SKADEINFO VAORG'!E25","v":"Välj…"},{"$f":"'SKADEINFO VAORG'!F25","v":"Välj…"},{"$f":"'SKADEINFO VAORG'!G25","v":"Välj…"},{"$f":"'SKADEINFO VAORG'!H25","v":"Välj…"},{"$f":"'SKADEINFO VAORG'!I25","v":"Välj…"},{"$f":"'SKADEINFO VAORG'!J25","v":"Välj…"},{"$f":"'SKADEINFO VAORG'!K25","v":"Välj…"},{"$f":"'SKADEINFO VAORG'!L25","v":"Välj…"},{"$f":"'SKADEINFO VAORG'!M25","v":"Välj…"},{"$f":"'SKADEINFO VAORG'!N25","v":"Skriv…"},{"$f":"'SKADEINFO VAORG'!O25","v":"Skriv…"},{"$f":"'SKADEINFO VAORG'!P25","v":"Välj…"},{"$f":"'SKADEINFO VAORG'!Q25","v":"Välj…"},{"$f":"'SKADEINFO VAORG'!R25","v":"Skriv…"},{"$f":"'SKADEINFO VAORG'!S25","v":"Skriv…"}]
[{"$f":"'BASINFO FÖRSÄKRING'!I26","v":0},{"$f":"'BASINFO FÖRSÄKRING'!G26","v":0},{"$f":"'BASINFO FÖRSÄKRING'!J26","v":0},{"$f":"'BASINFO FÖRSÄKRING'!K26","v":0},{"$f":"'BASINFO FÖRSÄKRING'!L26","v":0},{"$f":"'BASINFO VAORG'!I26","v":0},{"$f":"'BASINFO VAORG'!G26","v":"Skriv…"},{"$f":"'BASINFO VAORG'!J26","v":"Skriv…"},{"$f":"'BASINFO VAORG'!K26","v":"Skriv…"},{"$f":"'BASINFO VAORG'!L26","v":"Skriv…"},{"$f":"IF('BASINFO FÖRSÄKRING'!A26=0,'BASINFO VAORG'!A26,'BASINFO FÖRSÄKRING'!A26)","v":0},{"$f":"IF('BASINFO FÖRSÄKRING'!B26=0,'BASINFO VAORG'!B26,'BASINFO FÖRSÄKRING'!B26)","v":0},{"$f":"IF('BASINFO FÖRSÄKRING'!D26=0,'BASINFO VAORG'!C26,'BASINFO FÖRSÄKRING'!D26)","v":0},{"$f":"IF('BASINFO FÖRSÄKRING'!E26=0,'BASINFO VAORG'!D26,'BASINFO FÖRSÄKRING'!E26)","v":0},{"$f":"IF('BASINFO FÖRSÄKRING'!F26=0,'BASINFO VAORG'!E26,'BASINFO FÖRSÄKRING'!F26)","v":0},{"$f":"'SKADEINFO FÖRSÄKRING'!D26","v":0},{"$f":"'SKADEINFO FÖRSÄKRING'!C26","v":"00:00:00"},{"$f":"'SKADEINFO FÖRSÄKRING'!E26","v":"00:00:00"},{"$f":"'SKADEINFO FÖRSÄKRING'!F26","v":0},{"$f":"'SKADEINFO FÖRSÄKRING'!G26","v":0},{"$f":"'SKADEINFO FÖRSÄKRING'!H26","v":0},{"$f":"'SKADEINFO FÖRSÄKRING'!I26","v":0},{"$f":"'SKADEINFO FÖRSÄKRING'!J26","v":0},{"$f":"'SKADEINFO FÖRSÄKRING'!K26","v":0},{"$f":"'SKADEINFO FÖRSÄKRING'!L26","v":0},{"$f":"'SKADEINFO FÖRSÄKRING'!M26","v":0},{"$f":"'SKADEINFO FÖRSÄKRING'!N26","v":0},{"$f":"'SKADEINFO FÖRSÄKRING'!O26","v":0},{"$f":"'SKADEINFO VAORG'!C26","v":"Fyll i…"},{"$f":"'SKADEINFO VAORG'!D26","v":"Välj…"},{"$f":"'SKADEINFO VAORG'!E26","v":"Välj…"},{"$f":"'SKADEINFO VAORG'!F26","v":"Välj…"},{"$f":"'SKADEINFO VAORG'!G26","v":"Välj…"},{"$f":"'SKADEINFO VAORG'!H26","v":"Välj…"},{"$f":"'SKADEINFO VAORG'!I26","v":"Välj…"},{"$f":"'SKADEINFO VAORG'!J26","v":"Välj…"},{"$f":"'SKADEINFO VAORG'!K26","v":"Välj…"},{"$f":"'SKADEINFO VAORG'!L26","v":"Välj…"},{"$f":"'SKADEINFO VAORG'!M26","v":"Välj…"},{"$f":"'SKADEINFO VAORG'!N26","v":"Skriv…"},{"$f":"'SKADEINFO VAORG'!O26","v":"Skriv…"},{"$f":"'SKADEINFO VAORG'!P26","v":"Välj…"},{"$f":"'SKADEINFO VAORG'!Q26","v":"Välj…"},{"$f":"'SKADEINFO VAORG'!R26","v":"Skriv…"},{"$f":"'SKADEINFO VAORG'!S26","v":"Skriv…"}]
[{"$f":"'BASINFO FÖRSÄKRING'!I27","v":0},{"$f":"'BASINFO FÖRSÄKRING'!G27","v":0},{"$f":"'BASINFO FÖRSÄKRING'!J27","v":0},{"$f":"'BASINFO FÖRSÄKRING'!K27","v":0},{"$f":"'BASINFO FÖRSÄKRING'!L27","v":0},{"$f":"'BASINFO VAORG'!I27","v":0},{"$f":"'BASINFO VAORG'!G27","v":"Skriv…"},{"$f":"'BASINFO VAORG'!J27","v":"Skriv…"},{"$f":"'BASINFO VAORG'!K27","v":"Skriv…"},{"$f":"'BASINFO VAORG'!L27","v":"Skriv…"},{"$f":"IF('BASINFO FÖRSÄKRING'!A27=0,'BASINFO VAORG'!A27,'BASINFO FÖRSÄKRING'!A27)","v":0},{"$f":"IF('BASINFO FÖRSÄKRING'!B27=0,'BASINFO VAORG'!B27,'BASINFO FÖRSÄKRING'!B27)","v":0},{"$f":"IF('BASINFO FÖRSÄKRING'!D27=0,'BASINFO VAORG'!C27,'BASINFO FÖRSÄKRING'!D27)","v":0},{"$f":"IF('BASINFO FÖRSÄKRING'!E27=0,'BASINFO VAORG'!D27,'BASINFO FÖRSÄKRING'!E27)","v":0},{"$f":"IF('BASINFO FÖRSÄKRING'!F27=0,'BASINFO VAORG'!E27,'BASINFO FÖRSÄKRING'!F27)","v":0},{"$f":"'SKADEINFO FÖRSÄKRING'!D27","v":0},{"$f":"'SKADEINFO FÖRSÄKRING'!C27","v":"00:00:00"},{"$f":"'SKADEINFO FÖRSÄKRING'!E27","v":"00:00:00"},{"$f":"'SKADEINFO FÖRSÄKRING'!F27","v":0},{"$f":"'SKADEINFO FÖRSÄKRING'!G27","v":0},{"$f":"'SKADEINFO FÖRSÄKRING'!H27","v":0},{"$f":"'SKADEINFO FÖRSÄKRING'!I27","v":0},{"$f":"'SKADEINFO FÖRSÄKRING'!J27","v":0},{"$f":"'SKADEINFO FÖRSÄKRING'!K27","v":0},{"$f":"'SKADEINFO FÖRSÄKRING'!L27","v":0},{"$f":"'SKADEINFO FÖRSÄKRING'!M27","v":0},{"$f":"'SKADEINFO FÖRSÄKRING'!N27","v":0},{"$f":"'SKADEINFO FÖRSÄKRING'!O27","v":0},{"$f":"'SKADEINFO VAORG'!C27","v":"Fyll i…"},{"$f":"'SKADEINFO VAORG'!D27","v":"Välj…"},{"$f":"'SKADEINFO VAORG'!E27","v":"Välj…"},{"$f":"'SKADEINFO VAORG'!F27","v":"Välj…"},{"$f":"'SKADEINFO VAORG'!G27","v":"Välj…"},{"$f":"'SKADEINFO VAORG'!H27","v":"Välj…"},{"$f":"'SKADEINFO VAORG'!I27","v":"Välj…"},{"$f":"'SKADEINFO VAORG'!J27","v":"Välj…"},{"$f":"'SKADEINFO VAORG'!K27","v":"Välj…"},{"$f":"'SKADEINFO VAORG'!L27","v":"Välj…"},{"$f":"'SKADEINFO VAORG'!M27","v":"Välj…"},{"$f":"'SKADEINFO VAORG'!N27","v":"Skriv…"},{"$f":"'SKADEINFO VAORG'!O27","v":"Skriv…"},{"$f":"'SKADEINFO VAORG'!P27","v":"Välj…"},{"$f":"'SKADEINFO VAORG'!Q27","v":"Välj…"},{"$f":"'SKADEINFO VAORG'!R27","v":"Skriv…"},{"$f":"'SKADEINFO VAORG'!S27","v":"Skriv…"}]
[{"$f":"'BASINFO FÖRSÄKRING'!I28","v":0},{"$f":"'BASINFO FÖRSÄKRING'!G28","v":0},{"$f":"'BASINFO FÖRSÄKRING'!J28","v":0},{"$f":"'BASINFO FÖRSÄKRING'!K28","v":0},{"$f":"'BASINFO FÖRSÄKRING'!L28","v":0},{"$f":"'BASINFO VAORG'!I28","v":0},{"$f":"'BASINFO VAORG'!G28","v":"Skriv…"},{"$f":"'BASINFO VAORG'!J28","v":"Skriv…"},{"$f":"'BASINFO VAORG'!K28","v":"Skriv…"},{"$f":"'BASINFO VAORG'!L28","v":"Skriv…"},{"$f":"IF('BASINFO FÖRSÄKRING'!A28=0,'BASINFO VAORG'!A28,'BASINFO FÖRSÄKRING'!A28)","v":0},{"$f":"IF('BASINFO FÖRSÄKRING'!B28=0,'BASINFO VAORG'!B28,'BASINFO FÖRSÄKRING'!B28)","v":0},{"$f":"IF('BASINFO FÖRSÄKRING'!D28=0,'BASINFO VAORG'!C28,'BASINFO FÖRSÄKRING'!D28)","v":0},{"$f":"IF('BASINFO FÖRSÄKRING'!E28=0,'BASINFO VAORG'!D28,'BASINFO FÖRSÄKRING'!E28)","v":0},{"$f":"IF('BASINFO FÖRSÄKRING'!F28=0,'BASINFO VAORG'!E28,'BASINFO FÖRSÄKRING'!F28)","v":0},{"$f":"'SKADEINFO FÖRSÄKRING'!D28","v":0},{"$f":"'SKADEINFO FÖRSÄKRING'!C28","v":"00:00:00"},{"$f":"'SKADEINFO FÖRSÄKRING'!E28","v":"00:00:00"},{"$f":"'SKADEINFO FÖRSÄKRING'!F28","v":0},{"$f":"'SKADEINFO FÖRSÄKRING'!G28","v":0},{"$f":"'SKADEINFO FÖRSÄKRING'!H28","v":0},{"$f":"'SKADEINFO FÖRSÄKRING'!I28","v":0},{"$f":"'SKADEINFO FÖRSÄKRING'!J28","v":0},{"$f":"'SKADEINFO FÖRSÄKRING'!K28","v":0},{"$f":"'SKADEINFO FÖRSÄKRING'!L28","v":0},{"$f":"'SKADEINFO FÖRSÄKRING'!M28","v":0},{"$f":"'SKADEINFO FÖRSÄKRING'!N28","v":0},{"$f":"'SKADEINFO FÖRSÄKRING'!O28","v":0},{"$f":"'SKADEINFO VAORG'!C28","v":"Fyll i…"},{"$f":"'SKADEINFO VAORG'!D28","v":"Välj…"},{"$f":"'SKADEINFO VAORG'!E28","v":"Välj…"},{"$f":"'SKADEINFO VAORG'!F28","v":"Välj…"},{"$f":"'SKADEINFO VAORG'!G28","v":"Välj…"},{"$f":"'SKADEINFO VAORG'!H28","v":"Välj…"},{"$f":"'SKADEINFO VAORG'!I28","v":"Välj…"},{"$f":"'SKADEINFO VAORG'!J28","v":"Välj…"},{"$f":"'SKADEINFO VAORG'!K28","v":"Välj…"},{"$f":"'SKADEINFO VAORG'!L28","v":"Välj…"},{"$f":"'SKADEINFO VAORG'!M28","v":"Välj…"},{"$f":"'SKADEINFO VAORG'!N28","v":"Skriv…"},{"$f":"'SKADEINFO VAORG'!O28","v":"Skriv…"},{"$f":"'SKADEINFO VAORG'!P28","v":"Välj…"},{"$f":"'SKADEINFO VAORG'!Q28","v":"Välj…"},{"$f":"'SKADEINFO VAORG'!R28","v":"Skriv…"},{"$f":"'SKADEINFO VAORG'!S28","v":"Skriv…"}]
[{"$f":"'BASINFO FÖRSÄKRING'!I29","v":0},{"$f":"'BASINFO FÖRSÄKRING'!G29","v":0},{"$f":"'BASINFO FÖRSÄKRING'!J29","v":0},{"$f":"'BASINFO FÖRSÄKRING'!K29","v":0},{"$f":"'BASINFO FÖRSÄKRING'!L29","v":0},{"$f":"'BASINFO VAORG'!I29","v":0},{"$f":"'BASINFO VAORG'!G29","v":"Skriv…"},{"$f":"'BASINFO VAORG'!J29","v":"Skriv…"},{"$f":"'BASINFO VAORG'!K29","v":"Skriv…"},{"$f":"'BASINFO VAORG'!L29","v":"Skriv…"},{"$f":"IF('BASINFO FÖRSÄKRING'!A29=0,'BASINFO VAORG'!A29,'BASINFO FÖRSÄKRING'!A29)","v":0},{"$f":"IF('BASINFO FÖRSÄKRING'!B29=0,'BASINFO VAORG'!B29,'BASINFO FÖRSÄKRING'!B29)","v":0},{"$f":"IF('BASINFO FÖRSÄKRING'!D29=0,'BASINFO VAORG'!C29,'BASINFO FÖRSÄKRING'!D29)","v":0},{"$f":"IF('BASINFO FÖRSÄKRING'!E29=0,'BASINFO VAORG'!D29,'BASINFO FÖRSÄKRING'!E29)","v":0},{"$f":"IF('BASINFO FÖRSÄKRING'!F29=0,'BASINFO VAORG'!E29,'BASINFO FÖRSÄKRING'!F29)","v":0},{"$f":"'SKADEINFO FÖRSÄKRING'!D29","v":0},{"$f":"'SKADEINFO FÖRSÄKRING'!C29","v":"00:00:00"},{"$f":"'SKADEINFO FÖRSÄKRING'!E29","v":"00:00:00"},{"$f":"'SKADEINFO FÖRSÄKRING'!F29","v":0},{"$f":"'SKADEINFO FÖRSÄKRING'!G29","v":0},{"$f":"'SKADEINFO FÖRSÄKRING'!H29","v":0},{"$f":"'SKADEINFO FÖRSÄKRING'!I29","v":0},{"$f":"'SKADEINFO FÖRSÄKRING'!J29","v":0},{"$f":"'SKADEINFO FÖRSÄKRING'!K29","v":0},{"$f":"'SKADEINFO FÖRSÄKRING'!L29","v":0},{"$f":"'SKADEINFO FÖRSÄKRING'!M29","v":0},{"$f":"'SKADEINFO FÖRSÄKRING'!N29","v":0},{"$f":"'SKADEINFO FÖRSÄKRING'!O29","v":0},{"$f":"'SKADEINFO VAORG'!C29","v":"Fyll i…"},{"$f":"'SKADEINFO VAORG'!D29","v":"Välj…"},{"$f":"'SKADEINFO VAORG'!E29","v":"Välj…"},{"$f":"'SKADEINFO VAORG'!F29","v":"Välj…"},{"$f":"'SKADEINFO VAORG'!G29","v":"Välj…"},{"$f":"'SKADEINFO VAORG'!H29","v":"Välj…"},{"$f":"'SKADEINFO VAORG'!I29","v":"Välj…"},{"$f":"'SKADEINFO VAORG'!J29","v":"Välj…"},{"$f":"'SKADEINFO VAORG'!K29","v":"Välj…"},{"$f":"'SKADEINFO VAORG'!L29","v":"Välj…"},{"$f":"'SKADEINFO VAORG'!M29","v":"Välj…"},{"$f":"'SKADEINFO VAORG'!N29","v":"Skriv…"},{"$f":"'SKADEINFO VAORG'!O29","v":"Skriv…"},{"$f":"'SKADEINFO VAORG'!P29","v":"Välj…"},{"$f":"'SKADEINFO VAORG'!Q29","v":"Välj…"},{"$f":"'SKADEINFO VAORG'!R29","v":"Skriv…"},{"$f":"'SKADEINFO VAORG'!S29","v":"Skriv…"}]
[{"$f":"'BASINFO FÖRSÄKRING'!I30","v":0},{"$f":"'BASINFO FÖRSÄKRING'!G30","v":0},{"$f":"'BASINFO FÖRSÄKRING'!J30","v":0},{"$f":"'BASINFO FÖRSÄKRING'!K30","v":0},{"$f":"'BASINFO FÖRSÄKRING'!L30","v":0},{"$f":"'BASINFO VAORG'!I30","v":0},{"$f":"'BASINFO VAORG'!G30","v":"Skriv…"},{"$f":"'BASINFO VAORG'!J30","v":"Skriv…"},{"$f":"'BASINFO VAORG'!K30","v":"Skriv…"},{"$f":"'BASINFO VAORG'!L30","v":"Skriv…"},{"$f":"IF('BASINFO FÖRSÄKRING'!A30=0,'BASINFO VAORG'!A30,'BASINFO FÖRSÄKRING'!A30)","v":0},{"$f":"IF('BASINFO FÖRSÄKRING'!B30=0,'BASINFO VAORG'!B30,'BASINFO FÖRSÄKRING'!B30)","v":0},{"$f":"IF('BASINFO FÖRSÄKRING'!D30=0,'BASINFO VAORG'!C30,'BASINFO FÖRSÄKRING'!D30)","v":0},{"$f":"IF('BASINFO FÖRSÄKRING'!E30=0,'BASINFO VAORG'!D30,'BASINFO FÖRSÄKRING'!E30)","v":0},{"$f":"IF('BASINFO FÖRSÄKRING'!F30=0,'BASINFO VAORG'!E30,'BASINFO FÖRSÄKRING'!F30)","v":0},{"$f":"'SKADEINFO FÖRSÄKRING'!D30","v":0},{"$f":"'SKADEINFO FÖRSÄKRING'!C30","v":"00:00:00"},{"$f":"'SKADEINFO FÖRSÄKRING'!E30","v":"00:00:00"},{"$f":"'SKADEINFO FÖRSÄKRING'!F30","v":0},{"$f":"'SKADEINFO FÖRSÄKRING'!G30","v":0},{"$f":"'SKADEINFO FÖRSÄKRING'!H30","v":0},{"$f":"'SKADEINFO FÖRSÄKRING'!I30","v":0},{"$f":"'SKADEINFO FÖRSÄKRING'!J30","v":0},{"$f":"'SKADEINFO FÖRSÄKRING'!K30","v":0},{"$f":"'SKADEINFO FÖRSÄKRING'!L30","v":0},{"$f":"'SKADEINFO FÖRSÄKRING'!M30","v":0},{"$f":"'SKADEINFO FÖRSÄKRING'!N30","v":0},{"$f":"'SKADEINFO FÖRSÄKRING'!O30","v":0},{"$f":"'SKADEINFO VAORG'!C30","v":"Fyll i…"},{"$f":"'SKADEINFO VAORG'!D30","v":"Välj…"},{"$f":"'SKADEINFO VAORG'!E30","v":"Välj…"},{"$f":"'SKADEINFO VAORG'!F30","v":"Välj…"},{"$f":"'SKADEINFO VAORG'!G30","v":"Välj…"},{"$f":"'SKADEINFO VAORG'!H30","v":"Välj…"},{"$f":"'SKADEINFO VAORG'!I30","v":"Välj…"},{"$f":"'SKADEINFO VAORG'!J30","v":"Välj…"},{"$f":"'SKADEINFO VAORG'!K30","v":"Välj…"},{"$f":"'SKADEINFO VAORG'!L30","v":"Välj…"},{"$f":"'SKADEINFO VAORG'!M30","v":"Välj…"},{"$f":"'SKADEINFO VAORG'!N30","v":"Skriv…"},{"$f":"'SKADEINFO VAORG'!O30","v":"Skriv…"},{"$f":"'SKADEINFO VAORG'!P30","v":"Välj…"},{"$f":"'SKADEINFO VAORG'!Q30","v":"Välj…"},{"$f":"'SKADEINFO VAORG'!R30","v":"Skriv…"},{"$f":"'SKADEINFO VAORG'!S30","v":"Skriv…"}]
[{"$f":"'BASINFO FÖRSÄKRING'!I31","v":0},{"$f":"'BASINFO FÖRSÄKRING'!G31","v":0},{"$f":"'BASINFO FÖRSÄKRING'!J31","v":0},{"$f":"'BASINFO FÖRSÄKRING'!K31","v":0},{"$f":"'BASINFO FÖRSÄKRING'!L31","v":0},{"$f":"'BASINFO VAORG'!I31","v":0},{"$f":"'BASINFO VAORG'!G31","v":"Skriv…"},{"$f":"'BASINFO VAORG'!J31","v":"Skriv…"},{"$f":"'BASINFO VAORG'!K31","v":"Skriv…"},{"$f":"'BASINFO VAORG'!L31","v":"Skriv…"},{"$f":"IF('BASINFO FÖRSÄKRING'!A31=0,'BASINFO VAORG'!A31,'BASINFO FÖRSÄKRING'!A31)","v":0},{"$f":"IF('BASINFO FÖRSÄKRING'!B31=0,'BASINFO VAORG'!B31,'BASINFO FÖRSÄKRING'!B31)","v":0},{"$f":"IF('BASINFO FÖRSÄKRING'!D31=0,'BASINFO VAORG'!C31,'BASINFO FÖRSÄKRING'!D31)","v":0},{"$f":"IF('BASINFO FÖRSÄKRING'!E31=0,'BASINFO VAORG'!D31,'BASINFO FÖRSÄKRING'!E31)","v":0},{"$f":"IF('BASINFO FÖRSÄKRING'!F31=0,'BASINFO VAORG'!E31,'BASINFO FÖRSÄKRING'!F31)","v":0},{"$f":"'SKADEINFO FÖRSÄKRING'!D31","v":0},{"$f":"'SKADEINFO FÖRSÄKRING'!C31","v":"00:00:00"},{"$f":"'SKADEINFO FÖRSÄKRING'!E31","v":"00:00:00"},{"$f":"'SKADEINFO FÖRSÄKRING'!F31","v":0},{"$f":"'SKADEINFO FÖRSÄKRING'!G31","v":0},{"$f":"'SKADEINFO FÖRSÄKRING'!H31","v":0},{"$f":"'SKADEINFO FÖRSÄKRING'!I31","v":0},{"$f":"'SKADEINFO FÖRSÄKRING'!J31","v":0},{"$f":"'SKADEINFO FÖRSÄKRING'!K31","v":0},{"$f":"'SKADEINFO FÖRSÄKRING'!L31","v":0},{"$f":"'SKADEINFO FÖRSÄKRING'!M31","v":0},{"$f":"'SKADEINFO FÖRSÄKRING'!N31","v":0},{"$f":"'SKADEINFO FÖRSÄKRING'!O31","v":0},{"$f":"'SKADEINFO VAORG'!C31","v":"Fyll i…"},{"$f":"'SKADEINFO VAORG'!D31","v":"Välj…"},{"$f":"'SKADEINFO VAORG'!E31","v":"Välj…"},{"$f":"'SKADEINFO VAORG'!F31","v":"Välj…"},{"$f":"'SKADEINFO VAORG'!G31","v":"Välj…"},{"$f":"'SKADEINFO VAORG'!H31","v":"Välj…"},{"$f":"'SKADEINFO VAORG'!I31","v":"Välj…"},{"$f":"'SKADEINFO VAORG'!J31","v":"Välj…"},{"$f":"'SKADEINFO VAORG'!K31","v":"Välj…"},{"$f":"'SKADEINFO VAORG'!L31","v":"Välj…"},{"$f":"'SKADEINFO VAORG'!M31","v":"Välj…"},{"$f":"'SKADEINFO VAORG'!N31","v":"Skriv…"},{"$f":"'SKADEINFO VAORG'!O31","v":"Skriv…"},{"$f":"'SKADEINFO VAORG'!P31","v":"Välj…"},{"$f":"'SKADEINFO VAORG'!Q31","v":"Välj…"},{"$f":"'SKADEINFO VAORG'!R31","v":"Skriv…"},{"$f":"'SKADEINFO VAORG'!S31","v":"Skriv…"}]
[{"$f":"'BASINFO FÖRSÄKRING'!I32","v":0},{"$f":"'BASINFO FÖRSÄKRING'!G32","v":0},{"$f":"'BASINFO FÖRSÄKRING'!J32","v":0},{"$f":"'BASINFO FÖRSÄKRING'!K32","v":0},{"$f":"'BASINFO FÖRSÄKRING'!L32","v":0},{"$f":"'BASINFO VAORG'!I32","v":0},{"$f":"'BASINFO VAORG'!G32","v":"Skriv…"},{"$f":"'BASINFO VAORG'!J32","v":"Skriv…"},{"$f":"'BASINFO VAORG'!K32","v":"Skriv…"},{"$f":"'BASINFO VAORG'!L32","v":"Skriv…"},{"$f":"IF('BASINFO FÖRSÄKRING'!A32=0,'BASINFO VAORG'!A32,'BASINFO FÖRSÄKRING'!A32)","v":0},{"$f":"IF('BASINFO FÖRSÄKRING'!B32=0,'BASINFO VAORG'!B32,'BASINFO FÖRSÄKRING'!B32)","v":0},{"$f":"IF('BASINFO FÖRSÄKRING'!D32=0,'BASINFO VAORG'!C32,'BASINFO FÖRSÄKRING'!D32)","v":0},{"$f":"IF('BASINFO FÖRSÄKRING'!E32=0,'BASINFO VAORG'!D32,'BASINFO FÖRSÄKRING'!E32)","v":0},{"$f":"IF('BASINFO FÖRSÄKRING'!F32=0,'BASINFO VAORG'!E32,'BASINFO FÖRSÄKRING'!F32)","v":0},{"$f":"'SKADEINFO FÖRSÄKRING'!D32","v":0},{"$f":"'SKADEINFO FÖRSÄKRING'!C32","v":"00:00:00"},{"$f":"'SKADEINFO FÖRSÄKRING'!E32","v":"00:00:00"},{"$f":"'SKADEINFO FÖRSÄKRING'!F32","v":0},{"$f":"'SKADEINFO FÖRSÄKRING'!G32","v":0},{"$f":"'SKADEINFO FÖRSÄKRING'!H32","v":0},{"$f":"'SKADEINFO FÖRSÄKRING'!I32","v":0},{"$f":"'SKADEINFO FÖRSÄKRING'!J32","v":0},{"$f":"'SKADEINFO FÖRSÄKRING'!K32","v":0},{"$f":"'SKADEINFO FÖRSÄKRING'!L32","v":0},{"$f":"'SKADEINFO FÖRSÄKRING'!M32","v":0},{"$f":"'SKADEINFO FÖRSÄKRING'!N32","v":0},{"$f":"'SKADEINFO FÖRSÄKRING'!O32","v":0},{"$f":"'SKADEINFO VAORG'!C32","v":"Fyll i…"},{"$f":"'SKADEINFO VAORG'!D32","v":"Välj…"},{"$f":"'SKADEINFO VAORG'!E32","v":"Välj…"},{"$f":"'SKADEINFO VAORG'!F32","v":"Välj…"},{"$f":"'SKADEINFO VAORG'!G32","v":"Välj…"},{"$f":"'SKADEINFO VAORG'!H32","v":"Välj…"},{"$f":"'SKADEINFO VAORG'!I32","v":"Välj…"},{"$f":"'SKADEINFO VAORG'!J32","v":"Välj…"},{"$f":"'SKADEINFO VAORG'!K32","v":"Välj…"},{"$f":"'SKADEINFO VAORG'!L32","v":"Välj…"},{"$f":"'SKADEINFO VAORG'!M32","v":"Välj…"},{"$f":"'SKADEINFO VAORG'!N32","v":"Skriv…"},{"$f":"'SKADEINFO VAORG'!O32","v":"Skriv…"},{"$f":"'SKADEINFO VAORG'!P32","v":"Välj…"},{"$f":"'SKADEINFO VAORG'!Q32","v":"Välj…"},{"$f":"'SKADEINFO VAORG'!R32","v":"Skriv…"},{"$f":"'SKADEINFO VAORG'!S32","v":"Skriv…"}]
[{"$f":"'BASINFO FÖRSÄKRING'!I33","v":0},{"$f":"'BASINFO FÖRSÄKRING'!G33","v":0},{"$f":"'BASINFO FÖRSÄKRING'!J33","v":0},{"$f":"'BASINFO FÖRSÄKRING'!K33","v":0},{"$f":"'BASINFO FÖRSÄKRING'!L33","v":0},{"$f":"'BASINFO VAORG'!I33","v":0},{"$f":"'BASINFO VAORG'!G33","v":"Skriv…"},{"$f":"'BASINFO VAORG'!J33","v":"Skriv…"},{"$f":"'BASINFO VAORG'!K33","v":"Skriv…"},{"$f":"'BASINFO VAORG'!L33","v":"Skriv…"},{"$f":"IF('BASINFO FÖRSÄKRING'!A33=0,'BASINFO VAORG'!A33,'BASINFO FÖRSÄKRING'!A33)","v":0},{"$f":"IF('BASINFO FÖRSÄKRING'!B33=0,'BASINFO VAORG'!B33,'BASINFO FÖRSÄKRING'!B33)","v":0},{"$f":"IF('BASINFO FÖRSÄKRING'!D33=0,'BASINFO VAORG'!C33,'BASINFO FÖRSÄKRING'!D33)","v":0},{"$f":"IF('BASINFO FÖRSÄKRING'!E33=0,'BASINFO VAORG'!D33,'BASINFO FÖRSÄKRING'!E33)","v":0},{"$f":"IF('BASINFO FÖRSÄKRING'!F33=0,'BASINFO VAORG'!E33,'BASINFO FÖRSÄKRING'!F33)","v":0},{"$f":"'SKADEINFO FÖRSÄKRING'!D33","v":0},{"$f":"'SKADEINFO FÖRSÄKRING'!C33","v":"00:00:00"},{"$f":"'SKADEINFO FÖRSÄKRING'!E33","v":"00:00:00"},{"$f":"'SKADEINFO FÖRSÄKRING'!F33","v":0},{"$f":"'SKADEINFO FÖRSÄKRING'!G33","v":0},{"$f":"'SKADEINFO FÖRSÄKRING'!H33","v":0},{"$f":"'SKADEINFO FÖRSÄKRING'!I33","v":0},{"$f":"'SKADEINFO FÖRSÄKRING'!J33","v":0},{"$f":"'SKADEINFO FÖRSÄKRING'!K33","v":0},{"$f":"'SKADEINFO FÖRSÄKRING'!L33","v":0},{"$f":"'SKADEINFO FÖRSÄKRING'!M33","v":0},{"$f":"'SKADEINFO FÖRSÄKRING'!N33","v":0},{"$f":"'SKADEINFO FÖRSÄKRING'!O33","v":0},{"$f":"'SKADEINFO VAORG'!C33","v":"Fyll i…"},{"$f":"'SKADEINFO VAORG'!D33","v":"Välj…"},{"$f":"'SKADEINFO VAORG'!E33","v":"Välj…"},{"$f":"'SKADEINFO VAORG'!F33","v":"Välj…"},{"$f":"'SKADEINFO VAORG'!G33","v":"Välj…"},{"$f":"'SKADEINFO VAORG'!H33","v":"Välj…"},{"$f":"'SKADEINFO VAORG'!I33","v":"Välj…"},{"$f":"'SKADEINFO VAORG'!J33","v":"Välj…"},{"$f":"'SKADEINFO VAORG'!K33","v":"Välj…"},{"$f":"'SKADEINFO VAORG'!L33","v":"Välj…"},{"$f":"'SKADEINFO VAORG'!M33","v":"Välj…"},{"$f":"'SKADEINFO VAORG'!N33","v":"Skriv…"},{"$f":"'SKADEINFO VAORG'!O33","v":"Skriv…"},{"$f":"'SKADEINFO VAORG'!P33","v":"Välj…"},{"$f":"'SKADEINFO VAORG'!Q33","v":"Välj…"},{"$f":"'SKADEINFO VAORG'!R33","v":"Skriv…"},{"$f":"'SKADEINFO VAORG'!S33","v":"Skriv…"}]
[{"$f":"'BASINFO FÖRSÄKRING'!I34","v":0},{"$f":"'BASINFO FÖRSÄKRING'!G34","v":0},{"$f":"'BASINFO FÖRSÄKRING'!J34","v":0},{"$f":"'BASINFO FÖRSÄKRING'!K34","v":0},{"$f":"'BASINFO FÖRSÄKRING'!L34","v":0},{"$f":"'BASINFO VAORG'!I34","v":0},{"$f":"'BASINFO VAORG'!G34","v":"Skriv…"},{"$f":"'BASINFO VAORG'!J34","v":"Skriv…"},{"$f":"'BASINFO VAORG'!K34","v":"Skriv…"},{"$f":"'BASINFO VAORG'!L34","v":"Skriv…"},{"$f":"IF('BASINFO FÖRSÄKRING'!A34=0,'BASINFO VAORG'!A34,'BASINFO FÖRSÄKRING'!A34)","v":0},{"$f":"IF('BASINFO FÖRSÄKRING'!B34=0,'BASINFO VAORG'!B34,'BASINFO FÖRSÄKRING'!B34)","v":0},{"$f":"IF('BASINFO FÖRSÄKRING'!D34=0,'BASINFO VAORG'!C34,'BASINFO FÖRSÄKRING'!D34)","v":0},{"$f":"IF('BASINFO FÖRSÄKRING'!E34=0,'BASINFO VAORG'!D34,'BASINFO FÖRSÄKRING'!E34)","v":0},{"$f":"IF('BASINFO FÖRSÄKRING'!F34=0,'BASINFO VAORG'!E34,'BASINFO FÖRSÄKRING'!F34)","v":0},{"$f":"'SKADEINFO FÖRSÄKRING'!D34","v":0},{"$f":"'SKADEINFO FÖRSÄKRING'!C34","v":"00:00:00"},{"$f":"'SKADEINFO FÖRSÄKRING'!E34","v":"00:00:00"},{"$f":"'SKADEINFO FÖRSÄKRING'!F34","v":0},{"$f":"'SKADEINFO FÖRSÄKRING'!G34","v":0},{"$f":"'SKADEINFO FÖRSÄKRING'!H34","v":0},{"$f":"'SKADEINFO FÖRSÄKRING'!I34","v":0},{"$f":"'SKADEINFO FÖRSÄKRING'!J34","v":0},{"$f":"'SKADEINFO FÖRSÄKRING'!K34","v":0},{"$f":"'SKADEINFO FÖRSÄKRING'!L34","v":0},{"$f":"'SKADEINFO FÖRSÄKRING'!M34","v":0},{"$f":"'SKADEINFO FÖRSÄKRING'!N34","v":0},{"$f":"'SKADEINFO FÖRSÄKRING'!O34","v":0},{"$f":"'SKADEINFO VAORG'!C34","v":"Fyll i…"},{"$f":"'SKADEINFO VAORG'!D34","v":"Välj…"},{"$f":"'SKADEINFO VAORG'!E34","v":"Välj…"},{"$f":"'SKADEINFO VAORG'!F34","v":"Välj…"},{"$f":"'SKADEINFO VAORG'!G34","v":"Välj…"},{"$f":"'SKADEINFO VAORG'!H34","v":"Välj…"},{"$f":"'SKADEINFO VAORG'!I34","v":"Välj…"},{"$f":"'SKADEINFO VAORG'!J34","v":"Välj…"},{"$f":"'SKADEINFO VAORG'!K34","v":"Välj…"},{"$f":"'SKADEINFO VAORG'!L34","v":"Välj…"},{"$f":"'SKADEINFO VAORG'!M34","v":"Välj…"},{"$f":"'SKADEINFO VAORG'!N34","v":"Skriv…"},{"$f":"'SKADEINFO VAORG'!O34","v":"Skriv…"},{"$f":"'SKADEINFO VAORG'!P34","v":"Välj…"},{"$f":"'SKADEINFO VAORG'!Q34","v":"Välj…"},{"$f":"'SKADEINFO VAORG'!R34","v":"Skriv…"},{"$f":"'SKADEINFO VAORG'!S34","v":"Skriv…"}]
[{"$f":"'BASINFO FÖRSÄKRING'!I35","v":0},{"$f":"'BASINFO FÖRSÄKRING'!G35","v":0},{"$f":"'BASINFO FÖRSÄKRING'!J35","v":0},{"$f":"'BASINFO FÖRSÄKRING'!K35","v":0},{"$f":"'BASINFO FÖRSÄKRING'!L35","v":0},{"$f":"'BASINFO VAORG'!I35","v":0},{"$f":"'BASINFO VAORG'!G35","v":"Skriv…"},{"$f":"'BASINFO VAORG'!J35","v":"Skriv…"},{"$f":"'BASINFO VAORG'!K35","v":"Skriv…"},{"$f":"'BASINFO VAORG'!L35","v":"Skriv…"},{"$f":"IF('BASINFO FÖRSÄKRING'!A35=0,'BASINFO VAORG'!A35,'BASINFO FÖRSÄKRING'!A35)","v":0},{"$f":"IF('BASINFO FÖRSÄKRING'!B35=0,'BASINFO VAORG'!B35,'BASINFO FÖRSÄKRING'!B35)","v":0},{"$f":"IF('BASINFO FÖRSÄKRING'!D35=0,'BASINFO VAORG'!C35,'BASINFO FÖRSÄKRING'!D35)","v":0},{"$f":"IF('BASINFO FÖRSÄKRING'!E35=0,'BASINFO VAORG'!D35,'BASINFO FÖRSÄKRING'!E35)","v":0},{"$f":"IF('BASINFO FÖRSÄKRING'!F35=0,'BASINFO VAORG'!E35,'BASINFO FÖRSÄKRING'!F35)","v":0},{"$f":"'SKADEINFO FÖRSÄKRING'!D35","v":0},{"$f":"'SKADEINFO FÖRSÄKRING'!C35","v":"00:00:00"},{"$f":"'SKADEINFO FÖRSÄKRING'!E35","v":"00:00:00"},{"$f":"'SKADEINFO FÖRSÄKRING'!F35","v":0},{"$f":"'SKADEINFO FÖRSÄKRING'!G35","v":0},{"$f":"'SKADEINFO FÖRSÄKRING'!H35","v":0},{"$f":"'SKADEINFO FÖRSÄKRING'!I35","v":0},{"$f":"'SKADEINFO FÖRSÄKRING'!J35","v":0},{"$f":"'SKADEINFO FÖRSÄKRING'!K35","v":0},{"$f":"'SKADEINFO FÖRSÄKRING'!L35","v":0},{"$f":"'SKADEINFO FÖRSÄKRING'!M35","v":0},{"$f":"'SKADEINFO FÖRSÄKRING'!N35","v":0},{"$f":"'SKADEINFO FÖRSÄKRING'!O35","v":0},{"$f":"'SKADEINFO VAORG'!C35","v":"Fyll i…"},{"$f":"'SKADEINFO VAORG'!D35","v":"Välj…"},{"$f":"'SKADEINFO VAORG'!E35","v":"Välj…"},{"$f":"'SKADEINFO VAORG'!F35","v":"Välj…"},{"$f":"'SKADEINFO VAORG'!G35","v":"Välj…"},{"$f":"'SKADEINFO VAORG'!H35","v":"Välj…"},{"$f":"'SKADEINFO VAORG'!I35","v":"Välj…"},{"$f":"'SKADEINFO VAORG'!J35","v":"Välj…"},{"$f":"'SKADEINFO VAORG'!K35","v":"Välj…"},{"$f":"'SKADEINFO VAORG'!L35","v":"Välj…"},{"$f":"'SKADEINFO VAORG'!M35","v":"Välj…"},{"$f":"'SKADEINFO VAORG'!N35","v":"Skriv…"},{"$f":"'SKADEINFO VAORG'!O35","v":"Skriv…"},{"$f":"'SKADEINFO VAORG'!P35","v":"Välj…"},{"$f":"'SKADEINFO VAORG'!Q35","v":"Välj…"},{"$f":"'SKADEINFO VAORG'!R35","v":"Skriv…"},{"$f":"'SKADEINFO VAORG'!S35","v":"Skriv…"}]
[{"$f":"'BASINFO FÖRSÄKRING'!I36","v":0},{"$f":"'BASINFO FÖRSÄKRING'!G36","v":0},{"$f":"'BASINFO FÖRSÄKRING'!J36","v":0},{"$f":"'BASINFO FÖRSÄKRING'!K36","v":0},{"$f":"'BASINFO FÖRSÄKRING'!L36","v":0},{"$f":"'BASINFO VAORG'!I36","v":0},{"$f":"'BASINFO VAORG'!G36","v":"Skriv…"},{"$f":"'BASINFO VAORG'!J36","v":"Skriv…"},{"$f":"'BASINFO VAORG'!K36","v":"Skriv…"},{"$f":"'BASINFO VAORG'!L36","v":"Skriv…"},{"$f":"IF('BASINFO FÖRSÄKRING'!A36=0,'BASINFO VAORG'!A36,'BASINFO FÖRSÄKRING'!A36)","v":0},{"$f":"IF('BASINFO FÖRSÄKRING'!B36=0,'BASINFO VAORG'!B36,'BASINFO FÖRSÄKRING'!B36)","v":0},{"$f":"IF('BASINFO FÖRSÄKRING'!D36=0,'BASINFO VAORG'!C36,'BASINFO FÖRSÄKRING'!D36)","v":0},{"$f":"IF('BASINFO FÖRSÄKRING'!E36=0,'BASINFO VAORG'!D36,'BASINFO FÖRSÄKRING'!E36)","v":0},{"$f":"IF('BASINFO FÖRSÄKRING'!F36=0,'BASINFO VAORG'!E36,'BASINFO FÖRSÄKRING'!F36)","v":0},{"$f":"'SKADEINFO FÖRSÄKRING'!D36","v":0},{"$f":"'SKADEINFO FÖRSÄKRING'!C36","v":"00:00:00"},{"$f":"'SKADEINFO FÖRSÄKRING'!E36","v":"00:00:00"},{"$f":"'SKADEINFO FÖRSÄKRING'!F36","v":0},{"$f":"'SKADEINFO FÖRSÄKRING'!G36","v":0},{"$f":"'SKADEINFO FÖRSÄKRING'!H36","v":0},{"$f":"'SKADEINFO FÖRSÄKRING'!I36","v":0},{"$f":"'SKADEINFO FÖRSÄKRING'!J36","v":0},{"$f":"'SKADEINFO FÖRSÄKRING'!K36","v":0},{"$f":"'SKADEINFO FÖRSÄKRING'!L36","v":0},{"$f":"'SKADEINFO FÖRSÄKRING'!M36","v":0},{"$f":"'SKADEINFO FÖRSÄKRING'!N36","v":0},{"$f":"'SKADEINFO FÖRSÄKRING'!O36","v":0},{"$f":"'SKADEINFO VAORG'!C36","v":"Fyll i…"},{"$f":"'SKADEINFO VAORG'!D36","v":"Välj…"},{"$f":"'SKADEINFO VAORG'!E36","v":"Välj…"},{"$f":"'SKADEINFO VAORG'!F36","v":"Välj…"},{"$f":"'SKADEINFO VAORG'!G36","v":"Välj…"},{"$f":"'SKADEINFO VAORG'!H36","v":"Välj…"},{"$f":"'SKADEINFO VAORG'!I36","v":"Välj…"},{"$f":"'SKADEINFO VAORG'!J36","v":"Välj…"},{"$f":"'SKADEINFO VAORG'!K36","v":"Välj…"},{"$f":"'SKADEINFO VAORG'!L36","v":"Välj…"},{"$f":"'SKADEINFO VAORG'!M36","v":"Välj…"},{"$f":"'SKADEINFO VAORG'!N36","v":"Skriv…"},{"$f":"'SKADEINFO VAORG'!O36","v":"Skriv…"},{"$f":"'SKADEINFO VAORG'!P36","v":"Välj…"},{"$f":"'SKADEINFO VAORG'!Q36","v":"Välj…"},{"$f":"'SKADEINFO VAORG'!R36","v":"Skriv…"},{"$f":"'SKADEINFO VAORG'!S36","v":"Skriv…"}]
[{"$f":"'BASINFO FÖRSÄKRING'!I37","v":0},{"$f":"'BASINFO FÖRSÄKRING'!G37","v":0},{"$f":"'BASINFO FÖRSÄKRING'!J37","v":0},{"$f":"'BASINFO FÖRSÄKRING'!K37","v":0},{"$f":"'BASINFO FÖRSÄKRING'!L37","v":0},{"$f":"'BASINFO VAORG'!I37","v":0},{"$f":"'BASINFO VAORG'!G37","v":"Skriv…"},{"$f":"'BASINFO VAORG'!J37","v":"Skriv…"},{"$f":"'BASINFO VAORG'!K37","v":"Skriv…"},{"$f":"'BASINFO VAORG'!L37","v":"Skriv…"},{"$f":"IF('BASINFO FÖRSÄKRING'!A37=0,'BASINFO VAORG'!A37,'BASINFO FÖRSÄKRING'!A37)","v":0},{"$f":"IF('BASINFO FÖRSÄKRING'!B37=0,'BASINFO VAORG'!B37,'BASINFO FÖRSÄKRING'!B37)","v":0},{"$f":"IF('BASINFO FÖRSÄKRING'!D37=0,'BASINFO VAORG'!C37,'BASINFO FÖRSÄKRING'!D37)","v":0},{"$f":"IF('BASINFO FÖRSÄKRING'!E37=0,'BASINFO VAORG'!D37,'BASINFO FÖRSÄKRING'!E37)","v":0},{"$f":"IF('BASINFO FÖRSÄKRING'!F37=0,'BASINFO VAORG'!E37,'BASINFO FÖRSÄKRING'!F37)","v":0},{"$f":"'SKADEINFO FÖRSÄKRING'!D37","v":0},{"$f":"'SKADEINFO FÖRSÄKRING'!C37","v":"00:00:00"},{"$f":"'SKADEINFO FÖRSÄKRING'!E37","v":"00:00:00"},{"$f":"'SKADEINFO FÖRSÄKRING'!F37","v":0},{"$f":"'SKADEINFO FÖRSÄKRING'!G37","v":0},{"$f":"'SKADEINFO FÖRSÄKRING'!H37","v":0},{"$f":"'SKADEINFO FÖRSÄKRING'!I37","v":0},{"$f":"'SKADEINFO FÖRSÄKRING'!J37","v":0},{"$f":"'SKADEINFO FÖRSÄKRING'!K37","v":0},{"$f":"'SKADEINFO FÖRSÄKRING'!L37","v":0},{"$f":"'SKADEINFO FÖRSÄKRING'!M37","v":0},{"$f":"'SKADEINFO FÖRSÄKRING'!N37","v":0},{"$f":"'SKADEINFO FÖRSÄKRING'!O37","v":0},{"$f":"'SKADEINFO VAORG'!C37","v":"Fyll i…"},{"$f":"'SKADEINFO VAORG'!D37","v":"Välj…"},{"$f":"'SKADEINFO VAORG'!E37","v":"Välj…"},{"$f":"'SKADEINFO VAORG'!F37","v":"Välj…"},{"$f":"'SKADEINFO VAORG'!G37","v":"Välj…"},{"$f":"'SKADEINFO VAORG'!H37","v":"Välj…"},{"$f":"'SKADEINFO VAORG'!I37","v":"Välj…"},{"$f":"'SKADEINFO VAORG'!J37","v":"Välj…"},{"$f":"'SKADEINFO VAORG'!K37","v":"Välj…"},{"$f":"'SKADEINFO VAORG'!L37","v":"Välj…"},{"$f":"'SKADEINFO VAORG'!M37","v":"Välj…"},{"$f":"'SKADEINFO VAORG'!N37","v":"Skriv…"},{"$f":"'SKADEINFO VAORG'!O37","v":"Skriv…"},{"$f":"'SKADEINFO VAORG'!P37","v":"Välj…"},{"$f":"'SKADEINFO VAORG'!Q37","v":"Välj…"},{"$f":"'SKADEINFO VAORG'!R37","v":"Skriv…"},{"$f":"'SKADEINFO VAORG'!S37","v":"Skriv…"}]
[{"$f":"'BASINFO FÖRSÄKRING'!I38","v":0},{"$f":"'BASINFO FÖRSÄKRING'!G38","v":0},{"$f":"'BASINFO FÖRSÄKRING'!J38","v":0},{"$f":"'BASINFO FÖRSÄKRING'!K38","v":0},{"$f":"'BASINFO FÖRSÄKRING'!L38","v":0},{"$f":"'BASINFO VAORG'!I38","v":0},{"$f":"'BASINFO VAORG'!G38","v":"Skriv…"},{"$f":"'BASINFO VAORG'!J38","v":"Skriv…"},{"$f":"'BASINFO VAORG'!K38","v":"Skriv…"},{"$f":"'BASINFO VAORG'!L38","v":"Skriv…"},{"$f":"IF('BASINFO FÖRSÄKRING'!A38=0,'BASINFO VAORG'!A38,'BASINFO FÖRSÄKRING'!A38)","v":0},{"$f":"IF('BASINFO FÖRSÄKRING'!B38=0,'BASINFO VAORG'!B38,'BASINFO FÖRSÄKRING'!B38)","v":0},{"$f":"IF('BASINFO FÖRSÄKRING'!D38=0,'BASINFO VAORG'!C38,'BASINFO FÖRSÄKRING'!D38)","v":0},{"$f":"IF('BASINFO FÖRSÄKRING'!E38=0,'BASINFO VAORG'!D38,'BASINFO FÖRSÄKRING'!E38)","v":0},{"$f":"IF('BASINFO FÖRSÄKRING'!F38=0,'BASINFO VAORG'!E38,'BASINFO FÖRSÄKRING'!F38)","v":0},{"$f":"'SKADEINFO FÖRSÄKRING'!D38","v":0},{"$f":"'SKADEINFO FÖRSÄKRING'!C38","v":"00:00:00"},{"$f":"'SKADEINFO FÖRSÄKRING'!E38","v":"00:00:00"},{"$f":"'SKADEINFO FÖRSÄKRING'!F38","v":0},{"$f":"'SKADEINFO FÖRSÄKRING'!G38","v":0},{"$f":"'SKADEINFO FÖRSÄKRING'!H38","v":0},{"$f":"'SKADEINFO FÖRSÄKRING'!I38","v":0},{"$f":"'SKADEINFO FÖRSÄKRING'!J38","v":0},{"$f":"'SKADEINFO FÖRSÄKRING'!K38","v":0},{"$f":"'SKADEINFO FÖRSÄKRING'!L38","v":0},{"$f":"'SKADEINFO FÖRSÄKRING'!M38","v":0},{"$f":"'SKADEINFO FÖRSÄKRING'!N38","v":0},{"$f":"'SKADEINFO FÖRSÄKRING'!O38","v":0},{"$f":"'SKADEINFO VAORG'!C38","v":"Fyll i…"},{"$f":"'SKADEINFO VAORG'!D38","v":"Välj…"},{"$f":"'SKADEINFO VAORG'!E38","v":"Välj…"},{"$f":"'SKADEINFO VAORG'!F38","v":"Välj…"},{"$f":"'SKADEINFO VAORG'!G38","v":"Välj…"},{"$f":"'SKADEINFO VAORG'!H38","v":"Välj…"},{"$f":"'SKADEINFO VAORG'!I38","v":"Välj…"},{"$f":"'SKADEINFO VAORG'!J38","v":"Välj…"},{"$f":"'SKADEINFO VAORG'!K38","v":"Välj…"},{"$f":"'SKADEINFO VAORG'!L38","v":"Välj…"},{"$f":"'SKADEINFO VAORG'!M38","v":"Välj…"},{"$f":"'SKADEINFO VAORG'!N38","v":"Skriv…"},{"$f":"'SKADEINFO VAORG'!O38","v":"Skriv…"},{"$f":"'SKADEINFO VAORG'!P38","v":"Välj…"},{"$f":"'SKADEINFO VAORG'!Q38","v":"Välj…"},{"$f":"'SKADEINFO VAORG'!R38","v":"Skriv…"},{"$f":"'SKADEINFO VAORG'!S38","v":"Skriv…"}]
[{"$f":"'BASINFO FÖRSÄKRING'!I39","v":0},{"$f":"'BASINFO FÖRSÄKRING'!G39","v":0},{"$f":"'BASINFO FÖRSÄKRING'!J39","v":0},{"$f":"'BASINFO FÖRSÄKRING'!K39","v":0},{"$f":"'BASINFO FÖRSÄKRING'!L39","v":0},{"$f":"'BASINFO VAORG'!I39","v":0},{"$f":"'BASINFO VAORG'!G39","v":"Skriv…"},{"$f":"'BASINFO VAORG'!J39","v":"Skriv…"},{"$f":"'BASINFO VAORG'!K39","v":"Skriv…"},{"$f":"'BASINFO VAORG'!L39","v":"Skriv…"},{"$f":"IF('BASINFO FÖRSÄKRING'!A39=0,'BASINFO VAORG'!A39,'BASINFO FÖRSÄKRING'!A39)","v":0},{"$f":"IF('BASINFO FÖRSÄKRING'!B39=0,'BASINFO VAORG'!B39,'BASINFO FÖRSÄKRING'!B39)","v":0},{"$f":"IF('BASINFO FÖRSÄKRING'!D39=0,'BASINFO VAORG'!C39,'BASINFO FÖRSÄKRING'!D39)","v":0},{"$f":"IF('BASINFO FÖRSÄKRING'!E39=0,'BASINFO VAORG'!D39,'BASINFO FÖRSÄKRING'!E39)","v":0},{"$f":"IF('BASINFO FÖRSÄKRING'!F39=0,'BASINFO VAORG'!E39,'BASINFO FÖRSÄKRING'!F39)","v":0},{"$f":"'SKADEINFO FÖRSÄKRING'!D39","v":0},{"$f":"'SKADEINFO FÖRSÄKRING'!C39","v":"00:00:00"},{"$f":"'SKADEINFO FÖRSÄKRING'!E39","v":"00:00:00"},{"$f":"'SKADEINFO FÖRSÄKRING'!F39","v":0},{"$f":"'SKADEINFO FÖRSÄKRING'!G39","v":0},{"$f":"'SKADEINFO FÖRSÄKRING'!H39","v":0},{"$f":"'SKADEINFO FÖRSÄKRING'!I39","v":0},{"$f":"'SKADEINFO FÖRSÄKRING'!J39","v":0},{"$f":"'SKADEINFO FÖRSÄKRING'!K39","v":0},{"$f":"'SKADEINFO FÖRSÄKRING'!L39","v":0},{"$f":"'SKADEINFO FÖRSÄKRING'!M39","v":0},{"$f":"'SKADEINFO FÖRSÄKRING'!N39","v":0},{"$f":"'SKADEINFO FÖRSÄKRING'!O39","v":0},{"$f":"'SKADEINFO VAORG'!C39","v":"Fyll i…"},{"$f":"'SKADEINFO VAORG'!D39","v":"Välj…"},{"$f":"'SKADEINFO VAORG'!E39","v":"Välj…"},{"$f":"'SKADEINFO VAORG'!F39","v":"Välj…"},{"$f":"'SKADEINFO VAORG'!G39","v":"Välj…"},{"$f":"'SKADEINFO VAORG'!H39","v":"Välj…"},{"$f":"'SKADEINFO VAORG'!I39","v":"Välj…"},{"$f":"'SKADEINFO VAORG'!J39","v":"Välj…"},{"$f":"'SKADEINFO VAORG'!K39","v":"Välj…"},{"$f":"'SKADEINFO VAORG'!L39","v":"Välj…"},{"$f":"'SKADEINFO VAORG'!M39","v":"Välj…"},{"$f":"'SKADEINFO VAORG'!N39","v":"Skriv…"},{"$f":"'SKADEINFO VAORG'!O39","v":"Skriv…"},{"$f":"'SKADEINFO VAORG'!P39","v":"Välj…"},{"$f":"'SKADEINFO VAORG'!Q39","v":"Välj…"},{"$f":"'SKADEINFO VAORG'!R39","v":"Skriv…"},{"$f":"'SKADEINFO VAORG'!S39","v":"Skriv…"}]
[{"$f":"'BASINFO FÖRSÄKRING'!I40","v":0},{"$f":"'BASINFO FÖRSÄKRING'!G40","v":0},{"$f":"'BASINFO FÖRSÄKRING'!J40","v":0},{"$f":"'BASINFO FÖRSÄKRING'!K40","v":0},{"$f":"'BASINFO FÖRSÄKRING'!L40","v":0},{"$f":"'BASINFO VAORG'!I40","v":0},{"$f":"'BASINFO VAORG'!G40","v":"Skriv…"},{"$f":"'BASINFO VAORG'!J40","v":"Skriv…"},{"$f":"'BASINFO VAORG'!K40","v":"Skriv…"},{"$f":"'BASINFO VAORG'!L40","v":"Skriv…"},{"$f":"IF('BASINFO FÖRSÄKRING'!A40=0,'BASINFO VAORG'!A40,'BASINFO FÖRSÄKRING'!A40)","v":0},{"$f":"IF('BASINFO FÖRSÄKRING'!B40=0,'BASINFO VAORG'!B40,'BASINFO FÖRSÄKRING'!B40)","v":0},{"$f":"IF('BASINFO FÖRSÄKRING'!D40=0,'BASINFO VAORG'!C40,'BASINFO FÖRSÄKRING'!D40)","v":0},{"$f":"IF('BASINFO FÖRSÄKRING'!E40=0,'BASINFO VAORG'!D40,'BASINFO FÖRSÄKRING'!E40)","v":0},{"$f":"IF('BASINFO FÖRSÄKRING'!F40=0,'BASINFO VAORG'!E40,'BASINFO FÖRSÄKRING'!F40)","v":0},{"$f":"'SKADEINFO FÖRSÄKRING'!D40","v":0},{"$f":"'SKADEINFO FÖRSÄKRING'!C40","v":"00:00:00"},{"$f":"'SKADEINFO FÖRSÄKRING'!E40","v":"00:00:00"},{"$f":"'SKADEINFO FÖRSÄKRING'!F40","v":0},{"$f":"'SKADEINFO FÖRSÄKRING'!G40","v":0},{"$f":"'SKADEINFO FÖRSÄKRING'!H40","v":0},{"$f":"'SKADEINFO FÖRSÄKRING'!I40","v":0},{"$f":"'SKADEINFO FÖRSÄKRING'!J40","v":0},{"$f":"'SKADEINFO FÖRSÄKRING'!K40","v":0},{"$f":"'SKADEINFO FÖRSÄKRING'!L40","v":0},{"$f":"'SKADEINFO FÖRSÄKRING'!M40","v":0},{"$f":"'SKADEINFO FÖRSÄKRING'!N40","v":0},{"$f":"'SKADEINFO FÖRSÄKRING'!O40","v":0},{"$f":"'SKADEINFO VAORG'!C40","v":"Fyll i…"},{"$f":"'SKADEINFO VAORG'!D40","v":"Välj…"},{"$f":"'SKADEINFO VAORG'!E40","v":"Välj…"},{"$f":"'SKADEINFO VAORG'!F40","v":"Välj…"},{"$f":"'SKADEINFO VAORG'!G40","v":"Välj…"},{"$f":"'SKADEINFO VAORG'!H40","v":"Välj…"},{"$f":"'SKADEINFO VAORG'!I40","v":"Välj…"},{"$f":"'SKADEINFO VAORG'!J40","v":"Välj…"},{"$f":"'SKADEINFO VAORG'!K40","v":"Välj…"},{"$f":"'SKADEINFO VAORG'!L40","v":"Välj…"},{"$f":"'SKADEINFO VAORG'!M40","v":"Välj…"},{"$f":"'SKADEINFO VAORG'!N40","v":"Skriv…"},{"$f":"'SKADEINFO VAORG'!O40","v":"Skriv…"},{"$f":"'SKADEINFO VAORG'!P40","v":"Välj…"},{"$f":"'SKADEINFO VAORG'!Q40","v":"Välj…"},{"$f":"'SKADEINFO VAORG'!R40","v":"Skriv…"},{"$f":"'SKADEINFO VAORG'!S40","v":"Skriv…"}]
[{"$f":"'BASINFO FÖRSÄKRING'!I41","v":0},{"$f":"'BASINFO FÖRSÄKRING'!G41","v":0},{"$f":"'BASINFO FÖRSÄKRING'!J41","v":0},{"$f":"'BASINFO FÖRSÄKRING'!K41","v":0},{"$f":"'BASINFO FÖRSÄKRING'!L41","v":0},{"$f":"'BASINFO VAORG'!I41","v":0},{"$f":"'BASINFO VAORG'!G41","v":"Skriv…"},{"$f":"'BASINFO VAORG'!J41","v":"Skriv…"},{"$f":"'BASINFO VAORG'!K41","v":"Skriv…"},{"$f":"'BASINFO VAORG'!L41","v":"Skriv…"},{"$f":"IF('BASINFO FÖRSÄKRING'!A41=0,'BASINFO VAORG'!A41,'BASINFO FÖRSÄKRING'!A41)","v":0},{"$f":"IF('BASINFO FÖRSÄKRING'!B41=0,'BASINFO VAORG'!B41,'BASINFO FÖRSÄKRING'!B41)","v":0},{"$f":"IF('BASINFO FÖRSÄKRING'!D41=0,'BASINFO VAORG'!C41,'BASINFO FÖRSÄKRING'!D41)","v":0},{"$f":"IF('BASINFO FÖRSÄKRING'!E41=0,'BASINFO VAORG'!D41,'BASINFO FÖRSÄKRING'!E41)","v":0},{"$f":"IF('BASINFO FÖRSÄKRING'!F41=0,'BASINFO VAORG'!E41,'BASINFO FÖRSÄKRING'!F41)","v":0},{"$f":"'SKADEINFO FÖRSÄKRING'!D41","v":0},{"$f":"'SKADEINFO FÖRSÄKRING'!C41","v":"00:00:00"},{"$f":"'SKADEINFO FÖRSÄKRING'!E41","v":"00:00:00"},{"$f":"'SKADEINFO FÖRSÄKRING'!F41","v":0},{"$f":"'SKADEINFO FÖRSÄKRING'!G41","v":0},{"$f":"'SKADEINFO FÖRSÄKRING'!H41","v":0},{"$f":"'SKADEINFO FÖRSÄKRING'!I41","v":0},{"$f":"'SKADEINFO FÖRSÄKRING'!J41","v":0},{"$f":"'SKADEINFO FÖRSÄKRING'!K41","v":0},{"$f":"'SKADEINFO FÖRSÄKRING'!L41","v":0},{"$f":"'SKADEINFO FÖRSÄKRING'!M41","v":0},{"$f":"'SKADEINFO FÖRSÄKRING'!N41","v":0},{"$f":"'SKADEINFO FÖRSÄKRING'!O41","v":0},{"$f":"'SKADEINFO VAORG'!C41","v":"Fyll i…"},{"$f":"'SKADEINFO VAORG'!D41","v":"Välj…"},{"$f":"'SKADEINFO VAORG'!E41","v":"Välj…"},{"$f":"'SKADEINFO VAORG'!F41","v":"Välj…"},{"$f":"'SKADEINFO VAORG'!G41","v":"Välj…"},{"$f":"'SKADEINFO VAORG'!H41","v":"Välj…"},{"$f":"'SKADEINFO VAORG'!I41","v":"Välj…"},{"$f":"'SKADEINFO VAORG'!J41","v":"Välj…"},{"$f":"'SKADEINFO VAORG'!K41","v":"Välj…"},{"$f":"'SKADEINFO VAORG'!L41","v":"Välj…"},{"$f":"'SKADEINFO VAORG'!M41","v":"Välj…"},{"$f":"'SKADEINFO VAORG'!N41","v":"Skriv…"},{"$f":"'SKADEINFO VAORG'!O41","v":"Skriv…"},{"$f":"'SKADEINFO VAORG'!P41","v":"Välj…"},{"$f":"'SKADEINFO VAORG'!Q41","v":"Välj…"},{"$f":"'SKADEINFO VAORG'!R41","v":"Skriv…"},{"$f":"'SKADEINFO VAORG'!S41","v":"Skriv…"}]
[{"$f":"'BASINFO FÖRSÄKRING'!I42","v":0},{"$f":"'BASINFO FÖRSÄKRING'!G42","v":0},{"$f":"'BASINFO FÖRSÄKRING'!J42","v":0},{"$f":"'BASINFO FÖRSÄKRING'!K42","v":0},{"$f":"'BASINFO FÖRSÄKRING'!L42","v":0},{"$f":"'BASINFO VAORG'!I42","v":0},{"$f":"'BASINFO VAORG'!G42","v":"Skriv…"},{"$f":"'BASINFO VAORG'!J42","v":"Skriv…"},{"$f":"'BASINFO VAORG'!K42","v":"Skriv…"},{"$f":"'BASINFO VAORG'!L42","v":"Skriv…"},{"$f":"IF('BASINFO FÖRSÄKRING'!A42=0,'BASINFO VAORG'!A42,'BASINFO FÖRSÄKRING'!A42)","v":0},{"$f":"IF('BASINFO FÖRSÄKRING'!B42=0,'BASINFO VAORG'!B42,'BASINFO FÖRSÄKRING'!B42)","v":0},{"$f":"IF('BASINFO FÖRSÄKRING'!D42=0,'BASINFO VAORG'!C42,'BASINFO FÖRSÄKRING'!D42)","v":0},{"$f":"IF('BASINFO FÖRSÄKRING'!E42=0,'BASINFO VAORG'!D42,'BASINFO FÖRSÄKRING'!E42)","v":0},{"$f":"IF('BASINFO FÖRSÄKRING'!F42=0,'BASINFO VAORG'!E42,'BASINFO FÖRSÄKRING'!F42)","v":0},{"$f":"'SKADEINFO FÖRSÄKRING'!D42","v":0},{"$f":"'SKADEINFO FÖRSÄKRING'!C42","v":"00:00:00"},{"$f":"'SKADEINFO FÖRSÄKRING'!E42","v":"00:00:00"},{"$f":"'SKADEINFO FÖRSÄKRING'!F42","v":0},{"$f":"'SKADEINFO FÖRSÄKRING'!G42","v":0},{"$f":"'SKADEINFO FÖRSÄKRING'!H42","v":0},{"$f":"'SKADEINFO FÖRSÄKRING'!I42","v":0},{"$f":"'SKADEINFO FÖRSÄKRING'!J42","v":0},{"$f":"'SKADEINFO FÖRSÄKRING'!K42","v":0},{"$f":"'SKADEINFO FÖRSÄKRING'!L42","v":0},{"$f":"'SKADEINFO FÖRSÄKRING'!M42","v":0},{"$f":"'SKADEINFO FÖRSÄKRING'!N42","v":0},{"$f":"'SKADEINFO FÖRSÄKRING'!O42","v":0},{"$f":"'SKADEINFO VAORG'!C42","v":"Fyll i…"},{"$f":"'SKADEINFO VAORG'!D42","v":"Välj…"},{"$f":"'SKADEINFO VAORG'!E42","v":"Välj…"},{"$f":"'SKADEINFO VAORG'!F42","v":"Välj…"},{"$f":"'SKADEINFO VAORG'!G42","v":"Välj…"},{"$f":"'SKADEINFO VAORG'!H42","v":"Välj…"},{"$f":"'SKADEINFO VAORG'!I42","v":"Välj…"},{"$f":"'SKADEINFO VAORG'!J42","v":"Välj…"},{"$f":"'SKADEINFO VAORG'!K42","v":"Välj…"},{"$f":"'SKADEINFO VAORG'!L42","v":"Välj…"},{"$f":"'SKADEINFO VAORG'!M42","v":"Välj…"},{"$f":"'SKADEINFO VAORG'!N42","v":"Skriv…"},{"$f":"'SKADEINFO VAORG'!O42","v":"Skriv…"},{"$f":"'SKADEINFO VAORG'!P42","v":"Välj…"},{"$f":"'SKADEINFO VAORG'!Q42","v":"Välj…"},{"$f":"'SKADEINFO VAORG'!R42","v":"Skriv…"},{"$f":"'SKADEINFO VAORG'!S42","v":"Skriv…"}]
[{"$f":"'BASINFO FÖRSÄKRING'!I43","v":0},{"$f":"'BASINFO FÖRSÄKRING'!G43","v":0},{"$f":"'BASINFO FÖRSÄKRING'!J43","v":0},{"$f":"'BASINFO FÖRSÄKRING'!K43","v":0},{"$f":"'BASINFO FÖRSÄKRING'!L43","v":0},{"$f":"'BASINFO VAORG'!I43","v":0},{"$f":"'BASINFO VAORG'!G43","v":"Skriv…"},{"$f":"'BASINFO VAORG'!J43","v":"Skriv…"},{"$f":"'BASINFO VAORG'!K43","v":"Skriv…"},{"$f":"'BASINFO VAORG'!L43","v":"Skriv…"},{"$f":"IF('BASINFO FÖRSÄKRING'!A43=0,'BASINFO VAORG'!A43,'BASINFO FÖRSÄKRING'!A43)","v":0},{"$f":"IF('BASINFO FÖRSÄKRING'!B43=0,'BASINFO VAORG'!B43,'BASINFO FÖRSÄKRING'!B43)","v":0},{"$f":"IF('BASINFO FÖRSÄKRING'!D43=0,'BASINFO VAORG'!C43,'BASINFO FÖRSÄKRING'!D43)","v":0},{"$f":"IF('BASINFO FÖRSÄKRING'!E43=0,'BASINFO VAORG'!D43,'BASINFO FÖRSÄKRING'!E43)","v":0},{"$f":"IF('BASINFO FÖRSÄKRING'!F43=0,'BASINFO VAORG'!E43,'BASINFO FÖRSÄKRING'!F43)","v":0},{"$f":"'SKADEINFO FÖRSÄKRING'!D43","v":0},{"$f":"'SKADEINFO FÖRSÄKRING'!C43","v":"00:00:00"},{"$f":"'SKADEINFO FÖRSÄKRING'!E43","v":"00:00:00"},{"$f":"'SKADEINFO FÖRSÄKRING'!F43","v":0},{"$f":"'SKADEINFO FÖRSÄKRING'!G43","v":0},{"$f":"'SKADEINFO FÖRSÄKRING'!H43","v":0},{"$f":"'SKADEINFO FÖRSÄKRING'!I43","v":0},{"$f":"'SKADEINFO FÖRSÄKRING'!J43","v":0},{"$f":"'SKADEINFO FÖRSÄKRING'!K43","v":0},{"$f":"'SKADEINFO FÖRSÄKRING'!L43","v":0},{"$f":"'SKADEINFO FÖRSÄKRING'!M43","v":0},{"$f":"'SKADEINFO FÖRSÄKRING'!N43","v":0},{"$f":"'SKADEINFO FÖRSÄKRING'!O43","v":0},{"$f":"'SKADEINFO VAORG'!C43","v":"Fyll i…"},{"$f":"'SKADEINFO VAORG'!D43","v":"Välj…"},{"$f":"'SKADEINFO VAORG'!E43","v":"Välj…"},{"$f":"'SKADEINFO VAORG'!F43","v":"Välj…"},{"$f":"'SKADEINFO VAORG'!G43","v":"Välj…"},{"$f":"'SKADEINFO VAORG'!H43","v":"Välj…"},{"$f":"'SKADEINFO VAORG'!I43","v":"Välj…"},{"$f":"'SKADEINFO VAORG'!J43","v":"Välj…"},{"$f":"'SKADEINFO VAORG'!K43","v":"Välj…"},{"$f":"'SKADEINFO VAORG'!L43","v":"Välj…"},{"$f":"'SKADEINFO VAORG'!M43","v":"Välj…"},{"$f":"'SKADEINFO VAORG'!N43","v":"Skriv…"},{"$f":"'SKADEINFO VAORG'!O43","v":"Skriv…"},{"$f":"'SKADEINFO VAORG'!P43","v":"Välj…"},{"$f":"'SKADEINFO VAORG'!Q43","v":"Välj…"},{"$f":"'SKADEINFO VAORG'!R43","v":"Skriv…"},{"$f":"'SKADEINFO VAORG'!S43","v":"Skriv…"}]
[{"$f":"'BASINFO FÖRSÄKRING'!I44","v":0},{"$f":"'BASINFO FÖRSÄKRING'!G44","v":0},{"$f":"'BASINFO FÖRSÄKRING'!J44","v":0},{"$f":"'BASINFO FÖRSÄKRING'!K44","v":0},{"$f":"'BASINFO FÖRSÄKRING'!L44","v":0},{"$f":"'BASINFO VAORG'!I44","v":0},{"$f":"'BASINFO VAORG'!G44","v":"Skriv…"},{"$f":"'BASINFO VAORG'!J44","v":"Skriv…"},{"$f":"'BASINFO VAORG'!K44","v":"Skriv…"},{"$f":"'BASINFO VAORG'!L44","v":"Skriv…"},{"$f":"IF('BASINFO FÖRSÄKRING'!A44=0,'BASINFO VAORG'!A44,'BASINFO FÖRSÄKRING'!A44)","v":0},{"$f":"IF('BASINFO FÖRSÄKRING'!B44=0,'BASINFO VAORG'!B44,'BASINFO FÖRSÄKRING'!B44)","v":0},{"$f":"IF('BASINFO FÖRSÄKRING'!D44=0,'BASINFO VAORG'!C44,'BASINFO FÖRSÄKRING'!D44)","v":0},{"$f":"IF('BASINFO FÖRSÄKRING'!E44=0,'BASINFO VAORG'!D44,'BASINFO FÖRSÄKRING'!E44)","v":0},{"$f":"IF('BASINFO FÖRSÄKRING'!F44=0,'BASINFO VAORG'!E44,'BASINFO FÖRSÄKRING'!F44)","v":0},{"$f":"'SKADEINFO FÖRSÄKRING'!D44","v":0},{"$f":"'SKADEINFO FÖRSÄKRING'!C44","v":"00:00:00"},{"$f":"'SKADEINFO FÖRSÄKRING'!E44","v":"00:00:00"},{"$f":"'SKADEINFO FÖRSÄKRING'!F44","v":0},{"$f":"'SKADEINFO FÖRSÄKRING'!G44","v":0},{"$f":"'SKADEINFO FÖRSÄKRING'!H44","v":0},{"$f":"'SKADEINFO FÖRSÄKRING'!I44","v":0},{"$f":"'SKADEINFO FÖRSÄKRING'!J44","v":0},{"$f":"'SKADEINFO FÖRSÄKRING'!K44","v":0},{"$f":"'SKADEINFO FÖRSÄKRING'!L44","v":0},{"$f":"'SKADEINFO FÖRSÄKRING'!M44","v":0},{"$f":"'SKADEINFO FÖRSÄKRING'!N44","v":0},{"$f":"'SKADEINFO FÖRSÄKRING'!O44","v":0},{"$f":"'SKADEINFO VAORG'!C44","v":"Fyll i…"},{"$f":"'SKADEINFO VAORG'!D44","v":"Välj…"},{"$f":"'SKADEINFO VAORG'!E44","v":"Välj…"},{"$f":"'SKADEINFO VAORG'!F44","v":"Välj…"},{"$f":"'SKADEINFO VAORG'!G44","v":"Välj…"},{"$f":"'SKADEINFO VAORG'!H44","v":"Välj…"},{"$f":"'SKADEINFO VAORG'!I44","v":"Välj…"},{"$f":"'SKADEINFO VAORG'!J44","v":"Välj…"},{"$f":"'SKADEINFO VAORG'!K44","v":"Välj…"},{"$f":"'SKADEINFO VAORG'!L44","v":"Välj…"},{"$f":"'SKADEINFO VAORG'!M44","v":"Välj…"},{"$f":"'SKADEINFO VAORG'!N44","v":"Skriv…"},{"$f":"'SKADEINFO VAORG'!O44","v":"Skriv…"},{"$f":"'SKADEINFO VAORG'!P44","v":"Välj…"},{"$f":"'SKADEINFO VAORG'!Q44","v":"Välj…"},{"$f":"'SKADEINFO VAORG'!R44","v":"Skriv…"},{"$f":"'SKADEINFO VAORG'!S44","v":"Skriv…"}]
[{"$f":"'BASINFO FÖRSÄKRING'!I45","v":0},{"$f":"'BASINFO FÖRSÄKRING'!G45","v":0},{"$f":"'BASINFO FÖRSÄKRING'!J45","v":0},{"$f":"'BASINFO FÖRSÄKRING'!K45","v":0},{"$f":"'BASINFO FÖRSÄKRING'!L45","v":0},{"$f":"'BASINFO VAORG'!I45","v":0},{"$f":"'BASINFO VAORG'!G45","v":"Skriv…"},{"$f":"'BASINFO VAORG'!J45","v":"Skriv…"},{"$f":"'BASINFO VAORG'!K45","v":"Skriv…"},{"$f":"'BASINFO VAORG'!L45","v":"Skriv…"},{"$f":"IF('BASINFO FÖRSÄKRING'!A45=0,'BASINFO VAORG'!A45,'BASINFO FÖRSÄKRING'!A45)","v":0},{"$f":"IF('BASINFO FÖRSÄKRING'!B45=0,'BASINFO VAORG'!B45,'BASINFO FÖRSÄKRING'!B45)","v":0},{"$f":"IF('BASINFO FÖRSÄKRING'!D45=0,'BASINFO VAORG'!C45,'BASINFO FÖRSÄKRING'!D45)","v":0},{"$f":"IF('BASINFO FÖRSÄKRING'!E45=0,'BASINFO VAORG'!D45,'BASINFO FÖRSÄKRING'!E45)","v":0},{"$f":"IF('BASINFO FÖRSÄKRING'!F45=0,'BASINFO VAORG'!E45,'BASINFO FÖRSÄKRING'!F45)","v":0},{"$f":"'SKADEINFO FÖRSÄKRING'!D45","v":0},{"$f":"'SKADEINFO FÖRSÄKRING'!C45","v":"00:00:00"},{"$f":"'SKADEINFO FÖRSÄKRING'!E45","v":"00:00:00"},{"$f":"'SKADEINFO FÖRSÄKRING'!F45","v":0},{"$f":"'SKADEINFO FÖRSÄKRING'!G45","v":0},{"$f":"'SKADEINFO FÖRSÄKRING'!H45","v":0},{"$f":"'SKADEINFO FÖRSÄKRING'!I45","v":0},{"$f":"'SKADEINFO FÖRSÄKRING'!J45","v":0},{"$f":"'SKADEINFO FÖRSÄKRING'!K45","v":0},{"$f":"'SKADEINFO FÖRSÄKRING'!L45","v":0},{"$f":"'SKADEINFO FÖRSÄKRING'!M45","v":0},{"$f":"'SKADEINFO FÖRSÄKRING'!N45","v":0},{"$f":"'SKADEINFO FÖRSÄKRING'!O45","v":0},{"$f":"'SKADEINFO VAORG'!C45","v":"Fyll i…"},{"$f":"'SKADEINFO VAORG'!D45","v":"Välj…"},{"$f":"'SKADEINFO VAORG'!E45","v":"Välj…"},{"$f":"'SKADEINFO VAORG'!F45","v":"Välj…"},{"$f":"'SKADEINFO VAORG'!G45","v":"Välj…"},{"$f":"'SKADEINFO VAORG'!H45","v":"Välj…"},{"$f":"'SKADEINFO VAORG'!I45","v":"Välj…"},{"$f":"'SKADEINFO VAORG'!J45","v":"Välj…"},{"$f":"'SKADEINFO VAORG'!K45","v":"Välj…"},{"$f":"'SKADEINFO VAORG'!L45","v":"Välj…"},{"$f":"'SKADEINFO VAORG'!M45","v":"Välj…"},{"$f":"'SKADEINFO VAORG'!N45","v":"Skriv…"},{"$f":"'SKADEINFO VAORG'!O45","v":"Skriv…"},{"$f":"'SKADEINFO VAORG'!P45","v":"Välj…"},{"$f":"'SKADEINFO VAORG'!Q45","v":"Välj…"},{"$f":"'SKADEINFO VAORG'!R45","v":"Skriv…"},{"$f":"'SKADEINFO VAORG'!S45","v":"Skriv…"}]
[{"$f":"'BASINFO FÖRSÄKRING'!I46","v":0},{"$f":"'BASINFO FÖRSÄKRING'!G46","v":0},{"$f":"'BASINFO FÖRSÄKRING'!J46","v":0},{"$f":"'BASINFO FÖRSÄKRING'!K46","v":0},{"$f":"'BASINFO FÖRSÄKRING'!L46","v":0},{"$f":"'BASINFO VAORG'!I46","v":0},{"$f":"'BASINFO VAORG'!G46","v":"Skriv…"},{"$f":"'BASINFO VAORG'!J46","v":"Skriv…"},{"$f":"'BASINFO VAORG'!K46","v":"Skriv…"},{"$f":"'BASINFO VAORG'!L46","v":"Skriv…"},{"$f":"IF('BASINFO FÖRSÄKRING'!A46=0,'BASINFO VAORG'!A46,'BASINFO FÖRSÄKRING'!A46)","v":0},{"$f":"IF('BASINFO FÖRSÄKRING'!B46=0,'BASINFO VAORG'!B46,'BASINFO FÖRSÄKRING'!B46)","v":0},{"$f":"IF('BASINFO FÖRSÄKRING'!D46=0,'BASINFO VAORG'!C46,'BASINFO FÖRSÄKRING'!D46)","v":0},{"$f":"IF('BASINFO FÖRSÄKRING'!E46=0,'BASINFO VAORG'!D46,'BASINFO FÖRSÄKRING'!E46)","v":0},{"$f":"IF('BASINFO FÖRSÄKRING'!F46=0,'BASINFO VAORG'!E46,'BASINFO FÖRSÄKRING'!F46)","v":0},{"$f":"'SKADEINFO FÖRSÄKRING'!D46","v":0},{"$f":"'SKADEINFO FÖRSÄKRING'!C46","v":"00:00:00"},{"$f":"'SKADEINFO FÖRSÄKRING'!E46","v":"00:00:00"},{"$f":"'SKADEINFO FÖRSÄKRING'!F46","v":0},{"$f":"'SKADEINFO FÖRSÄKRING'!G46","v":0},{"$f":"'SKADEINFO FÖRSÄKRING'!H46","v":0},{"$f":"'SKADEINFO FÖRSÄKRING'!I46","v":0},{"$f":"'SKADEINFO FÖRSÄKRING'!J46","v":0},{"$f":"'SKADEINFO FÖRSÄKRING'!K46","v":0},{"$f":"'SKADEINFO FÖRSÄKRING'!L46","v":0},{"$f":"'SKADEINFO FÖRSÄKRING'!M46","v":0},{"$f":"'SKADEINFO FÖRSÄKRING'!N46","v":0},{"$f":"'SKADEINFO FÖRSÄKRING'!O46","v":0},{"$f":"'SKADEINFO VAORG'!C46","v":"Fyll i…"},{"$f":"'SKADEINFO VAORG'!D46","v":"Välj…"},{"$f":"'SKADEINFO VAORG'!E46","v":"Välj…"},{"$f":"'SKADEINFO VAORG'!F46","v":"Välj…"},{"$f":"'SKADEINFO VAORG'!G46","v":"Välj…"},{"$f":"'SKADEINFO VAORG'!H46","v":"Välj…"},{"$f":"'SKADEINFO VAORG'!I46","v":"Välj…"},{"$f":"'SKADEINFO VAORG'!J46","v":"Välj…"},{"$f":"'SKADEINFO VAORG'!K46","v":"Välj…"},{"$f":"'SKADEINFO VAORG'!L46","v":"Välj…"},{"$f":"'SKADEINFO VAORG'!M46","v":"Välj…"},{"$f":"'SKADEINFO VAORG'!N46","v":"Skriv…"},{"$f":"'SKADEINFO VAORG'!O46","v":"Skriv…"},{"$f":"'SKADEINFO VAORG'!P46","v":"Välj…"},{"$f":"'SKADEINFO VAORG'!Q46","v":"Välj…"},{"$f":"'SKADEINFO VAORG'!R46","v":"Skriv…"},{"$f":"'SKADEINFO VAORG'!S46","v":"Skriv…"}]
[{"$f":"'BASINFO FÖRSÄKRING'!I47","v":0},{"$f":"'BASINFO FÖRSÄKRING'!G47","v":0},{"$f":"'BASINFO FÖRSÄKRING'!J47","v":0},{"$f":"'BASINFO FÖRSÄKRING'!K47","v":0},{"$f":"'BASINFO FÖRSÄKRING'!L47","v":0},{"$f":"'BASINFO VAORG'!I47","v":0},{"$f":"'BASINFO VAORG'!G47","v":"Skriv…"},{"$f":"'BASINFO VAORG'!J47","v":"Skriv…"},{"$f":"'BASINFO VAORG'!K47","v":"Skriv…"},{"$f":"'BASINFO VAORG'!L47","v":"Skriv…"},{"$f":"IF('BASINFO FÖRSÄKRING'!A47=0,'BASINFO VAORG'!A47,'BASINFO FÖRSÄKRING'!A47)","v":0},{"$f":"IF('BASINFO FÖRSÄKRING'!B47=0,'BASINFO VAORG'!B47,'BASINFO FÖRSÄKRING'!B47)","v":0},{"$f":"IF('BASINFO FÖRSÄKRING'!D47=0,'BASINFO VAORG'!C47,'BASINFO FÖRSÄKRING'!D47)","v":0},{"$f":"IF('BASINFO FÖRSÄKRING'!E47=0,'BASINFO VAORG'!D47,'BASINFO FÖRSÄKRING'!E47)","v":0},{"$f":"IF('BASINFO FÖRSÄKRING'!F47=0,'BASINFO VAORG'!E47,'BASINFO FÖRSÄKRING'!F47)","v":0},{"$f":"'SKADEINFO FÖRSÄKRING'!D47","v":0},{"$f":"'SKADEINFO FÖRSÄKRING'!C47","v":"00:00:00"},{"$f":"'SKADEINFO FÖRSÄKRING'!E47","v":"00:00:00"},{"$f":"'SKADEINFO FÖRSÄKRING'!F47","v":0},{"$f":"'SKADEINFO FÖRSÄKRING'!G47","v":0},{"$f":"'SKADEINFO FÖRSÄKRING'!H47","v":0},{"$f":"'SKADEINFO FÖRSÄKRING'!I47","v":0},{"$f":"'SKADEINFO FÖRSÄKRING'!J47","v":0},{"$f":"'SKADEINFO FÖRSÄKRING'!K47","v":0},{"$f":"'SKADEINFO FÖRSÄKRING'!L47","v":0},{"$f":"'SKADEINFO FÖRSÄKRING'!M47","v":0},{"$f":"'SKADEINFO FÖRSÄKRING'!N47","v":0},{"$f":"'SKADEINFO FÖRSÄKRING'!O47","v":0},{"$f":"'SKADEINFO VAORG'!C47","v":"Fyll i…"},{"$f":"'SKADEINFO VAORG'!D47","v":"Välj…"},{"$f":"'SKADEINFO VAORG'!E47","v":"Välj…"},{"$f":"'SKADEINFO VAORG'!F47","v":"Välj…"},{"$f":"'SKADEINFO VAORG'!G47","v":"Välj…"},{"$f":"'SKADEINFO VAORG'!H47","v":"Välj…"},{"$f":"'SKADEINFO VAORG'!I47","v":"Välj…"},{"$f":"'SKADEINFO VAORG'!J47","v":"Välj…"},{"$f":"'SKADEINFO VAORG'!K47","v":"Välj…"},{"$f":"'SKADEINFO VAORG'!L47","v":"Välj…"},{"$f":"'SKADEINFO VAORG'!M47","v":"Välj…"},{"$f":"'SKADEINFO VAORG'!N47","v":"Skriv…"},{"$f":"'SKADEINFO VAORG'!O47","v":"Skriv…"},{"$f":"'SKADEINFO VAORG'!P47","v":"Välj…"},{"$f":"'SKADEINFO VAORG'!Q47","v":"Välj…"},{"$f":"'SKADEINFO VAORG'!R47","v":"Skriv…"},{"$f":"'SKADEINFO VAORG'!S47","v":"Skriv…"}]
[{"$f":"'BASINFO FÖRSÄKRING'!I48","v":0},{"$f":"'BASINFO FÖRSÄKRING'!G48","v":0},{"$f":"'BASINFO FÖRSÄKRING'!J48","v":0},{"$f":"'BASINFO FÖRSÄKRING'!K48","v":0},{"$f":"'BASINFO FÖRSÄKRING'!L48","v":0},{"$f":"'BASINFO VAORG'!I48","v":0},{"$f":"'BASINFO VAORG'!G48","v":"Skriv…"},{"$f":"'BASINFO VAORG'!J48","v":"Skriv…"},{"$f":"'BASINFO VAORG'!K48","v":"Skriv…"},{"$f":"'BASINFO VAORG'!L48","v":"Skriv…"},{"$f":"IF('BASINFO FÖRSÄKRING'!A48=0,'BASINFO VAORG'!A48,'BASINFO FÖRSÄKRING'!A48)","v":0},{"$f":"IF('BASINFO FÖRSÄKRING'!B48=0,'BASINFO VAORG'!B48,'BASINFO FÖRSÄKRING'!B48)","v":0},{"$f":"IF('BASINFO FÖRSÄKRING'!D48=0,'BASINFO VAORG'!C48,'BASINFO FÖRSÄKRING'!D48)","v":0},{"$f":"IF('BASINFO FÖRSÄKRING'!E48=0,'BASINFO VAORG'!D48,'BASINFO FÖRSÄKRING'!E48)","v":0},{"$f":"IF('BASINFO FÖRSÄKRING'!F48=0,'BASINFO VAORG'!E48,'BASINFO FÖRSÄKRING'!F48)","v":0},{"$f":"'SKADEINFO FÖRSÄKRING'!D48","v":0},{"$f":"'SKADEINFO FÖRSÄKRING'!C48","v":"00:00:00"},{"$f":"'SKADEINFO FÖRSÄKRING'!E48","v":"00:00:00"},{"$f":"'SKADEINFO FÖRSÄKRING'!F48","v":0},{"$f":"'SKADEINFO FÖRSÄKRING'!G48","v":0},{"$f":"'SKADEINFO FÖRSÄKRING'!H48","v":0},{"$f":"'SKADEINFO FÖRSÄKRING'!I48","v":0},{"$f":"'SKADEINFO FÖRSÄKRING'!J48","v":0},{"$f":"'SKADEINFO FÖRSÄKRING'!K48","v":0},{"$f":"'SKADEINFO FÖRSÄKRING'!L48","v":0},{"$f":"'SKADEINFO FÖRSÄKRING'!M48","v":0},{"$f":"'SKADEINFO FÖRSÄKRING'!N48","v":0},{"$f":"'SKADEINFO FÖRSÄKRING'!O48","v":0},{"$f":"'SKADEINFO VAORG'!C48","v":"Fyll i…"},{"$f":"'SKADEINFO VAORG'!D48","v":"Välj…"},{"$f":"'SKADEINFO VAORG'!E48","v":"Välj…"},{"$f":"'SKADEINFO VAORG'!F48","v":"Välj…"},{"$f":"'SKADEINFO VAORG'!G48","v":"Välj…"},{"$f":"'SKADEINFO VAORG'!H48","v":"Välj…"},{"$f":"'SKADEINFO VAORG'!I48","v":"Välj…"},{"$f":"'SKADEINFO VAORG'!J48","v":"Välj…"},{"$f":"'SKADEINFO VAORG'!K48","v":"Välj…"},{"$f":"'SKADEINFO VAORG'!L48","v":"Välj…"},{"$f":"'SKADEINFO VAORG'!M48","v":"Välj…"},{"$f":"'SKADEINFO VAORG'!N48","v":"Skriv…"},{"$f":"'SKADEINFO VAORG'!O48","v":"Skriv…"},{"$f":"'SKADEINFO VAORG'!P48","v":"Välj…"},{"$f":"'SKADEINFO VAORG'!Q48","v":"Välj…"},{"$f":"'SKADEINFO VAORG'!R48","v":"Skriv…"},{"$f":"'SKADEINFO VAORG'!S48","v":"Skriv…"}]
[{"$f":"'BASINFO FÖRSÄKRING'!I49","v":0},{"$f":"'BASINFO FÖRSÄKRING'!G49","v":0},{"$f":"'BASINFO FÖRSÄKRING'!J49","v":0},{"$f":"'BASINFO FÖRSÄKRING'!K49","v":0},{"$f":"'BASINFO FÖRSÄKRING'!L49","v":0},{"$f":"'BASINFO VAORG'!I49","v":0},{"$f":"'BASINFO VAORG'!G49","v":"Skriv…"},{"$f":"'BASINFO VAORG'!J49","v":"Skriv…"},{"$f":"'BASINFO VAORG'!K49","v":"Skriv…"},{"$f":"'BASINFO VAORG'!L49","v":"Skriv…"},{"$f":"IF('BASINFO FÖRSÄKRING'!A49=0,'BASINFO VAORG'!A49,'BASINFO FÖRSÄKRING'!A49)","v":0},{"$f":"IF('BASINFO FÖRSÄKRING'!B49=0,'BASINFO VAORG'!B49,'BASINFO FÖRSÄKRING'!B49)","v":0},{"$f":"IF('BASINFO FÖRSÄKRING'!D49=0,'BASINFO VAORG'!C49,'BASINFO FÖRSÄKRING'!D49)","v":0},{"$f":"IF('BASINFO FÖRSÄKRING'!E49=0,'BASINFO VAORG'!D49,'BASINFO FÖRSÄKRING'!E49)","v":0},{"$f":"IF('BASINFO FÖRSÄKRING'!F49=0,'BASINFO VAORG'!E49,'BASINFO FÖRSÄKRING'!F49)","v":0},{"$f":"'SKADEINFO FÖRSÄKRING'!D49","v":0},{"$f":"'SKADEINFO FÖRSÄKRING'!C49","v":"00:00:00"},{"$f":"'SKADEINFO FÖRSÄKRING'!E49","v":"00:00:00"},{"$f":"'SKADEINFO FÖRSÄKRING'!F49","v":0},{"$f":"'SKADEINFO FÖRSÄKRING'!G49","v":0},{"$f":"'SKADEINFO FÖRSÄKRING'!H49","v":0},{"$f":"'SKADEINFO FÖRSÄKRING'!I49","v":0},{"$f":"'SKADEINFO FÖRSÄKRING'!J49","v":0},{"$f":"'SKADEINFO FÖRSÄKRING'!K49","v":0},{"$f":"'SKADEINFO FÖRSÄKRING'!L49","v":0},{"$f":"'SKADEINFO FÖRSÄKRING'!M49","v":0},{"$f":"'SKADEINFO FÖRSÄKRING'!N49","v":0},{"$f":"'SKADEINFO FÖRSÄKRING'!O49","v":0},{"$f":"'SKADEINFO VAORG'!C49","v":"Fyll i…"},{"$f":"'SKADEINFO VAORG'!D49","v":"Välj…"},{"$f":"'SKADEINFO VAORG'!E49","v":"Välj…"},{"$f":"'SKADEINFO VAORG'!F49","v":"Välj…"},{"$f":"'SKADEINFO VAORG'!G49","v":"Välj…"},{"$f":"'SKADEINFO VAORG'!H49","v":"Välj…"},{"$f":"'SKADEINFO VAORG'!I49","v":"Välj…"},{"$f":"'SKADEINFO VAORG'!J49","v":"Välj…"},{"$f":"'SKADEINFO VAORG'!K49","v":"Välj…"},{"$f":"'SKADEINFO VAORG'!L49","v":"Välj…"},{"$f":"'SKADEINFO VAORG'!M49","v":"Välj…"},{"$f":"'SKADEINFO VAORG'!N49","v":"Skriv…"},{"$f":"'SKADEINFO VAORG'!O49","v":"Skriv…"},{"$f":"'SKADEINFO VAORG'!P49","v":"Välj…"},{"$f":"'SKADEINFO VAORG'!Q49","v":"Välj…"},{"$f":"'SKADEINFO VAORG'!R49","v":"Skriv…"},{"$f":"'SKADEINFO VAORG'!S49","v":"Skriv…"}]
[{"$f":"'BASINFO FÖRSÄKRING'!I50","v":0},{"$f":"'BASINFO FÖRSÄKRING'!G50","v":0},{"$f":"'BASINFO FÖRSÄKRING'!J50","v":0},{"$f":"'BASINFO FÖRSÄKRING'!K50","v":0},{"$f":"'BASINFO FÖRSÄKRING'!L50","v":0},{"$f":"'BASINFO VAORG'!I50","v":0},{"$f":"'BASINFO VAORG'!G50","v":"Skriv…"},{"$f":"'BASINFO VAORG'!J50","v":"Skriv…"},{"$f":"'BASINFO VAORG'!K50","v":"Skriv…"},{"$f":"'BASINFO VAORG'!L50","v":"Skriv…"},{"$f":"IF('BASINFO FÖRSÄKRING'!A50=0,'BASINFO VAORG'!A50,'BASINFO FÖRSÄKRING'!A50)","v":0},{"$f":"IF('BASINFO FÖRSÄKRING'!B50=0,'BASINFO VAORG'!B50,'BASINFO FÖRSÄKRING'!B50)","v":0},{"$f":"IF('BASINFO FÖRSÄKRING'!D50=0,'BASINFO VAORG'!C50,'BASINFO FÖRSÄKRING'!D50)","v":0},{"$f":"IF('BASINFO FÖRSÄKRING'!E50=0,'BASINFO VAORG'!D50,'BASINFO FÖRSÄKRING'!E50)","v":0},{"$f":"IF('BASINFO FÖRSÄKRING'!F50=0,'BASINFO VAORG'!E50,'BASINFO FÖRSÄKRING'!F50)","v":0},{"$f":"'SKADEINFO FÖRSÄKRING'!D50","v":0},{"$f":"'SKADEINFO FÖRSÄKRING'!C50","v":"00:00:00"},{"$f":"'SKADEINFO FÖRSÄKRING'!E50","v":"00:00:00"},{"$f":"'SKADEINFO FÖRSÄKRING'!F50","v":0},{"$f":"'SKADEINFO FÖRSÄKRING'!G50","v":0},{"$f":"'SKADEINFO FÖRSÄKRING'!H50","v":0},{"$f":"'SKADEINFO FÖRSÄKRING'!I50","v":0},{"$f":"'SKADEINFO FÖRSÄKRING'!J50","v":0},{"$f":"'SKADEINFO FÖRSÄKRING'!K50","v":0},{"$f":"'SKADEINFO FÖRSÄKRING'!L50","v":0},{"$f":"'SKADEINFO FÖRSÄKRING'!M50","v":0},{"$f":"'SKADEINFO FÖRSÄKRING'!N50","v":0},{"$f":"'SKADEINFO FÖRSÄKRING'!O50","v":0},{"$f":"'SKADEINFO VAORG'!C50","v":"Fyll i…"},{"$f":"'SKADEINFO VAORG'!D50","v":"Välj…"},{"$f":"'SKADEINFO VAORG'!E50","v":"Välj…"},{"$f":"'SKADEINFO VAORG'!F50","v":"Välj…"},{"$f":"'SKADEINFO VAORG'!G50","v":"Välj…"},{"$f":"'SKADEINFO VAORG'!H50","v":"Välj…"},{"$f":"'SKADEINFO VAORG'!I50","v":"Välj…"},{"$f":"'SKADEINFO VAORG'!J50","v":"Välj…"},{"$f":"'SKADEINFO VAORG'!K50","v":"Välj…"},{"$f":"'SKADEINFO VAORG'!L50","v":"Välj…"},{"$f":"'SKADEINFO VAORG'!M50","v":"Välj…"},{"$f":"'SKADEINFO VAORG'!N50","v":"Skriv…"},{"$f":"'SKADEINFO VAORG'!O50","v":"Skriv…"},{"$f":"'SKADEINFO VAORG'!P50","v":"Välj…"},{"$f":"'SKADEINFO VAORG'!Q50","v":"Välj…"},{"$f":"'SKADEINFO VAORG'!R50","v":"Skriv…"},{"$f":"'SKADEINFO VAORG'!S50","v":"Skriv…"}]
[{"$f":"'BASINFO FÖRSÄKRING'!I51","v":0},{"$f":"'BASINFO FÖRSÄKRING'!G51","v":0},{"$f":"'BASINFO FÖRSÄKRING'!J51","v":0},{"$f":"'BASINFO FÖRSÄKRING'!K51","v":0},{"$f":"'BASINFO FÖRSÄKRING'!L51","v":0},{"$f":"'BASINFO VAORG'!I51","v":0},{"$f":"'BASINFO VAORG'!G51","v":"Skriv…"},{"$f":"'BASINFO VAORG'!J51","v":"Skriv…"},{"$f":"'BASINFO VAORG'!K51","v":"Skriv…"},{"$f":"'BASINFO VAORG'!L51","v":"Skriv…"},{"$f":"IF('BASINFO FÖRSÄKRING'!A51=0,'BASINFO VAORG'!A51,'BASINFO FÖRSÄKRING'!A51)","v":0},{"$f":"IF('BASINFO FÖRSÄKRING'!B51=0,'BASINFO VAORG'!B51,'BASINFO FÖRSÄKRING'!B51)","v":0},{"$f":"IF('BASINFO FÖRSÄKRING'!D51=0,'BASINFO VAORG'!C51,'BASINFO FÖRSÄKRING'!D51)","v":0},{"$f":"IF('BASINFO FÖRSÄKRING'!E51=0,'BASINFO VAORG'!D51,'BASINFO FÖRSÄKRING'!E51)","v":0},{"$f":"IF('BASINFO FÖRSÄKRING'!F51=0,'BASINFO VAORG'!E51,'BASINFO FÖRSÄKRING'!F51)","v":0},{"$f":"'SKADEINFO FÖRSÄKRING'!D51","v":0},{"$f":"'SKADEINFO FÖRSÄKRING'!C51","v":"00:00:00"},{"$f":"'SKADEINFO FÖRSÄKRING'!E51","v":"00:00:00"},{"$f":"'SKADEINFO FÖRSÄKRING'!F51","v":0},{"$f":"'SKADEINFO FÖRSÄKRING'!G51","v":0},{"$f":"'SKADEINFO FÖRSÄKRING'!H51","v":0},{"$f":"'SKADEINFO FÖRSÄKRING'!I51","v":0},{"$f":"'SKADEINFO FÖRSÄKRING'!J51","v":0},{"$f":"'SKADEINFO FÖRSÄKRING'!K51","v":0},{"$f":"'SKADEINFO FÖRSÄKRING'!L51","v":0},{"$f":"'SKADEINFO FÖRSÄKRING'!M51","v":0},{"$f":"'SKADEINFO FÖRSÄKRING'!N51","v":0},{"$f":"'SKADEINFO FÖRSÄKRING'!O51","v":0},{"$f":"'SKADEINFO VAORG'!C51","v":"Fyll i…"},{"$f":"'SKADEINFO VAORG'!D51","v":"Välj…"},{"$f":"'SKADEINFO VAORG'!E51","v":"Välj…"},{"$f":"'SKADEINFO VAORG'!F51","v":"Välj…"},{"$f":"'SKADEINFO VAORG'!G51","v":"Välj…"},{"$f":"'SKADEINFO VAORG'!H51","v":"Välj…"},{"$f":"'SKADEINFO VAORG'!I51","v":"Välj…"},{"$f":"'SKADEINFO VAORG'!J51","v":"Välj…"},{"$f":"'SKADEINFO VAORG'!K51","v":"Välj…"},{"$f":"'SKADEINFO VAORG'!L51","v":"Välj…"},{"$f":"'SKADEINFO VAORG'!M51","v":"Välj…"},{"$f":"'SKADEINFO VAORG'!N51","v":"Skriv…"},{"$f":"'SKADEINFO VAORG'!O51","v":"Skriv…"},{"$f":"'SKADEINFO VAORG'!P51","v":"Välj…"},{"$f":"'SKADEINFO VAORG'!Q51","v":"Välj…"},{"$f":"'SKADEINFO VAORG'!R51","v":"Skriv…"},{"$f":"'SKADEINFO VAORG'!S51","v":"Skriv…"}]
[{"$f":"'BASINFO FÖRSÄKRING'!I52","v":0},{"$f":"'BASINFO FÖRSÄKRING'!G52","v":0},{"$f":"'BASINFO FÖRSÄKRING'!J52","v":0},{"$f":"'BASINFO FÖRSÄKRING'!K52","v":0},{"$f":"'BASINFO FÖRSÄKRING'!L52","v":0},{"$f":"'BASINFO VAORG'!I52","v":0},{"$f":"'BASINFO VAORG'!G52","v":"Skriv…"},{"$f":"'BASINFO VAORG'!J52","v":"Skriv…"},{"$f":"'BASINFO VAORG'!K52","v":"Skriv…"},{"$f":"'BASINFO VAORG'!L52","v":"Skriv…"},{"$f":"IF('BASINFO FÖRSÄKRING'!A52=0,'BASINFO VAORG'!A52,'BASINFO FÖRSÄKRING'!A52)","v":0},{"$f":"IF('BASINFO FÖRSÄKRING'!B52=0,'BASINFO VAORG'!B52,'BASINFO FÖRSÄKRING'!B52)","v":0},{"$f":"IF('BASINFO FÖRSÄKRING'!D52=0,'BASINFO VAORG'!C52,'BASINFO FÖRSÄKRING'!D52)","v":0},{"$f":"IF('BASINFO FÖRSÄKRING'!E52=0,'BASINFO VAORG'!D52,'BASINFO FÖRSÄKRING'!E52)","v":0},{"$f":"IF('BASINFO FÖRSÄKRING'!F52=0,'BASINFO VAORG'!E52,'BASINFO FÖRSÄKRING'!F52)","v":0},{"$f":"'SKADEINFO FÖRSÄKRING'!D52","v":0},{"$f":"'SKADEINFO FÖRSÄKRING'!C52","v":"00:00:00"},{"$f":"'SKADEINFO FÖRSÄKRING'!E52","v":"00:00:00"},{"$f":"'SKADEINFO FÖRSÄKRING'!F52","v":0},{"$f":"'SKADEINFO FÖRSÄKRING'!G52","v":0},{"$f":"'SKADEINFO FÖRSÄKRING'!H52","v":0},{"$f":"'SKADEINFO FÖRSÄKRING'!I52","v":0},{"$f":"'SKADEINFO FÖRSÄKRING'!J52","v":0},{"$f":"'SKADEINFO FÖRSÄKRING'!K52","v":0},{"$f":"'SKADEINFO FÖRSÄKRING'!L52","v":0},{"$f":"'SKADEINFO FÖRSÄKRING'!M52","v":0},{"$f":"'SKADEINFO FÖRSÄKRING'!N52","v":0},{"$f":"'SKADEINFO FÖRSÄKRING'!O52","v":0},{"$f":"'SKADEINFO VAORG'!C52","v":"Fyll i…"},{"$f":"'SKADEINFO VAORG'!D52","v":"Välj…"},{"$f":"'SKADEINFO VAORG'!E52","v":"Välj…"},{"$f":"'SKADEINFO VAORG'!F52","v":"Välj…"},{"$f":"'SKADEINFO VAORG'!G52","v":"Välj…"},{"$f":"'SKADEINFO VAORG'!H52","v":"Välj…"},{"$f":"'SKADEINFO VAORG'!I52","v":"Välj…"},{"$f":"'SKADEINFO VAORG'!J52","v":"Välj…"},{"$f":"'SKADEINFO VAORG'!K52","v":"Välj…"},{"$f":"'SKADEINFO VAORG'!L52","v":"Välj…"},{"$f":"'SKADEINFO VAORG'!M52","v":"Välj…"},{"$f":"'SKADEINFO VAORG'!N52","v":"Skriv…"},{"$f":"'SKADEINFO VAORG'!O52","v":"Skriv…"},{"$f":"'SKADEINFO VAORG'!P52","v":"Välj…"},{"$f":"'SKADEINFO VAORG'!Q52","v":"Välj…"},{"$f":"'SKADEINFO VAORG'!R52","v":"Skriv…"},{"$f":"'SKADEINFO VAORG'!S52","v":"Skriv…"}]
[{"$f":"'BASINFO FÖRSÄKRING'!I53","v":0},{"$f":"'BASINFO FÖRSÄKRING'!G53","v":0},{"$f":"'BASINFO FÖRSÄKRING'!J53","v":0},{"$f":"'BASINFO FÖRSÄKRING'!K53","v":0},{"$f":"'BASINFO FÖRSÄKRING'!L53","v":0},{"$f":"'BASINFO VAORG'!I53","v":0},{"$f":"'BASINFO VAORG'!G53","v":"Skriv…"},{"$f":"'BASINFO VAORG'!J53","v":"Skriv…"},{"$f":"'BASINFO VAORG'!K53","v":"Skriv…"},{"$f":"'BASINFO VAORG'!L53","v":"Skriv…"},{"$f":"IF('BASINFO FÖRSÄKRING'!A53=0,'BASINFO VAORG'!A53,'BASINFO FÖRSÄKRING'!A53)","v":0},{"$f":"IF('BASINFO FÖRSÄKRING'!B53=0,'BASINFO VAORG'!B53,'BASINFO FÖRSÄKRING'!B53)","v":0},{"$f":"IF('BASINFO FÖRSÄKRING'!D53=0,'BASINFO VAORG'!C53,'BASINFO FÖRSÄKRING'!D53)","v":0},{"$f":"IF('BASINFO FÖRSÄKRING'!E53=0,'BASINFO VAORG'!D53,'BASINFO FÖRSÄKRING'!E53)","v":0},{"$f":"IF('BASINFO FÖRSÄKRING'!F53=0,'BASINFO VAORG'!E53,'BASINFO FÖRSÄKRING'!F53)","v":0},{"$f":"'SKADEINFO FÖRSÄKRING'!D53","v":0},{"$f":"'SKADEINFO FÖRSÄKRING'!C53","v":"00:00:00"},{"$f":"'SKADEINFO FÖRSÄKRING'!E53","v":"00:00:00"},{"$f":"'SKADEINFO FÖRSÄKRING'!F53","v":0},{"$f":"'SKADEINFO FÖRSÄKRING'!G53","v":0},{"$f":"'SKADEINFO FÖRSÄKRING'!H53","v":0},{"$f":"'SKADEINFO FÖRSÄKRING'!I53","v":0},{"$f":"'SKADEINFO FÖRSÄKRING'!J53","v":0},{"$f":"'SKADEINFO FÖRSÄKRING'!K53","v":0},{"$f":"'SKADEINFO FÖRSÄKRING'!L53","v":0},{"$f":"'SKADEINFO FÖRSÄKRING'!M53","v":0},{"$f":"'SKADEINFO FÖRSÄKRING'!N53","v":0},{"$f":"'SKADEINFO FÖRSÄKRING'!O53","v":0},{"$f":"'SKADEINFO VAORG'!C53","v":"Fyll i…"},{"$f":"'SKADEINFO VAORG'!D53","v":"Välj…"},{"$f":"'SKADEINFO VAORG'!E53","v":"Välj…"},{"$f":"'SKADEINFO VAORG'!F53","v":"Välj…"},{"$f":"'SKADEINFO VAORG'!G53","v":"Välj…"},{"$f":"'SKADEINFO VAORG'!H53","v":"Välj…"},{"$f":"'SKADEINFO VAORG'!I53","v":"Välj…"},{"$f":"'SKADEINFO VAORG'!J53","v":"Välj…"},{"$f":"'SKADEINFO VAORG'!K53","v":"Välj…"},{"$f":"'SKADEINFO VAORG'!L53","v":"Välj…"},{"$f":"'SKADEINFO VAORG'!M53","v":"Välj…"},{"$f":"'SKADEINFO VAORG'!N53","v":"Skriv…"},{"$f":"'SKADEINFO VAORG'!O53","v":"Skriv…"},{"$f":"'SKADEINFO VAORG'!P53","v":"Välj…"},{"$f":"'SKADEINFO VAORG'!Q53","v":"Välj…"},{"$f":"'SKADEINFO VAORG'!R53","v":"Skriv…"},{"$f":"'SKADEINFO VAORG'!S53","v":"Skriv…"}]
[{"$f":"'BASINFO FÖRSÄKRING'!I54","v":0},{"$f":"'BASINFO FÖRSÄKRING'!G54","v":0},{"$f":"'BASINFO FÖRSÄKRING'!J54","v":0},{"$f":"'BASINFO FÖRSÄKRING'!K54","v":0},{"$f":"'BASINFO FÖRSÄKRING'!L54","v":0},{"$f":"'BASINFO VAORG'!I54","v":0},{"$f":"'BASINFO VAORG'!G54","v":"Skriv…"},{"$f":"'BASINFO VAORG'!J54","v":"Skriv…"},{"$f":"'BASINFO VAORG'!K54","v":"Skriv…"},{"$f":"'BASINFO VAORG'!L54","v":"Skriv…"},{"$f":"IF('BASINFO FÖRSÄKRING'!A54=0,'BASINFO VAORG'!A54,'BASINFO FÖRSÄKRING'!A54)","v":0},{"$f":"IF('BASINFO FÖRSÄKRING'!B54=0,'BASINFO VAORG'!B54,'BASINFO FÖRSÄKRING'!B54)","v":0},{"$f":"IF('BASINFO FÖRSÄKRING'!D54=0,'BASINFO VAORG'!C54,'BASINFO FÖRSÄKRING'!D54)","v":0},{"$f":"IF('BASINFO FÖRSÄKRING'!E54=0,'BASINFO VAORG'!D54,'BASINFO FÖRSÄKRING'!E54)","v":0},{"$f":"IF('BASINFO FÖRSÄKRING'!F54=0,'BASINFO VAORG'!E54,'BASINFO FÖRSÄKRING'!F54)","v":0},{"$f":"'SKADEINFO FÖRSÄKRING'!D54","v":0},{"$f":"'SKADEINFO FÖRSÄKRING'!C54","v":"00:00:00"},{"$f":"'SKADEINFO FÖRSÄKRING'!E54","v":"00:00:00"},{"$f":"'SKADEINFO FÖRSÄKRING'!F54","v":0},{"$f":"'SKADEINFO FÖRSÄKRING'!G54","v":0},{"$f":"'SKADEINFO FÖRSÄKRING'!H54","v":0},{"$f":"'SKADEINFO FÖRSÄKRING'!I54","v":0},{"$f":"'SKADEINFO FÖRSÄKRING'!J54","v":0},{"$f":"'SKADEINFO FÖRSÄKRING'!K54","v":0},{"$f":"'SKADEINFO FÖRSÄKRING'!L54","v":0},{"$f":"'SKADEINFO FÖRSÄKRING'!M54","v":0},{"$f":"'SKADEINFO FÖRSÄKRING'!N54","v":0},{"$f":"'SKADEINFO FÖRSÄKRING'!O54","v":0},{"$f":"'SKADEINFO VAORG'!C54","v":"Fyll i…"},{"$f":"'SKADEINFO VAORG'!D54","v":"Välj…"},{"$f":"'SKADEINFO VAORG'!E54","v":"Välj…"},{"$f":"'SKADEINFO VAORG'!F54","v":"Välj…"},{"$f":"'SKADEINFO VAORG'!G54","v":"Välj…"},{"$f":"'SKADEINFO VAORG'!H54","v":"Välj…"},{"$f":"'SKADEINFO VAORG'!I54","v":"Välj…"},{"$f":"'SKADEINFO VAORG'!J54","v":"Välj…"},{"$f":"'SKADEINFO VAORG'!K54","v":"Välj…"},{"$f":"'SKADEINFO VAORG'!L54","v":"Välj…"},{"$f":"'SKADEINFO VAORG'!M54","v":"Välj…"},{"$f":"'SKADEINFO VAORG'!N54","v":"Skriv…"},{"$f":"'SKADEINFO VAORG'!O54","v":"Skriv…"},{"$f":"'SKADEINFO VAORG'!P54","v":"Välj…"},{"$f":"'SKADEINFO VAORG'!Q54","v":"Välj…"},{"$f":"'SKADEINFO VAORG'!R54","v":"Skriv…"},{"$f":"'SKADEINFO VAORG'!S54","v":"Skriv…"}]
[{"$f":"'BASINFO FÖRSÄKRING'!I55","v":0},{"$f":"'BASINFO FÖRSÄKRING'!G55","v":0},{"$f":"'BASINFO FÖRSÄKRING'!J55","v":0},{"$f":"'BASINFO FÖRSÄKRING'!K55","v":0},{"$f":"'BASINFO FÖRSÄKRING'!L55","v":0},{"$f":"'BASINFO VAORG'!I55","v":0},{"$f":"'BASINFO VAORG'!G55","v":"Skriv…"},{"$f":"'BASINFO VAORG'!J55","v":"Skriv…"},{"$f":"'BASINFO VAORG'!K55","v":"Skriv…"},{"$f":"'BASINFO VAORG'!L55","v":"Skriv…"},{"$f":"IF('BASINFO FÖRSÄKRING'!A55=0,'BASINFO VAORG'!A55,'BASINFO FÖRSÄKRING'!A55)","v":0},{"$f":"IF('BASINFO FÖRSÄKRING'!B55=0,'BASINFO VAORG'!B55,'BASINFO FÖRSÄKRING'!B55)","v":0},{"$f":"IF('BASINFO FÖRSÄKRING'!D55=0,'BASINFO VAORG'!C55,'BASINFO FÖRSÄKRING'!D55)","v":0},{"$f":"IF('BASINFO FÖRSÄKRING'!E55=0,'BASINFO VAORG'!D55,'BASINFO FÖRSÄKRING'!E55)","v":0},{"$f":"IF('BASINFO FÖRSÄKRING'!F55=0,'BASINFO VAORG'!E55,'BASINFO FÖRSÄKRING'!F55)","v":0},{"$f":"'SKADEINFO FÖRSÄKRING'!D55","v":0},{"$f":"'SKADEINFO FÖRSÄKRING'!C55","v":"00:00:00"},{"$f":"'SKADEINFO FÖRSÄKRING'!E55","v":"00:00:00"},{"$f":"'SKADEINFO FÖRSÄKRING'!F55","v":0},{"$f":"'SKADEINFO FÖRSÄKRING'!G55","v":0},{"$f":"'SKADEINFO FÖRSÄKRING'!H55","v":0},{"$f":"'SKADEINFO FÖRSÄKRING'!I55","v":0},{"$f":"'SKADEINFO FÖRSÄKRING'!J55","v":0},{"$f":"'SKADEINFO FÖRSÄKRING'!K55","v":0},{"$f":"'SKADEINFO FÖRSÄKRING'!L55","v":0},{"$f":"'SKADEINFO FÖRSÄKRING'!M55","v":0},{"$f":"'SKADEINFO FÖRSÄKRING'!N55","v":0},{"$f":"'SKADEINFO FÖRSÄKRING'!O55","v":0},{"$f":"'SKADEINFO VAORG'!C55","v":"Fyll i…"},{"$f":"'SKADEINFO VAORG'!D55","v":"Välj…"},{"$f":"'SKADEINFO VAORG'!E55","v":"Välj…"},{"$f":"'SKADEINFO VAORG'!F55","v":"Välj…"},{"$f":"'SKADEINFO VAORG'!G55","v":"Välj…"},{"$f":"'SKADEINFO VAORG'!H55","v":"Välj…"},{"$f":"'SKADEINFO VAORG'!I55","v":"Välj…"},{"$f":"'SKADEINFO VAORG'!J55","v":"Välj…"},{"$f":"'SKADEINFO VAORG'!K55","v":"Välj…"},{"$f":"'SKADEINFO VAORG'!L55","v":"Välj…"},{"$f":"'SKADEINFO VAORG'!M55","v":"Välj…"},{"$f":"'SKADEINFO VAORG'!N55","v":"Skriv…"},{"$f":"'SKADEINFO VAORG'!O55","v":"Skriv…"},{"$f":"'SKADEINFO VAORG'!P55","v":"Välj…"},{"$f":"'SKADEINFO VAORG'!Q55","v":"Välj…"},{"$f":"'SKADEINFO VAORG'!R55","v":"Skriv…"},{"$f":"'SKADEINFO VAORG'!S55","v":"Skriv…"}]
[{"$f":"'BASINFO FÖRSÄKRING'!I56","v":0},{"$f":"'BASINFO FÖRSÄKRING'!G56","v":0},{"$f":"'BASINFO FÖRSÄKRING'!J56","v":0},{"$f":"'BASINFO FÖRSÄKRING'!K56","v":0},{"$f":"'BASINFO FÖRSÄKRING'!L56","v":0},{"$f":"'BASINFO VAORG'!I56","v":0},{"$f":"'BASINFO VAORG'!G56","v":"Skriv…"},{"$f":"'BASINFO VAORG'!J56","v":"Skriv…"},{"$f":"'BASINFO VAORG'!K56","v":"Skriv…"},{"$f":"'BASINFO VAORG'!L56","v":"Skriv…"},{"$f":"IF('BASINFO FÖRSÄKRING'!A56=0,'BASINFO VAORG'!A56,'BASINFO FÖRSÄKRING'!A56)","v":0},{"$f":"IF('BASINFO FÖRSÄKRING'!B56=0,'BASINFO VAORG'!B56,'BASINFO FÖRSÄKRING'!B56)","v":0},{"$f":"IF('BASINFO FÖRSÄKRING'!D56=0,'BASINFO VAORG'!C56,'BASINFO FÖRSÄKRING'!D56)","v":0},{"$f":"IF('BASINFO FÖRSÄKRING'!E56=0,'BASINFO VAORG'!D56,'BASINFO FÖRSÄKRING'!E56)","v":0},{"$f":"IF('BASINFO FÖRSÄKRING'!F56=0,'BASINFO VAORG'!E56,'BASINFO FÖRSÄKRING'!F56)","v":0},{"$f":"'SKADEINFO FÖRSÄKRING'!D56","v":0},{"$f":"'SKADEINFO FÖRSÄKRING'!C56","v":"00:00:00"},{"$f":"'SKADEINFO FÖRSÄKRING'!E56","v":"00:00:00"},{"$f":"'SKADEINFO FÖRSÄKRING'!F56","v":0},{"$f":"'SKADEINFO FÖRSÄKRING'!G56","v":0},{"$f":"'SKADEINFO FÖRSÄKRING'!H56","v":0},{"$f":"'SKADEINFO FÖRSÄKRING'!I56","v":0},{"$f":"'SKADEINFO FÖRSÄKRING'!J56","v":0},{"$f":"'SKADEINFO FÖRSÄKRING'!K56","v":0},{"$f":"'SKADEINFO FÖRSÄKRING'!L56","v":0},{"$f":"'SKADEINFO FÖRSÄKRING'!M56","v":0},{"$f":"'SKADEINFO FÖRSÄKRING'!N56","v":0},{"$f":"'SKADEINFO FÖRSÄKRING'!O56","v":0},{"$f":"'SKADEINFO VAORG'!C56","v":"Fyll i…"},{"$f":"'SKADEINFO VAORG'!D56","v":"Välj…"},{"$f":"'SKADEINFO VAORG'!E56","v":"Välj…"},{"$f":"'SKADEINFO VAORG'!F56","v":"Välj…"},{"$f":"'SKADEINFO VAORG'!G56","v":"Välj…"},{"$f":"'SKADEINFO VAORG'!H56","v":"Välj…"},{"$f":"'SKADEINFO VAORG'!I56","v":"Välj…"},{"$f":"'SKADEINFO VAORG'!J56","v":"Välj…"},{"$f":"'SKADEINFO VAORG'!K56","v":"Välj…"},{"$f":"'SKADEINFO VAORG'!L56","v":"Välj…"},{"$f":"'SKADEINFO VAORG'!M56","v":"Välj…"},{"$f":"'SKADEINFO VAORG'!N56","v":"Skriv…"},{"$f":"'SKADEINFO VAORG'!O56","v":"Skriv…"},{"$f":"'SKADEINFO VAORG'!P56","v":"Välj…"},{"$f":"'SKADEINFO VAORG'!Q56","v":"Välj…"},{"$f":"'SKADEINFO VAORG'!R56","v":"Skriv…"},{"$f":"'SKADEINFO VAORG'!S56","v":"Skriv…"}]
[{"$f":"'BASINFO FÖRSÄKRING'!I57","v":0},{"$f":"'BASINFO FÖRSÄKRING'!G57","v":0},{"$f":"'BASINFO FÖRSÄKRING'!J57","v":0},{"$f":"'BASINFO FÖRSÄKRING'!K57","v":0},{"$f":"'BASINFO FÖRSÄKRING'!L57","v":0},{"$f":"'BASINFO VAORG'!I57","v":0},{"$f":"'BASINFO VAORG'!G57","v":"Skriv…"},{"$f":"'BASINFO VAORG'!J57","v":"Skriv…"},{"$f":"'BASINFO VAORG'!K57","v":"Skriv…"},{"$f":"'BASINFO VAORG'!L57","v":"Skriv…"},{"$f":"IF('BASINFO FÖRSÄKRING'!A57=0,'BASINFO VAORG'!A57,'BASINFO FÖRSÄKRING'!A57)","v":0},{"$f":"IF('BASINFO FÖRSÄKRING'!B57=0,'BASINFO VAORG'!B57,'BASINFO FÖRSÄKRING'!B57)","v":0},{"$f":"IF('BASINFO FÖRSÄKRING'!D57=0,'BASINFO VAORG'!C57,'BASINFO FÖRSÄKRING'!D57)","v":0},{"$f":"IF('BASINFO FÖRSÄKRING'!E57=0,'BASINFO VAORG'!D57,'BASINFO FÖRSÄKRING'!E57)","v":0},{"$f":"IF('BASINFO FÖRSÄKRING'!F57=0,'BASINFO VAORG'!E57,'BASINFO FÖRSÄKRING'!F57)","v":0},{"$f":"'SKADEINFO FÖRSÄKRING'!D57","v":0},{"$f":"'SKADEINFO FÖRSÄKRING'!C57","v":"00:00:00"},{"$f":"'SKADEINFO FÖRSÄKRING'!E57","v":"00:00:00"},{"$f":"'SKADEINFO FÖRSÄKRING'!F57","v":0},{"$f":"'SKADEINFO FÖRSÄKRING'!G57","v":0},{"$f":"'SKADEINFO FÖRSÄKRING'!H57","v":0},{"$f":"'SKADEINFO FÖRSÄKRING'!I57","v":0},{"$f":"'SKADEINFO FÖRSÄKRING'!J57","v":0},{"$f":"'SKADEINFO FÖRSÄKRING'!K57","v":0},{"$f":"'SKADEINFO FÖRSÄKRING'!L57","v":0},{"$f":"'SKADEINFO FÖRSÄKRING'!M57","v":0},{"$f":"'SKADEINFO FÖRSÄKRING'!N57","v":0},{"$f":"'SKADEINFO FÖRSÄKRING'!O57","v":0},{"$f":"'SKADEINFO VAORG'!C57","v":"Fyll i…"},{"$f":"'SKADEINFO VAORG'!D57","v":"Välj…"},{"$f":"'SKADEINFO VAORG'!E57","v":"Välj…"},{"$f":"'SKADEINFO VAORG'!F57","v":"Välj…"},{"$f":"'SKADEINFO VAORG'!G57","v":"Välj…"},{"$f":"'SKADEINFO VAORG'!H57","v":"Välj…"},{"$f":"'SKADEINFO VAORG'!I57","v":"Välj…"},{"$f":"'SKADEINFO VAORG'!J57","v":"Välj…"},{"$f":"'SKADEINFO VAORG'!K57","v":"Välj…"},{"$f":"'SKADEINFO VAORG'!L57","v":"Välj…"},{"$f":"'SKADEINFO VAORG'!M57","v":"Välj…"},{"$f":"'SKADEINFO VAORG'!N57","v":"Skriv…"},{"$f":"'SKADEINFO VAORG'!O57","v":"Skriv…"},{"$f":"'SKADEINFO VAORG'!P57","v":"Välj…"},{"$f":"'SKADEINFO VAORG'!Q57","v":"Välj…"},{"$f":"'SKADEINFO VAORG'!R57","v":"Skriv…"},{"$f":"'SKADEINFO VAORG'!S57","v":"Skriv…"}]
[{"$f":"'BASINFO FÖRSÄKRING'!I58","v":0},{"$f":"'BASINFO FÖRSÄKRING'!G58","v":0},{"$f":"'BASINFO FÖRSÄKRING'!J58","v":0},{"$f":"'BASINFO FÖRSÄKRING'!K58","v":0},{"$f":"'BASINFO FÖRSÄKRING'!L58","v":0},{"$f":"'BASINFO VAORG'!I58","v":0},{"$f":"'BASINFO VAORG'!G58","v":"Skriv…"},{"$f":"'BASINFO VAORG'!J58","v":"Skriv…"},{"$f":"'BASINFO VAORG'!K58","v":"Skriv…"},{"$f":"'BASINFO VAORG'!L58","v":"Skriv…"},{"$f":"IF('BASINFO FÖRSÄKRING'!A58=0,'BASINFO VAORG'!A58,'BASINFO FÖRSÄKRING'!A58)","v":0},{"$f":"IF('BASINFO FÖRSÄKRING'!B58=0,'BASINFO VAORG'!B58,'BASINFO FÖRSÄKRING'!B58)","v":0},{"$f":"IF('BASINFO FÖRSÄKRING'!D58=0,'BASINFO VAORG'!C58,'BASINFO FÖRSÄKRING'!D58)","v":0},{"$f":"IF('BASINFO FÖRSÄKRING'!E58=0,'BASINFO VAORG'!D58,'BASINFO FÖRSÄKRING'!E58)","v":0},{"$f":"IF('BASINFO FÖRSÄKRING'!F58=0,'BASINFO VAORG'!E58,'BASINFO FÖRSÄKRING'!F58)","v":0},{"$f":"'SKADEINFO FÖRSÄKRING'!D58","v":0},{"$f":"'SKADEINFO FÖRSÄKRING'!C58","v":"00:00:00"},{"$f":"'SKADEINFO FÖRSÄKRING'!E58","v":"00:00:00"},{"$f":"'SKADEINFO FÖRSÄKRING'!F58","v":0},{"$f":"'SKADEINFO FÖRSÄKRING'!G58","v":0},{"$f":"'SKADEINFO FÖRSÄKRING'!H58","v":0},{"$f":"'SKADEINFO FÖRSÄKRING'!I58","v":0},{"$f":"'SKADEINFO FÖRSÄKRING'!J58","v":0},{"$f":"'SKADEINFO FÖRSÄKRING'!K58","v":0},{"$f":"'SKADEINFO FÖRSÄKRING'!L58","v":0},{"$f":"'SKADEINFO FÖRSÄKRING'!M58","v":0},{"$f":"'SKADEINFO FÖRSÄKRING'!N58","v":0},{"$f":"'SKADEINFO FÖRSÄKRING'!O58","v":0},{"$f":"'SKADEINFO VAORG'!C58","v":"Fyll i…"},{"$f":"'SKADEINFO VAORG'!D58","v":"Välj…"},{"$f":"'SKADEINFO VAORG'!E58","v":"Välj…"},{"$f":"'SKADEINFO VAORG'!F58","v":"Välj…"},{"$f":"'SKADEINFO VAORG'!G58","v":"Välj…"},{"$f":"'SKADEINFO VAORG'!H58","v":"Välj…"},{"$f":"'SKADEINFO VAORG'!I58","v":"Välj…"},{"$f":"'SKADEINFO VAORG'!J58","v":"Välj…"},{"$f":"'SKADEINFO VAORG'!K58","v":"Välj…"},{"$f":"'SKADEINFO VAORG'!L58","v":"Välj…"},{"$f":"'SKADEINFO VAORG'!M58","v":"Välj…"},{"$f":"'SKADEINFO VAORG'!N58","v":"Skriv…"},{"$f":"'SKADEINFO VAORG'!O58","v":"Skriv…"},{"$f":"'SKADEINFO VAORG'!P58","v":"Välj…"},{"$f":"'SKADEINFO VAORG'!Q58","v":"Välj…"},{"$f":"'SKADEINFO VAORG'!R58","v":"Skriv…"},{"$f":"'SKADEINFO VAORG'!S58","v":"Skriv…"}]
[{"$f":"'BASINFO FÖRSÄKRING'!I59","v":0},{"$f":"'BASINFO FÖRSÄKRING'!G59","v":0},{"$f":"'BASINFO FÖRSÄKRING'!J59","v":0},{"$f":"'BASINFO FÖRSÄKRING'!K59","v":0},{"$f":"'BASINFO FÖRSÄKRING'!L59","v":0},{"$f":"'BASINFO VAORG'!I59","v":0},{"$f":"'BASINFO VAORG'!G59","v":"Skriv…"},{"$f":"'BASINFO VAORG'!J59","v":"Skriv…"},{"$f":"'BASINFO VAORG'!K59","v":"Skriv…"},{"$f":"'BASINFO VAORG'!L59","v":"Skriv…"},{"$f":"IF('BASINFO FÖRSÄKRING'!A59=0,'BASINFO VAORG'!A59,'BASINFO FÖRSÄKRING'!A59)","v":0},{"$f":"IF('BASINFO FÖRSÄKRING'!B59=0,'BASINFO VAORG'!B59,'BASINFO FÖRSÄKRING'!B59)","v":0},{"$f":"IF('BASINFO FÖRSÄKRING'!D59=0,'BASINFO VAORG'!C59,'BASINFO FÖRSÄKRING'!D59)","v":0},{"$f":"IF('BASINFO FÖRSÄKRING'!E59=0,'BASINFO VAORG'!D59,'BASINFO FÖRSÄKRING'!E59)","v":0},{"$f":"IF('BASINFO FÖRSÄKRING'!F59=0,'BASINFO VAORG'!E59,'BASINFO FÖRSÄKRING'!F59)","v":0},{"$f":"'SKADEINFO FÖRSÄKRING'!D59","v":0},{"$f":"'SKADEINFO FÖRSÄKRING'!C59","v":"00:00:00"},{"$f":"'SKADEINFO FÖRSÄKRING'!E59","v":"00:00:00"},{"$f":"'SKADEINFO FÖRSÄKRING'!F59","v":0},{"$f":"'SKADEINFO FÖRSÄKRING'!G59","v":0},{"$f":"'SKADEINFO FÖRSÄKRING'!H59","v":0},{"$f":"'SKADEINFO FÖRSÄKRING'!I59","v":0},{"$f":"'SKADEINFO FÖRSÄKRING'!J59","v":0},{"$f":"'SKADEINFO FÖRSÄKRING'!K59","v":0},{"$f":"'SKADEINFO FÖRSÄKRING'!L59","v":0},{"$f":"'SKADEINFO FÖRSÄKRING'!M59","v":0},{"$f":"'SKADEINFO FÖRSÄKRING'!N59","v":0},{"$f":"'SKADEINFO FÖRSÄKRING'!O59","v":0},{"$f":"'SKADEINFO VAORG'!C59","v":"Fyll i…"},{"$f":"'SKADEINFO VAORG'!D59","v":"Välj…"},{"$f":"'SKADEINFO VAORG'!E59","v":"Välj…"},{"$f":"'SKADEINFO VAORG'!F59","v":"Välj…"},{"$f":"'SKADEINFO VAORG'!G59","v":"Välj…"},{"$f":"'SKADEINFO VAORG'!H59","v":"Välj…"},{"$f":"'SKADEINFO VAORG'!I59","v":"Välj…"},{"$f":"'SKADEINFO VAORG'!J59","v":"Välj…"},{"$f":"'SKADEINFO VAORG'!K59","v":"Välj…"},{"$f":"'SKADEINFO VAORG'!L59","v":"Välj…"},{"$f":"'SKADEINFO VAORG'!M59","v":"Välj…"},{"$f":"'SKADEINFO VAORG'!N59","v":"Skriv…"},{"$f":"'SKADEINFO VAORG'!O59","v":"Skriv…"},{"$f":"'SKADEINFO VAORG'!P59","v":"Välj…"},{"$f":"'SKADEINFO VAORG'!Q59","v":"Välj…"},{"$f":"'SKADEINFO VAORG'!R59","v":"Skriv…"},{"$f":"'SKADEINFO VAORG'!S59","v":"Skriv…"}]
[{"$f":"'BASINFO FÖRSÄKRING'!I60","v":0},{"$f":"'BASINFO FÖRSÄKRING'!G60","v":0},{"$f":"'BASINFO FÖRSÄKRING'!J60","v":0},{"$f":"'BASINFO FÖRSÄKRING'!K60","v":0},{"$f":"'BASINFO FÖRSÄKRING'!L60","v":0},{"$f":"'BASINFO VAORG'!I60","v":0},{"$f":"'BASINFO VAORG'!G60","v":"Skriv…"},{"$f":"'BASINFO VAORG'!J60","v":"Skriv…"},{"$f":"'BASINFO VAORG'!K60","v":"Skriv…"},{"$f":"'BASINFO VAORG'!L60","v":"Skriv…"},{"$f":"IF('BASINFO FÖRSÄKRING'!A60=0,'BASINFO VAORG'!A60,'BASINFO FÖRSÄKRING'!A60)","v":0},{"$f":"IF('BASINFO FÖRSÄKRING'!B60=0,'BASINFO VAORG'!B60,'BASINFO FÖRSÄKRING'!B60)","v":0},{"$f":"IF('BASINFO FÖRSÄKRING'!D60=0,'BASINFO VAORG'!C60,'BASINFO FÖRSÄKRING'!D60)","v":0},{"$f":"IF('BASINFO FÖRSÄKRING'!E60=0,'BASINFO VAORG'!D60,'BASINFO FÖRSÄKRING'!E60)","v":0},{"$f":"IF('BASINFO FÖRSÄKRING'!F60=0,'BASINFO VAORG'!E60,'BASINFO FÖRSÄKRING'!F60)","v":0},{"$f":"'SKADEINFO FÖRSÄKRING'!D60","v":0},{"$f":"'SKADEINFO FÖRSÄKRING'!C60","v":"00:00:00"},{"$f":"'SKADEINFO FÖRSÄKRING'!E60","v":"00:00:00"},{"$f":"'SKADEINFO FÖRSÄKRING'!F60","v":0},{"$f":"'SKADEINFO FÖRSÄKRING'!G60","v":0},{"$f":"'SKADEINFO FÖRSÄKRING'!H60","v":0},{"$f":"'SKADEINFO FÖRSÄKRING'!I60","v":0},{"$f":"'SKADEINFO FÖRSÄKRING'!J60","v":0},{"$f":"'SKADEINFO FÖRSÄKRING'!K60","v":0},{"$f":"'SKADEINFO FÖRSÄKRING'!L60","v":0},{"$f":"'SKADEINFO FÖRSÄKRING'!M60","v":0},{"$f":"'SKADEINFO FÖRSÄKRING'!N60","v":0},{"$f":"'SKADEINFO FÖRSÄKRING'!O60","v":0},{"$f":"'SKADEINFO VAORG'!C60","v":"Fyll i…"},{"$f":"'SKADEINFO VAORG'!D60","v":"Välj…"},{"$f":"'SKADEINFO VAORG'!E60","v":"Välj…"},{"$f":"'SKADEINFO VAORG'!F60","v":"Välj…"},{"$f":"'SKADEINFO VAORG'!G60","v":"Välj…"},{"$f":"'SKADEINFO VAORG'!H60","v":"Välj…"},{"$f":"'SKADEINFO VAORG'!I60","v":"Välj…"},{"$f":"'SKADEINFO VAORG'!J60","v":"Välj…"},{"$f":"'SKADEINFO VAORG'!K60","v":"Välj…"},{"$f":"'SKADEINFO VAORG'!L60","v":"Välj…"},{"$f":"'SKADEINFO VAORG'!M60","v":"Välj…"},{"$f":"'SKADEINFO VAORG'!N60","v":"Skriv…"},{"$f":"'SKADEINFO VAORG'!O60","v":"Skriv…"},{"$f":"'SKADEINFO VAORG'!P60","v":"Välj…"},{"$f":"'SKADEINFO VAORG'!Q60","v":"Välj…"},{"$f":"'SKADEINFO VAORG'!R60","v":"Skriv…"},{"$f":"'SKADEINFO VAORG'!S60","v":"Skriv…"}]
[{"$f":"'BASINFO FÖRSÄKRING'!I61","v":0},{"$f":"'BASINFO FÖRSÄKRING'!G61","v":0},{"$f":"'BASINFO FÖRSÄKRING'!J61","v":0},{"$f":"'BASINFO FÖRSÄKRING'!K61","v":0},{"$f":"'BASINFO FÖRSÄKRING'!L61","v":0},{"$f":"'BASINFO VAORG'!I61","v":0},{"$f":"'BASINFO VAORG'!G61","v":"Skriv…"},{"$f":"'BASINFO VAORG'!J61","v":"Skriv…"},{"$f":"'BASINFO VAORG'!K61","v":"Skriv…"},{"$f":"'BASINFO VAORG'!L61","v":"Skriv…"},{"$f":"IF('BASINFO FÖRSÄKRING'!A61=0,'BASINFO VAORG'!A61,'BASINFO FÖRSÄKRING'!A61)","v":0},{"$f":"IF('BASINFO FÖRSÄKRING'!B61=0,'BASINFO VAORG'!B61,'BASINFO FÖRSÄKRING'!B61)","v":0},{"$f":"IF('BASINFO FÖRSÄKRING'!D61=0,'BASINFO VAORG'!C61,'BASINFO FÖRSÄKRING'!D61)","v":0},{"$f":"IF('BASINFO FÖRSÄKRING'!E61=0,'BASINFO VAORG'!D61,'BASINFO FÖRSÄKRING'!E61)","v":0},{"$f":"IF('BASINFO FÖRSÄKRING'!F61=0,'BASINFO VAORG'!E61,'BASINFO FÖRSÄKRING'!F61)","v":0},{"$f":"'SKADEINFO FÖRSÄKRING'!D61","v":0},{"$f":"'SKADEINFO FÖRSÄKRING'!C61","v":"00:00:00"},{"$f":"'SKADEINFO FÖRSÄKRING'!E61","v":"00:00:00"},{"$f":"'SKADEINFO FÖRSÄKRING'!F61","v":0},{"$f":"'SKADEINFO FÖRSÄKRING'!G61","v":0},{"$f":"'SKADEINFO FÖRSÄKRING'!H61","v":0},{"$f":"'SKADEINFO FÖRSÄKRING'!I61","v":0},{"$f":"'SKADEINFO FÖRSÄKRING'!J61","v":0},{"$f":"'SKADEINFO FÖRSÄKRING'!K61","v":0},{"$f":"'SKADEINFO FÖRSÄKRING'!L61","v":0},{"$f":"'SKADEINFO FÖRSÄKRING'!M61","v":0},{"$f":"'SKADEINFO FÖRSÄKRING'!N61","v":0},{"$f":"'SKADEINFO FÖRSÄKRING'!O61","v":0},{"$f":"'SKADEINFO VAORG'!C61","v":"Fyll i…"},{"$f":"'SKADEINFO VAORG'!D61","v":"Välj…"},{"$f":"'SKADEINFO VAORG'!E61","v":"Välj…"},{"$f":"'SKADEINFO VAORG'!F61","v":"Välj…"},{"$f":"'SKADEINFO VAORG'!G61","v":"Välj…"},{"$f":"'SKADEINFO VAORG'!H61","v":"Välj…"},{"$f":"'SKADEINFO VAORG'!I61","v":"Välj…"},{"$f":"'SKADEINFO VAORG'!J61","v":"Välj…"},{"$f":"'SKADEINFO VAORG'!K61","v":"Välj…"},{"$f":"'SKADEINFO VAORG'!L61","v":"Välj…"},{"$f":"'SKADEINFO VAORG'!M61","v":"Välj…"},{"$f":"'SKADEINFO VAORG'!N61","v":"Skriv…"},{"$f":"'SKADEINFO VAORG'!O61","v":"Skriv…"},{"$f":"'SKADEINFO VAORG'!P61","v":"Välj…"},{"$f":"'SKADEINFO VAORG'!Q61","v":"Välj…"},{"$f":"'SKADEINFO VAORG'!R61","v":"Skriv…"},{"$f":"'SKADEINFO VAORG'!S61","v":"Skriv…"}]
[{"$f":"'BASINFO FÖRSÄKRING'!I62","v":0},{"$f":"'BASINFO FÖRSÄKRING'!G62","v":0},{"$f":"'BASINFO FÖRSÄKRING'!J62","v":0},{"$f":"'BASINFO FÖRSÄKRING'!K62","v":0},{"$f":"'BASINFO FÖRSÄKRING'!L62","v":0},{"$f":"'BASINFO VAORG'!I62","v":0},{"$f":"'BASINFO VAORG'!G62","v":"Skriv…"},{"$f":"'BASINFO VAORG'!J62","v":"Skriv…"},{"$f":"'BASINFO VAORG'!K62","v":"Skriv…"},{"$f":"'BASINFO VAORG'!L62","v":"Skriv…"},{"$f":"IF('BASINFO FÖRSÄKRING'!A62=0,'BASINFO VAORG'!A62,'BASINFO FÖRSÄKRING'!A62)","v":0},{"$f":"IF('BASINFO FÖRSÄKRING'!B62=0,'BASINFO VAORG'!B62,'BASINFO FÖRSÄKRING'!B62)","v":0},{"$f":"IF('BASINFO FÖRSÄKRING'!D62=0,'BASINFO VAORG'!C62,'BASINFO FÖRSÄKRING'!D62)","v":0},{"$f":"IF('BASINFO FÖRSÄKRING'!E62=0,'BASINFO VAORG'!D62,'BASINFO FÖRSÄKRING'!E62)","v":0},{"$f":"IF('BASINFO FÖRSÄKRING'!F62=0,'BASINFO VAORG'!E62,'BASINFO FÖRSÄKRING'!F62)","v":0},{"$f":"'SKADEINFO FÖRSÄKRING'!D62","v":0},{"$f":"'SKADEINFO FÖRSÄKRING'!C62","v":"00:00:00"},{"$f":"'SKADEINFO FÖRSÄKRING'!E62","v":"00:00:00"},{"$f":"'SKADEINFO FÖRSÄKRING'!F62","v":0},{"$f":"'SKADEINFO FÖRSÄKRING'!G62","v":0},{"$f":"'SKADEINFO FÖRSÄKRING'!H62","v":0},{"$f":"'SKADEINFO FÖRSÄKRING'!I62","v":0},{"$f":"'SKADEINFO FÖRSÄKRING'!J62","v":0},{"$f":"'SKADEINFO FÖRSÄKRING'!K62","v":0},{"$f":"'SKADEINFO FÖRSÄKRING'!L62","v":0},{"$f":"'SKADEINFO FÖRSÄKRING'!M62","v":0},{"$f":"'SKADEINFO FÖRSÄKRING'!N62","v":0},{"$f":"'SKADEINFO FÖRSÄKRING'!O62","v":0},{"$f":"'SKADEINFO VAORG'!C62","v":"Fyll i…"},{"$f":"'SKADEINFO VAORG'!D62","v":"Välj…"},{"$f":"'SKADEINFO VAORG'!E62","v":"Välj…"},{"$f":"'SKADEINFO VAORG'!F62","v":"Välj…"},{"$f":"'SKADEINFO VAORG'!G62","v":"Välj…"},{"$f":"'SKADEINFO VAORG'!H62","v":"Välj…"},{"$f":"'SKADEINFO VAORG'!I62","v":"Välj…"},{"$f":"'SKADEINFO VAORG'!J62","v":"Välj…"},{"$f":"'SKADEINFO VAORG'!K62","v":"Välj…"},{"$f":"'SKADEINFO VAORG'!L62","v":"Välj…"},{"$f":"'SKADEINFO VAORG'!M62","v":"Välj…"},{"$f":"'SKADEINFO VAORG'!N62","v":"Skriv…"},{"$f":"'SKADEINFO VAORG'!O62","v":"Skriv…"},{"$f":"'SKADEINFO VAORG'!P62","v":"Välj…"},{"$f":"'SKADEINFO VAORG'!Q62","v":"Välj…"},{"$f":"'SKADEINFO VAORG'!R62","v":"Skriv…"},{"$f":"'SKADEINFO VAORG'!S62","v":"Skriv…"}]
[{"$f":"'BASINFO FÖRSÄKRING'!I63","v":0},{"$f":"'BASINFO FÖRSÄKRING'!G63","v":0},{"$f":"'BASINFO FÖRSÄKRING'!J63","v":0},{"$f":"'BASINFO FÖRSÄKRING'!K63","v":0},{"$f":"'BASINFO FÖRSÄKRING'!L63","v":0},{"$f":"'BASINFO VAORG'!I63","v":0},{"$f":"'BASINFO VAORG'!G63","v":"Skriv…"},{"$f":"'BASINFO VAORG'!J63","v":"Skriv…"},{"$f":"'BASINFO VAORG'!K63","v":"Skriv…"},{"$f":"'BASINFO VAORG'!L63","v":"Skriv…"},{"$f":"IF('BASINFO FÖRSÄKRING'!A63=0,'BASINFO VAORG'!A63,'BASINFO FÖRSÄKRING'!A63)","v":0},{"$f":"IF('BASINFO FÖRSÄKRING'!B63=0,'BASINFO VAORG'!B63,'BASINFO FÖRSÄKRING'!B63)","v":0},{"$f":"IF('BASINFO FÖRSÄKRING'!D63=0,'BASINFO VAORG'!C63,'BASINFO FÖRSÄKRING'!D63)","v":0},{"$f":"IF('BASINFO FÖRSÄKRING'!E63=0,'BASINFO VAORG'!D63,'BASINFO FÖRSÄKRING'!E63)","v":0},{"$f":"IF('BASINFO FÖRSÄKRING'!F63=0,'BASINFO VAORG'!E63,'BASINFO FÖRSÄKRING'!F63)","v":0},{"$f":"'SKADEINFO FÖRSÄKRING'!D63","v":0},{"$f":"'SKADEINFO FÖRSÄKRING'!C63","v":"00:00:00"},{"$f":"'SKADEINFO FÖRSÄKRING'!E63","v":"00:00:00"},{"$f":"'SKADEINFO FÖRSÄKRING'!F63","v":0},{"$f":"'SKADEINFO FÖRSÄKRING'!G63","v":0},{"$f":"'SKADEINFO FÖRSÄKRING'!H63","v":0},{"$f":"'SKADEINFO FÖRSÄKRING'!I63","v":0},{"$f":"'SKADEINFO FÖRSÄKRING'!J63","v":0},{"$f":"'SKADEINFO FÖRSÄKRING'!K63","v":0},{"$f":"'SKADEINFO FÖRSÄKRING'!L63","v":0},{"$f":"'SKADEINFO FÖRSÄKRING'!M63","v":0},{"$f":"'SKADEINFO FÖRSÄKRING'!N63","v":0},{"$f":"'SKADEINFO FÖRSÄKRING'!O63","v":0},{"$f":"'SKADEINFO VAORG'!C63","v":"Fyll i…"},{"$f":"'SKADEINFO VAORG'!D63","v":"Välj…"},{"$f":"'SKADEINFO VAORG'!E63","v":"Välj…"},{"$f":"'SKADEINFO VAORG'!F63","v":"Välj…"},{"$f":"'SKADEINFO VAORG'!G63","v":"Välj…"},{"$f":"'SKADEINFO VAORG'!H63","v":"Välj…"},{"$f":"'SKADEINFO VAORG'!I63","v":"Välj…"},{"$f":"'SKADEINFO VAORG'!J63","v":"Välj…"},{"$f":"'SKADEINFO VAORG'!K63","v":"Välj…"},{"$f":"'SKADEINFO VAORG'!L63","v":"Välj…"},{"$f":"'SKADEINFO VAORG'!M63","v":"Välj…"},{"$f":"'SKADEINFO VAORG'!N63","v":"Skriv…"},{"$f":"'SKADEINFO VAORG'!O63","v":"Skriv…"},{"$f":"'SKADEINFO VAORG'!P63","v":"Välj…"},{"$f":"'SKADEINFO VAORG'!Q63","v":"Välj…"},{"$f":"'SKADEINFO VAORG'!R63","v":"Skriv…"},{"$f":"'SKADEINFO VAORG'!S63","v":"Skriv…"}]
[{"$f":"'BASINFO FÖRSÄKRING'!I64","v":0},{"$f":"'BASINFO FÖRSÄKRING'!G64","v":0},{"$f":"'BASINFO FÖRSÄKRING'!J64","v":0},{"$f":"'BASINFO FÖRSÄKRING'!K64","v":0},{"$f":"'BASINFO FÖRSÄKRING'!L64","v":0},{"$f":"'BASINFO VAORG'!I64","v":0},{"$f":"'BASINFO VAORG'!G64","v":"Skriv…"},{"$f":"'BASINFO VAORG'!J64","v":"Skriv…"},{"$f":"'BASINFO VAORG'!K64","v":"Skriv…"},{"$f":"'BASINFO VAORG'!L64","v":"Skriv…"},{"$f":"IF('BASINFO FÖRSÄKRING'!A64=0,'BASINFO VAORG'!A64,'BASINFO FÖRSÄKRING'!A64)","v":0},{"$f":"IF('BASINFO FÖRSÄKRING'!B64=0,'BASINFO VAORG'!B64,'BASINFO FÖRSÄKRING'!B64)","v":0},{"$f":"IF('BASINFO FÖRSÄKRING'!D64=0,'BASINFO VAORG'!C64,'BASINFO FÖRSÄKRING'!D64)","v":0},{"$f":"IF('BASINFO FÖRSÄKRING'!E64=0,'BASINFO VAORG'!D64,'BASINFO FÖRSÄKRING'!E64)","v":0},{"$f":"IF('BASINFO FÖRSÄKRING'!F64=0,'BASINFO VAORG'!E64,'BASINFO FÖRSÄKRING'!F64)","v":0},{"$f":"'SKADEINFO FÖRSÄKRING'!D64","v":0},{"$f":"'SKADEINFO FÖRSÄKRING'!C64","v":"00:00:00"},{"$f":"'SKADEINFO FÖRSÄKRING'!E64","v":"00:00:00"},{"$f":"'SKADEINFO FÖRSÄKRING'!F64","v":0},{"$f":"'SKADEINFO FÖRSÄKRING'!G64","v":0},{"$f":"'SKADEINFO FÖRSÄKRING'!H64","v":0},{"$f":"'SKADEINFO FÖRSÄKRING'!I64","v":0},{"$f":"'SKADEINFO FÖRSÄKRING'!J64","v":0},{"$f":"'SKADEINFO FÖRSÄKRING'!K64","v":0},{"$f":"'SKADEINFO FÖRSÄKRING'!L64","v":0},{"$f":"'SKADEINFO FÖRSÄKRING'!M64","v":0},{"$f":"'SKADEINFO FÖRSÄKRING'!N64","v":0},{"$f":"'SKADEINFO FÖRSÄKRING'!O64","v":0},{"$f":"'SKADEINFO VAORG'!C64","v":"Fyll i…"},{"$f":"'SKADEINFO VAORG'!D64","v":"Välj…"},{"$f":"'SKADEINFO VAORG'!E64","v":"Välj…"},{"$f":"'SKADEINFO VAORG'!F64","v":"Välj…"},{"$f":"'SKADEINFO VAORG'!G64","v":"Välj…"},{"$f":"'SKADEINFO VAORG'!H64","v":"Välj…"},{"$f":"'SKADEINFO VAORG'!I64","v":"Välj…"},{"$f":"'SKADEINFO VAORG'!J64","v":"Välj…"},{"$f":"'SKADEINFO VAORG'!K64","v":"Välj…"},{"$f":"'SKADEINFO VAORG'!L64","v":"Välj…"},{"$f":"'SKADEINFO VAORG'!M64","v":"Välj…"},{"$f":"'SKADEINFO VAORG'!N64","v":"Skriv…"},{"$f":"'SKADEINFO VAORG'!O64","v":"Skriv…"},{"$f":"'SKADEINFO VAORG'!P64","v":"Välj…"},{"$f":"'SKADEINFO VAORG'!Q64","v":"Välj…"},{"$f":"'SKADEINFO VAORG'!R64","v":"Skriv…"},{"$f":"'SKADEINFO VAORG'!S64","v":"Skriv…"}]
[{"$f":"'BASINFO FÖRSÄKRING'!I65","v":0},{"$f":"'BASINFO FÖRSÄKRING'!G65","v":0},{"$f":"'BASINFO FÖRSÄKRING'!J65","v":0},{"$f":"'BASINFO FÖRSÄKRING'!K65","v":0},{"$f":"'BASINFO FÖRSÄKRING'!L65","v":0},{"$f":"'BASINFO VAORG'!I65","v":0},{"$f":"'BASINFO VAORG'!G65","v":"Skriv…"},{"$f":"'BASINFO VAORG'!J65","v":"Skriv…"},{"$f":"'BASINFO VAORG'!K65","v":"Skriv…"},{"$f":"'BASINFO VAORG'!L65","v":"Skriv…"},{"$f":"IF('BASINFO FÖRSÄKRING'!A65=0,'BASINFO VAORG'!A65,'BASINFO FÖRSÄKRING'!A65)","v":0},{"$f":"IF('BASINFO FÖRSÄKRING'!B65=0,'BASINFO VAORG'!B65,'BASINFO FÖRSÄKRING'!B65)","v":0},{"$f":"IF('BASINFO FÖRSÄKRING'!D65=0,'BASINFO VAORG'!C65,'BASINFO FÖRSÄKRING'!D65)","v":0},{"$f":"IF('BASINFO FÖRSÄKRING'!E65=0,'BASINFO VAORG'!D65,'BASINFO FÖRSÄKRING'!E65)","v":0},{"$f":"IF('BASINFO FÖRSÄKRING'!F65=0,'BASINFO VAORG'!E65,'BASINFO FÖRSÄKRING'!F65)","v":0},{"$f":"'SKADEINFO FÖRSÄKRING'!D65","v":0},{"$f":"'SKADEINFO FÖRSÄKRING'!C65","v":"00:00:00"},{"$f":"'SKADEINFO FÖRSÄKRING'!E65","v":"00:00:00"},{"$f":"'SKADEINFO FÖRSÄKRING'!F65","v":0},{"$f":"'SKADEINFO FÖRSÄKRING'!G65","v":0},{"$f":"'SKADEINFO FÖRSÄKRING'!H65","v":0},{"$f":"'SKADEINFO FÖRSÄKRING'!I65","v":0},{"$f":"'SKADEINFO FÖRSÄKRING'!J65","v":0},{"$f":"'SKADEINFO FÖRSÄKRING'!K65","v":0},{"$f":"'SKADEINFO FÖRSÄKRING'!L65","v":0},{"$f":"'SKADEINFO FÖRSÄKRING'!M65","v":0},{"$f":"'SKADEINFO FÖRSÄKRING'!N65","v":0},{"$f":"'SKADEINFO FÖRSÄKRING'!O65","v":0},{"$f":"'SKADEINFO VAORG'!C65","v":"Fyll i…"},{"$f":"'SKADEINFO VAORG'!D65","v":"Välj…"},{"$f":"'SKADEINFO VAORG'!E65","v":"Välj…"},{"$f":"'SKADEINFO VAORG'!F65","v":"Välj…"},{"$f":"'SKADEINFO VAORG'!G65","v":"Välj…"},{"$f":"'SKADEINFO VAORG'!H65","v":"Välj…"},{"$f":"'SKADEINFO VAORG'!I65","v":"Välj…"},{"$f":"'SKADEINFO VAORG'!J65","v":"Välj…"},{"$f":"'SKADEINFO VAORG'!K65","v":"Välj…"},{"$f":"'SKADEINFO VAORG'!L65","v":"Välj…"},{"$f":"'SKADEINFO VAORG'!M65","v":"Välj…"},{"$f":"'SKADEINFO VAORG'!N65","v":"Skriv…"},{"$f":"'SKADEINFO VAORG'!O65","v":"Skriv…"},{"$f":"'SKADEINFO VAORG'!P65","v":"Välj…"},{"$f":"'SKADEINFO VAORG'!Q65","v":"Välj…"},{"$f":"'SKADEINFO VAORG'!R65","v":"Skriv…"},{"$f":"'SKADEINFO VAORG'!S65","v":"Skriv…"}]
[{"$f":"'BASINFO FÖRSÄKRING'!I66","v":0},{"$f":"'BASINFO FÖRSÄKRING'!G66","v":0},{"$f":"'BASINFO FÖRSÄKRING'!J66","v":0},{"$f":"'BASINFO FÖRSÄKRING'!K66","v":0},{"$f":"'BASINFO FÖRSÄKRING'!L66","v":0},{"$f":"'BASINFO VAORG'!I66","v":0},{"$f":"'BASINFO VAORG'!G66","v":"Skriv…"},{"$f":"'BASINFO VAORG'!J66","v":"Skriv…"},{"$f":"'BASINFO VAORG'!K66","v":"Skriv…"},{"$f":"'BASINFO VAORG'!L66","v":"Skriv…"},{"$f":"IF('BASINFO FÖRSÄKRING'!A66=0,'BASINFO VAORG'!A66,'BASINFO FÖRSÄKRING'!A66)","v":0},{"$f":"IF('BASINFO FÖRSÄKRING'!B66=0,'BASINFO VAORG'!B66,'BASINFO FÖRSÄKRING'!B66)","v":0},{"$f":"IF('BASINFO FÖRSÄKRING'!D66=0,'BASINFO VAORG'!C66,'BASINFO FÖRSÄKRING'!D66)","v":0},{"$f":"IF('BASINFO FÖRSÄKRING'!E66=0,'BASINFO VAORG'!D66,'BASINFO FÖRSÄKRING'!E66)","v":0},{"$f":"IF('BASINFO FÖRSÄKRING'!F66=0,'BASINFO VAORG'!E66,'BASINFO FÖRSÄKRING'!F66)","v":0},{"$f":"'SKADEINFO FÖRSÄKRING'!D66","v":0},{"$f":"'SKADEINFO FÖRSÄKRING'!C66","v":"00:00:00"},{"$f":"'SKADEINFO FÖRSÄKRING'!E66","v":"00:00:00"},{"$f":"'SKADEINFO FÖRSÄKRING'!F66","v":0},{"$f":"'SKADEINFO FÖRSÄKRING'!G66","v":0},{"$f":"'SKADEINFO FÖRSÄKRING'!H66","v":0},{"$f":"'SKADEINFO FÖRSÄKRING'!I66","v":0},{"$f":"'SKADEINFO FÖRSÄKRING'!J66","v":0},{"$f":"'SKADEINFO FÖRSÄKRING'!K66","v":0},{"$f":"'SKADEINFO FÖRSÄKRING'!L66","v":0},{"$f":"'SKADEINFO FÖRSÄKRING'!M66","v":0},{"$f":"'SKADEINFO FÖRSÄKRING'!N66","v":0},{"$f":"'SKADEINFO FÖRSÄKRING'!O66","v":0},{"$f":"'SKADEINFO VAORG'!C66","v":"Fyll i…"},{"$f":"'SKADEINFO VAORG'!D66","v":"Välj…"},{"$f":"'SKADEINFO VAORG'!E66","v":"Välj…"},{"$f":"'SKADEINFO VAORG'!F66","v":"Välj…"},{"$f":"'SKADEINFO VAORG'!G66","v":"Välj…"},{"$f":"'SKADEINFO VAORG'!H66","v":"Välj…"},{"$f":"'SKADEINFO VAORG'!I66","v":"Välj…"},{"$f":"'SKADEINFO VAORG'!J66","v":"Välj…"},{"$f":"'SKADEINFO VAORG'!K66","v":"Välj…"},{"$f":"'SKADEINFO VAORG'!L66","v":"Välj…"},{"$f":"'SKADEINFO VAORG'!M66","v":"Välj…"},{"$f":"'SKADEINFO VAORG'!N66","v":"Skriv…"},{"$f":"'SKADEINFO VAORG'!O66","v":"Skriv…"},{"$f":"'SKADEINFO VAORG'!P66","v":"Välj…"},{"$f":"'SKADEINFO VAORG'!Q66","v":"Välj…"},{"$f":"'SKADEINFO VAORG'!R66","v":"Skriv…"},{"$f":"'SKADEINFO VAORG'!S66","v":"Skriv…"}]
[{"$f":"'BASINFO FÖRSÄKRING'!I67","v":0},{"$f":"'BASINFO FÖRSÄKRING'!G67","v":0},{"$f":"'BASINFO FÖRSÄKRING'!J67","v":0},{"$f":"'BASINFO FÖRSÄKRING'!K67","v":0},{"$f":"'BASINFO FÖRSÄKRING'!L67","v":0},{"$f":"'BASINFO VAORG'!I67","v":0},{"$f":"'BASINFO VAORG'!G67","v":"Skriv…"},{"$f":"'BASINFO VAORG'!J67","v":"Skriv…"},{"$f":"'BASINFO VAORG'!K67","v":"Skriv…"},{"$f":"'BASINFO VAORG'!L67","v":"Skriv…"},{"$f":"IF('BASINFO FÖRSÄKRING'!A67=0,'BASINFO VAORG'!A67,'BASINFO FÖRSÄKRING'!A67)","v":0},{"$f":"IF('BASINFO FÖRSÄKRING'!B67=0,'BASINFO VAORG'!B67,'BASINFO FÖRSÄKRING'!B67)","v":0},{"$f":"IF('BASINFO FÖRSÄKRING'!D67=0,'BASINFO VAORG'!C67,'BASINFO FÖRSÄKRING'!D67)","v":0},{"$f":"IF('BASINFO FÖRSÄKRING'!E67=0,'BASINFO VAORG'!D67,'BASINFO FÖRSÄKRING'!E67)","v":0},{"$f":"IF('BASINFO FÖRSÄKRING'!F67=0,'BASINFO VAORG'!E67,'BASINFO FÖRSÄKRING'!F67)","v":0},{"$f":"'SKADEINFO FÖRSÄKRING'!D67","v":0},{"$f":"'SKADEINFO FÖRSÄKRING'!C67","v":"00:00:00"},{"$f":"'SKADEINFO FÖRSÄKRING'!E67","v":"00:00:00"},{"$f":"'SKADEINFO FÖRSÄKRING'!F67","v":0},{"$f":"'SKADEINFO FÖRSÄKRING'!G67","v":0},{"$f":"'SKADEINFO FÖRSÄKRING'!H67","v":0},{"$f":"'SKADEINFO FÖRSÄKRING'!I67","v":0},{"$f":"'SKADEINFO FÖRSÄKRING'!J67","v":0},{"$f":"'SKADEINFO FÖRSÄKRING'!K67","v":0},{"$f":"'SKADEINFO FÖRSÄKRING'!L67","v":0},{"$f":"'SKADEINFO FÖRSÄKRING'!M67","v":0},{"$f":"'SKADEINFO FÖRSÄKRING'!N67","v":0},{"$f":"'SKADEINFO FÖRSÄKRING'!O67","v":0},{"$f":"'SKADEINFO VAORG'!C67","v":"Fyll i…"},{"$f":"'SKADEINFO VAORG'!D67","v":"Välj…"},{"$f":"'SKADEINFO VAORG'!E67","v":"Välj…"},{"$f":"'SKADEINFO VAORG'!F67","v":"Välj…"},{"$f":"'SKADEINFO VAORG'!G67","v":"Välj…"},{"$f":"'SKADEINFO VAORG'!H67","v":"Välj…"},{"$f":"'SKADEINFO VAORG'!I67","v":"Välj…"},{"$f":"'SKADEINFO VAORG'!J67","v":"Välj…"},{"$f":"'SKADEINFO VAORG'!K67","v":"Välj…"},{"$f":"'SKADEINFO VAORG'!L67","v":"Välj…"},{"$f":"'SKADEINFO VAORG'!M67","v":"Välj…"},{"$f":"'SKADEINFO VAORG'!N67","v":"Skriv…"},{"$f":"'SKADEINFO VAORG'!O67","v":"Skriv…"},{"$f":"'SKADEINFO VAORG'!P67","v":"Välj…"},{"$f":"'SKADEINFO VAORG'!Q67","v":"Välj…"},{"$f":"'SKADEINFO VAORG'!R67","v":"Skriv…"},{"$f":"'SKADEINFO VAORG'!S67","v":"Skriv…"}]
[{"$f":"'BASINFO FÖRSÄKRING'!I68","v":0},{"$f":"'BASINFO FÖRSÄKRING'!G68","v":0},{"$f":"'BASINFO FÖRSÄKRING'!J68","v":0},{"$f":"'BASINFO FÖRSÄKRING'!K68","v":0},{"$f":"'BASINFO FÖRSÄKRING'!L68","v":0},{"$f":"'BASINFO VAORG'!I68","v":0},{"$f":"'BASINFO VAORG'!G68","v":"Skriv…"},{"$f":"'BASINFO VAORG'!J68","v":"Skriv…"},{"$f":"'BASINFO VAORG'!K68","v":"Skriv…"},{"$f":"'BASINFO VAORG'!L68","v":"Skriv…"},{"$f":"IF('BASINFO FÖRSÄKRING'!A68=0,'BASINFO VAORG'!A68,'BASINFO FÖRSÄKRING'!A68)","v":0},{"$f":"IF('BASINFO FÖRSÄKRING'!B68=0,'BASINFO VAORG'!B68,'BASINFO FÖRSÄKRING'!B68)","v":0},{"$f":"IF('BASINFO FÖRSÄKRING'!D68=0,'BASINFO VAORG'!C68,'BASINFO FÖRSÄKRING'!D68)","v":0},{"$f":"IF('BASINFO FÖRSÄKRING'!E68=0,'BASINFO VAORG'!D68,'BASINFO FÖRSÄKRING'!E68)","v":0},{"$f":"IF('BASINFO FÖRSÄKRING'!F68=0,'BASINFO VAORG'!E68,'BASINFO FÖRSÄKRING'!F68)","v":0},{"$f":"'SKADEINFO FÖRSÄKRING'!D68","v":0},{"$f":"'SKADEINFO FÖRSÄKRING'!C68","v":"00:00:00"},{"$f":"'SKADEINFO FÖRSÄKRING'!E68","v":"00:00:00"},{"$f":"'SKADEINFO FÖRSÄKRING'!F68","v":0},{"$f":"'SKADEINFO FÖRSÄKRING'!G68","v":0},{"$f":"'SKADEINFO FÖRSÄKRING'!H68","v":0},{"$f":"'SKADEINFO FÖRSÄKRING'!I68","v":0},{"$f":"'SKADEINFO FÖRSÄKRING'!J68","v":0},{"$f":"'SKADEINFO FÖRSÄKRING'!K68","v":0},{"$f":"'SKADEINFO FÖRSÄKRING'!L68","v":0},{"$f":"'SKADEINFO FÖRSÄKRING'!M68","v":0},{"$f":"'SKADEINFO FÖRSÄKRING'!N68","v":0},{"$f":"'SKADEINFO FÖRSÄKRING'!O68","v":0},{"$f":"'SKADEINFO VAORG'!C68","v":"Fyll i…"},{"$f":"'SKADEINFO VAORG'!D68","v":"Välj…"},{"$f":"'SKADEINFO VAORG'!E68","v":"Välj…"},{"$f":"'SKADEINFO VAORG'!F68","v":"Välj…"},{"$f":"'SKADEINFO VAORG'!G68","v":"Välj…"},{"$f":"'SKADEINFO VAORG'!H68","v":"Välj…"},{"$f":"'SKADEINFO VAORG'!I68","v":"Välj…"},{"$f":"'SKADEINFO VAORG'!J68","v":"Välj…"},{"$f":"'SKADEINFO VAORG'!K68","v":"Välj…"},{"$f":"'SKADEINFO VAORG'!L68","v":"Välj…"},{"$f":"'SKADEINFO VAORG'!M68","v":"Välj…"},{"$f":"'SKADEINFO VAORG'!N68","v":"Skriv…"},{"$f":"'SKADEINFO VAORG'!O68","v":"Skriv…"},{"$f":"'SKADEINFO VAORG'!P68","v":"Välj…"},{"$f":"'SKADEINFO VAORG'!Q68","v":"Välj…"},{"$f":"'SKADEINFO VAORG'!R68","v":"Skriv…"},{"$f":"'SKADEINFO VAORG'!S68","v":"Skriv…"}]
[{"$f":"'BASINFO FÖRSÄKRING'!I69","v":0},{"$f":"'BASINFO FÖRSÄKRING'!G69","v":0},{"$f":"'BASINFO FÖRSÄKRING'!J69","v":0},{"$f":"'BASINFO FÖRSÄKRING'!K69","v":0},{"$f":"'BASINFO FÖRSÄKRING'!L69","v":0},{"$f":"'BASINFO VAORG'!I69","v":0},{"$f":"'BASINFO VAORG'!G69","v":"Skriv…"},{"$f":"'BASINFO VAORG'!J69","v":"Skriv…"},{"$f":"'BASINFO VAORG'!K69","v":"Skriv…"},{"$f":"'BASINFO VAORG'!L69","v":"Skriv…"},{"$f":"IF('BASINFO FÖRSÄKRING'!A69=0,'BASINFO VAORG'!A69,'BASINFO FÖRSÄKRING'!A69)","v":0},{"$f":"IF('BASINFO FÖRSÄKRING'!B69=0,'BASINFO VAORG'!B69,'BASINFO FÖRSÄKRING'!B69)","v":0},{"$f":"IF('BASINFO FÖRSÄKRING'!D69=0,'BASINFO VAORG'!C69,'BASINFO FÖRSÄKRING'!D69)","v":0},{"$f":"IF('BASINFO FÖRSÄKRING'!E69=0,'BASINFO VAORG'!D69,'BASINFO FÖRSÄKRING'!E69)","v":0},{"$f":"IF('BASINFO FÖRSÄKRING'!F69=0,'BASINFO VAORG'!E69,'BASINFO FÖRSÄKRING'!F69)","v":0},{"$f":"'SKADEINFO FÖRSÄKRING'!D69","v":0},{"$f":"'SKADEINFO FÖRSÄKRING'!C69","v":"00:00:00"},{"$f":"'SKADEINFO FÖRSÄKRING'!E69","v":"00:00:00"},{"$f":"'SKADEINFO FÖRSÄKRING'!F69","v":0},{"$f":"'SKADEINFO FÖRSÄKRING'!G69","v":0},{"$f":"'SKADEINFO FÖRSÄKRING'!H69","v":0},{"$f":"'SKADEINFO FÖRSÄKRING'!I69","v":0},{"$f":"'SKADEINFO FÖRSÄKRING'!J69","v":0},{"$f":"'SKADEINFO FÖRSÄKRING'!K69","v":0},{"$f":"'SKADEINFO FÖRSÄKRING'!L69","v":0},{"$f":"'SKADEINFO FÖRSÄKRING'!M69","v":0},{"$f":"'SKADEINFO FÖRSÄKRING'!N69","v":0},{"$f":"'SKADEINFO FÖRSÄKRING'!O69","v":0},{"$f":"'SKADEINFO VAORG'!C69","v":"Fyll i…"},{"$f":"'SKADEINFO VAORG'!D69","v":"Välj…"},{"$f":"'SKADEINFO VAORG'!E69","v":"Välj…"},{"$f":"'SKADEINFO VAORG'!F69","v":"Välj…"},{"$f":"'SKADEINFO VAORG'!G69","v":"Välj…"},{"$f":"'SKADEINFO VAORG'!H69","v":"Välj…"},{"$f":"'SKADEINFO VAORG'!I69","v":"Välj…"},{"$f":"'SKADEINFO VAORG'!J69","v":"Välj…"},{"$f":"'SKADEINFO VAORG'!K69","v":"Välj…"},{"$f":"'SKADEINFO VAORG'!L69","v":"Välj…"},{"$f":"'SKADEINFO VAORG'!M69","v":"Välj…"},{"$f":"'SKADEINFO VAORG'!N69","v":"Skriv…"},{"$f":"'SKADEINFO VAORG'!O69","v":"Skriv…"},{"$f":"'SKADEINFO VAORG'!P69","v":"Välj…"},{"$f":"'SKADEINFO VAORG'!Q69","v":"Välj…"},{"$f":"'SKADEINFO VAORG'!R69","v":"Skriv…"},{"$f":"'SKADEINFO VAORG'!S69","v":"Skriv…"}]
[{"$f":"'BASINFO FÖRSÄKRING'!I70","v":0},{"$f":"'BASINFO FÖRSÄKRING'!G70","v":0},{"$f":"'BASINFO FÖRSÄKRING'!J70","v":0},{"$f":"'BASINFO FÖRSÄKRING'!K70","v":0},{"$f":"'BASINFO FÖRSÄKRING'!L70","v":0},{"$f":"'BASINFO VAORG'!I70","v":0},{"$f":"'BASINFO VAORG'!G70","v":"Skriv…"},{"$f":"'BASINFO VAORG'!J70","v":"Skriv…"},{"$f":"'BASINFO VAORG'!K70","v":"Skriv…"},{"$f":"'BASINFO VAORG'!L70","v":"Skriv…"},{"$f":"IF('BASINFO FÖRSÄKRING'!A70=0,'BASINFO VAORG'!A70,'BASINFO FÖRSÄKRING'!A70)","v":0},{"$f":"IF('BASINFO FÖRSÄKRING'!B70=0,'BASINFO VAORG'!B70,'BASINFO FÖRSÄKRING'!B70)","v":0},{"$f":"IF('BASINFO FÖRSÄKRING'!D70=0,'BASINFO VAORG'!C70,'BASINFO FÖRSÄKRING'!D70)","v":0},{"$f":"IF('BASINFO FÖRSÄKRING'!E70=0,'BASINFO VAORG'!D70,'BASINFO FÖRSÄKRING'!E70)","v":0},{"$f":"IF('BASINFO FÖRSÄKRING'!F70=0,'BASINFO VAORG'!E70,'BASINFO FÖRSÄKRING'!F70)","v":0},{"$f":"'SKADEINFO FÖRSÄKRING'!D70","v":0},{"$f":"'SKADEINFO FÖRSÄKRING'!C70","v":"00:00:00"},{"$f":"'SKADEINFO FÖRSÄKRING'!E70","v":"00:00:00"},{"$f":"'SKADEINFO FÖRSÄKRING'!F70","v":0},{"$f":"'SKADEINFO FÖRSÄKRING'!G70","v":0},{"$f":"'SKADEINFO FÖRSÄKRING'!H70","v":0},{"$f":"'SKADEINFO FÖRSÄKRING'!I70","v":0},{"$f":"'SKADEINFO FÖRSÄKRING'!J70","v":0},{"$f":"'SKADEINFO FÖRSÄKRING'!K70","v":0},{"$f":"'SKADEINFO FÖRSÄKRING'!L70","v":0},{"$f":"'SKADEINFO FÖRSÄKRING'!M70","v":0},{"$f":"'SKADEINFO FÖRSÄKRING'!N70","v":0},{"$f":"'SKADEINFO FÖRSÄKRING'!O70","v":0},{"$f":"'SKADEINFO VAORG'!C70","v":"Fyll i…"},{"$f":"'SKADEINFO VAORG'!D70","v":"Välj…"},{"$f":"'SKADEINFO VAORG'!E70","v":"Välj…"},{"$f":"'SKADEINFO VAORG'!F70","v":"Välj…"},{"$f":"'SKADEINFO VAORG'!G70","v":"Välj…"},{"$f":"'SKADEINFO VAORG'!H70","v":"Välj…"},{"$f":"'SKADEINFO VAORG'!I70","v":"Välj…"},{"$f":"'SKADEINFO VAORG'!J70","v":"Välj…"},{"$f":"'SKADEINFO VAORG'!K70","v":"Välj…"},{"$f":"'SKADEINFO VAORG'!L70","v":"Välj…"},{"$f":"'SKADEINFO VAORG'!M70","v":"Välj…"},{"$f":"'SKADEINFO VAORG'!N70","v":"Skriv…"},{"$f":"'SKADEINFO VAORG'!O70","v":"Skriv…"},{"$f":"'SKADEINFO VAORG'!P70","v":"Välj…"},{"$f":"'SKADEINFO VAORG'!Q70","v":"Välj…"},{"$f":"'SKADEINFO VAORG'!R70","v":"Skriv…"},{"$f":"'SKADEINFO VAORG'!S70","v":"Skriv…"}]
[{"$f":"'BASINFO FÖRSÄKRING'!I71","v":0},{"$f":"'BASINFO FÖRSÄKRING'!G71","v":0},{"$f":"'BASINFO FÖRSÄKRING'!J71","v":0},{"$f":"'BASINFO FÖRSÄKRING'!K71","v":0},{"$f":"'BASINFO FÖRSÄKRING'!L71","v":0},{"$f":"'BASINFO VAORG'!I71","v":0},{"$f":"'BASINFO VAORG'!G71","v":"Skriv…"},{"$f":"'BASINFO VAORG'!J71","v":"Skriv…"},{"$f":"'BASINFO VAORG'!K71","v":"Skriv…"},{"$f":"'BASINFO VAORG'!L71","v":"Skriv…"},{"$f":"IF('BASINFO FÖRSÄKRING'!A71=0,'BASINFO VAORG'!A71,'BASINFO FÖRSÄKRING'!A71)","v":0},{"$f":"IF('BASINFO FÖRSÄKRING'!B71=0,'BASINFO VAORG'!B71,'BASINFO FÖRSÄKRING'!B71)","v":0},{"$f":"IF('BASINFO FÖRSÄKRING'!D71=0,'BASINFO VAORG'!C71,'BASINFO FÖRSÄKRING'!D71)","v":0},{"$f":"IF('BASINFO FÖRSÄKRING'!E71=0,'BASINFO VAORG'!D71,'BASINFO FÖRSÄKRING'!E71)","v":0},{"$f":"IF('BASINFO FÖRSÄKRING'!F71=0,'BASINFO VAORG'!E71,'BASINFO FÖRSÄKRING'!F71)","v":0},{"$f":"'SKADEINFO FÖRSÄKRING'!D71","v":0},{"$f":"'SKADEINFO FÖRSÄKRING'!C71","v":"00:00:00"},{"$f":"'SKADEINFO FÖRSÄKRING'!E71","v":"00:00:00"},{"$f":"'SKADEINFO FÖRSÄKRING'!F71","v":0},{"$f":"'SKADEINFO FÖRSÄKRING'!G71","v":0},{"$f":"'SKADEINFO FÖRSÄKRING'!H71","v":0},{"$f":"'SKADEINFO FÖRSÄKRING'!I71","v":0},{"$f":"'SKADEINFO FÖRSÄKRING'!J71","v":0},{"$f":"'SKADEINFO FÖRSÄKRING'!K71","v":0},{"$f":"'SKADEINFO FÖRSÄKRING'!L71","v":0},{"$f":"'SKADEINFO FÖRSÄKRING'!M71","v":0},{"$f":"'SKADEINFO FÖRSÄKRING'!N71","v":0},{"$f":"'SKADEINFO FÖRSÄKRING'!O71","v":0},{"$f":"'SKADEINFO VAORG'!C71","v":"Fyll i…"},{"$f":"'SKADEINFO VAORG'!D71","v":"Välj…"},{"$f":"'SKADEINFO VAORG'!E71","v":"Välj…"},{"$f":"'SKADEINFO VAORG'!F71","v":"Välj…"},{"$f":"'SKADEINFO VAORG'!G71","v":"Välj…"},{"$f":"'SKADEINFO VAORG'!H71","v":"Välj…"},{"$f":"'SKADEINFO VAORG'!I71","v":"Välj…"},{"$f":"'SKADEINFO VAORG'!J71","v":"Välj…"},{"$f":"'SKADEINFO VAORG'!K71","v":"Välj…"},{"$f":"'SKADEINFO VAORG'!L71","v":"Välj…"},{"$f":"'SKADEINFO VAORG'!M71","v":"Välj…"},{"$f":"'SKADEINFO VAORG'!N71","v":"Skriv…"},{"$f":"'SKADEINFO VAORG'!O71","v":"Skriv…"},{"$f":"'SKADEINFO VAORG'!P71","v":"Välj…"},{"$f":"'SKADEINFO VAORG'!Q71","v":"Välj…"},{"$f":"'SKADEINFO VAORG'!R71","v":"Skriv…"},{"$f":"'SKADEINFO VAORG'!S71","v":"Skriv…"}]
[{"$f":"'BASINFO FÖRSÄKRING'!I72","v":0},{"$f":"'BASINFO FÖRSÄKRING'!G72","v":0},{"$f":"'BASINFO FÖRSÄKRING'!J72","v":0},{"$f":"'BASINFO FÖRSÄKRING'!K72","v":0},{"$f":"'BASINFO FÖRSÄKRING'!L72","v":0},{"$f":"'BASINFO VAORG'!I72","v":0},{"$f":"'BASINFO VAORG'!G72","v":"Skriv…"},{"$f":"'BASINFO VAORG'!J72","v":"Skriv…"},{"$f":"'BASINFO VAORG'!K72","v":"Skriv…"},{"$f":"'BASINFO VAORG'!L72","v":"Skriv…"},{"$f":"IF('BASINFO FÖRSÄKRING'!A72=0,'BASINFO VAORG'!A72,'BASINFO FÖRSÄKRING'!A72)","v":0},{"$f":"IF('BASINFO FÖRSÄKRING'!B72=0,'BASINFO VAORG'!B72,'BASINFO FÖRSÄKRING'!B72)","v":0},{"$f":"IF('BASINFO FÖRSÄKRING'!D72=0,'BASINFO VAORG'!C72,'BASINFO FÖRSÄKRING'!D72)","v":0},{"$f":"IF('BASINFO FÖRSÄKRING'!E72=0,'BASINFO VAORG'!D72,'BASINFO FÖRSÄKRING'!E72)","v":0},{"$f":"IF('BASINFO FÖRSÄKRING'!F72=0,'BASINFO VAORG'!E72,'BASINFO FÖRSÄKRING'!F72)","v":0},{"$f":"'SKADEINFO FÖRSÄKRING'!D72","v":0},{"$f":"'SKADEINFO FÖRSÄKRING'!C72","v":"00:00:00"},{"$f":"'SKADEINFO FÖRSÄKRING'!E72","v":"00:00:00"},{"$f":"'SKADEINFO FÖRSÄKRING'!F72","v":0},{"$f":"'SKADEINFO FÖRSÄKRING'!G72","v":0},{"$f":"'SKADEINFO FÖRSÄKRING'!H72","v":0},{"$f":"'SKADEINFO FÖRSÄKRING'!I72","v":0},{"$f":"'SKADEINFO FÖRSÄKRING'!J72","v":0},{"$f":"'SKADEINFO FÖRSÄKRING'!K72","v":0},{"$f":"'SKADEINFO FÖRSÄKRING'!L72","v":0},{"$f":"'SKADEINFO FÖRSÄKRING'!M72","v":0},{"$f":"'SKADEINFO FÖRSÄKRING'!N72","v":0},{"$f":"'SKADEINFO FÖRSÄKRING'!O72","v":0},{"$f":"'SKADEINFO VAORG'!C72","v":"Fyll i…"},{"$f":"'SKADEINFO VAORG'!D72","v":"Välj…"},{"$f":"'SKADEINFO VAORG'!E72","v":"Välj…"},{"$f":"'SKADEINFO VAORG'!F72","v":"Välj…"},{"$f":"'SKADEINFO VAORG'!G72","v":"Välj…"},{"$f":"'SKADEINFO VAORG'!H72","v":"Välj…"},{"$f":"'SKADEINFO VAORG'!I72","v":"Välj…"},{"$f":"'SKADEINFO VAORG'!J72","v":"Välj…"},{"$f":"'SKADEINFO VAORG'!K72","v":"Välj…"},{"$f":"'SKADEINFO VAORG'!L72","v":"Välj…"},{"$f":"'SKADEINFO VAORG'!M72","v":"Välj…"},{"$f":"'SKADEINFO VAORG'!N72","v":"Skriv…"},{"$f":"'SKADEINFO VAORG'!O72","v":"Skriv…"},{"$f":"'SKADEINFO VAORG'!P72","v":"Välj…"},{"$f":"'SKADEINFO VAORG'!Q72","v":"Välj…"},{"$f":"'SKADEINFO VAORG'!R72","v":"Skriv…"},{"$f":"'SKADEINFO VAORG'!S72","v":"Skriv…"}]
[{"$f":"'BASINFO FÖRSÄKRING'!I73","v":0},{"$f":"'BASINFO FÖRSÄKRING'!G73","v":0},{"$f":"'BASINFO FÖRSÄKRING'!J73","v":0},{"$f":"'BASINFO FÖRSÄKRING'!K73","v":0},{"$f":"'BASINFO FÖRSÄKRING'!L73","v":0},{"$f":"'BASINFO VAORG'!I73","v":0},{"$f":"'BASINFO VAORG'!G73","v":"Skriv…"},{"$f":"'BASINFO VAORG'!J73","v":"Skriv…"},{"$f":"'BASINFO VAORG'!K73","v":"Skriv…"},{"$f":"'BASINFO VAORG'!L73","v":"Skriv…"},{"$f":"IF('BASINFO FÖRSÄKRING'!A73=0,'BASINFO VAORG'!A73,'BASINFO FÖRSÄKRING'!A73)","v":0},{"$f":"IF('BASINFO FÖRSÄKRING'!B73=0,'BASINFO VAORG'!B73,'BASINFO FÖRSÄKRING'!B73)","v":0},{"$f":"IF('BASINFO FÖRSÄKRING'!D73=0,'BASINFO VAORG'!C73,'BASINFO FÖRSÄKRING'!D73)","v":0},{"$f":"IF('BASINFO FÖRSÄKRING'!E73=0,'BASINFO VAORG'!D73,'BASINFO FÖRSÄKRING'!E73)","v":0},{"$f":"IF('BASINFO FÖRSÄKRING'!F73=0,'BASINFO VAORG'!E73,'BASINFO FÖRSÄKRING'!F73)","v":0},{"$f":"'SKADEINFO FÖRSÄKRING'!D73","v":0},{"$f":"'SKADEINFO FÖRSÄKRING'!C73","v":"00:00:00"},{"$f":"'SKADEINFO FÖRSÄKRING'!E73","v":"00:00:00"},{"$f":"'SKADEINFO FÖRSÄKRING'!F73","v":0},{"$f":"'SKADEINFO FÖRSÄKRING'!G73","v":0},{"$f":"'SKADEINFO FÖRSÄKRING'!H73","v":0},{"$f":"'SKADEINFO FÖRSÄKRING'!I73","v":0},{"$f":"'SKADEINFO FÖRSÄKRING'!J73","v":0},{"$f":"'SKADEINFO FÖRSÄKRING'!K73","v":0},{"$f":"'SKADEINFO FÖRSÄKRING'!L73","v":0},{"$f":"'SKADEINFO FÖRSÄKRING'!M73","v":0},{"$f":"'SKADEINFO FÖRSÄKRING'!N73","v":0},{"$f":"'SKADEINFO FÖRSÄKRING'!O73","v":0},{"$f":"'SKADEINFO VAORG'!C73","v":"Fyll i…"},{"$f":"'SKADEINFO VAORG'!D73","v":"Välj…"},{"$f":"'SKADEINFO VAORG'!E73","v":"Välj…"},{"$f":"'SKADEINFO VAORG'!F73","v":"Välj…"},{"$f":"'SKADEINFO VAORG'!G73","v":"Välj…"},{"$f":"'SKADEINFO VAORG'!H73","v":"Välj…"},{"$f":"'SKADEINFO VAORG'!I73","v":"Välj…"},{"$f":"'SKADEINFO VAORG'!J73","v":"Välj…"},{"$f":"'SKADEINFO VAORG'!K73","v":"Välj…"},{"$f":"'SKADEINFO VAORG'!L73","v":"Välj…"},{"$f":"'SKADEINFO VAORG'!M73","v":"Välj…"},{"$f":"'SKADEINFO VAORG'!N73","v":"Skriv…"},{"$f":"'SKADEINFO VAORG'!O73","v":"Skriv…"},{"$f":"'SKADEINFO VAORG'!P73","v":"Välj…"},{"$f":"'SKADEINFO VAORG'!Q73","v":"Välj…"},{"$f":"'SKADEINFO VAORG'!R73","v":"Skriv…"},{"$f":"'SKADEINFO VAORG'!S73","v":"Skriv…"}]
[{"$f":"'BASINFO FÖRSÄKRING'!I74","v":0},{"$f":"'BASINFO FÖRSÄKRING'!G74","v":0},{"$f":"'BASINFO FÖRSÄKRING'!J74","v":0},{"$f":"'BASINFO FÖRSÄKRING'!K74","v":0},{"$f":"'BASINFO FÖRSÄKRING'!L74","v":0},{"$f":"'BASINFO VAORG'!I74","v":0},{"$f":"'BASINFO VAORG'!G74","v":"Skriv…"},{"$f":"'BASINFO VAORG'!J74","v":"Skriv…"},{"$f":"'BASINFO VAORG'!K74","v":"Skriv…"},{"$f":"'BASINFO VAORG'!L74","v":"Skriv…"},{"$f":"IF('BASINFO FÖRSÄKRING'!A74=0,'BASINFO VAORG'!A74,'BASINFO FÖRSÄKRING'!A74)","v":0},{"$f":"IF('BASINFO FÖRSÄKRING'!B74=0,'BASINFO VAORG'!B74,'BASINFO FÖRSÄKRING'!B74)","v":0},{"$f":"IF('BASINFO FÖRSÄKRING'!D74=0,'BASINFO VAORG'!C74,'BASINFO FÖRSÄKRING'!D74)","v":0},{"$f":"IF('BASINFO FÖRSÄKRING'!E74=0,'BASINFO VAORG'!D74,'BASINFO FÖRSÄKRING'!E74)","v":0},{"$f":"IF('BASINFO FÖRSÄKRING'!F74=0,'BASINFO VAORG'!E74,'BASINFO FÖRSÄKRING'!F74)","v":0},{"$f":"'SKADEINFO FÖRSÄKRING'!D74","v":0},{"$f":"'SKADEINFO FÖRSÄKRING'!C74","v":"00:00:00"},{"$f":"'SKADEINFO FÖRSÄKRING'!E74","v":"00:00:00"},{"$f":"'SKADEINFO FÖRSÄKRING'!F74","v":0},{"$f":"'SKADEINFO FÖRSÄKRING'!G74","v":0},{"$f":"'SKADEINFO FÖRSÄKRING'!H74","v":0},{"$f":"'SKADEINFO FÖRSÄKRING'!I74","v":0},{"$f":"'SKADEINFO FÖRSÄKRING'!J74","v":0},{"$f":"'SKADEINFO FÖRSÄKRING'!K74","v":0},{"$f":"'SKADEINFO FÖRSÄKRING'!L74","v":0},{"$f":"'SKADEINFO FÖRSÄKRING'!M74","v":0},{"$f":"'SKADEINFO FÖRSÄKRING'!N74","v":0},{"$f":"'SKADEINFO FÖRSÄKRING'!O74","v":0},{"$f":"'SKADEINFO VAORG'!C74","v":"Fyll i…"},{"$f":"'SKADEINFO VAORG'!D74","v":"Välj…"},{"$f":"'SKADEINFO VAORG'!E74","v":"Välj…"},{"$f":"'SKADEINFO VAORG'!F74","v":"Välj…"},{"$f":"'SKADEINFO VAORG'!G74","v":"Välj…"},{"$f":"'SKADEINFO VAORG'!H74","v":"Välj…"},{"$f":"'SKADEINFO VAORG'!I74","v":"Välj…"},{"$f":"'SKADEINFO VAORG'!J74","v":"Välj…"},{"$f":"'SKADEINFO VAORG'!K74","v":"Välj…"},{"$f":"'SKADEINFO VAORG'!L74","v":"Välj…"},{"$f":"'SKADEINFO VAORG'!M74","v":"Välj…"},{"$f":"'SKADEINFO VAORG'!N74","v":"Skriv…"},{"$f":"'SKADEINFO VAORG'!O74","v":"Skriv…"},{"$f":"'SKADEINFO VAORG'!P74","v":"Välj…"},{"$f":"'SKADEINFO VAORG'!Q74","v":"Välj…"},{"$f":"'SKADEINFO VAORG'!R74","v":"Skriv…"},{"$f":"'SKADEINFO VAORG'!S74","v":"Skriv…"}]
[{"$f":"'BASINFO FÖRSÄKRING'!I75","v":0},{"$f":"'BASINFO FÖRSÄKRING'!G75","v":0},{"$f":"'BASINFO FÖRSÄKRING'!J75","v":0},{"$f":"'BASINFO FÖRSÄKRING'!K75","v":0},{"$f":"'BASINFO FÖRSÄKRING'!L75","v":0},{"$f":"'BASINFO VAORG'!I75","v":0},{"$f":"'BASINFO VAORG'!G75","v":"Skriv…"},{"$f":"'BASINFO VAORG'!J75","v":"Skriv…"},{"$f":"'BASINFO VAORG'!K75","v":"Skriv…"},{"$f":"'BASINFO VAORG'!L75","v":"Skriv…"},{"$f":"IF('BASINFO FÖRSÄKRING'!A75=0,'BASINFO VAORG'!A75,'BASINFO FÖRSÄKRING'!A75)","v":0},{"$f":"IF('BASINFO FÖRSÄKRING'!B75=0,'BASINFO VAORG'!B75,'BASINFO FÖRSÄKRING'!B75)","v":0},{"$f":"IF('BASINFO FÖRSÄKRING'!D75=0,'BASINFO VAORG'!C75,'BASINFO FÖRSÄKRING'!D75)","v":0},{"$f":"IF('BASINFO FÖRSÄKRING'!E75=0,'BASINFO VAORG'!D75,'BASINFO FÖRSÄKRING'!E75)","v":0},{"$f":"IF('BASINFO FÖRSÄKRING'!F75=0,'BASINFO VAORG'!E75,'BASINFO FÖRSÄKRING'!F75)","v":0},{"$f":"'SKADEINFO FÖRSÄKRING'!D75","v":0},{"$f":"'SKADEINFO FÖRSÄKRING'!C75","v":"00:00:00"},{"$f":"'SKADEINFO FÖRSÄKRING'!E75","v":"00:00:00"},{"$f":"'SKADEINFO FÖRSÄKRING'!F75","v":0},{"$f":"'SKADEINFO FÖRSÄKRING'!G75","v":0},{"$f":"'SKADEINFO FÖRSÄKRING'!H75","v":0},{"$f":"'SKADEINFO FÖRSÄKRING'!I75","v":0},{"$f":"'SKADEINFO FÖRSÄKRING'!J75","v":0},{"$f":"'SKADEINFO FÖRSÄKRING'!K75","v":0},{"$f":"'SKADEINFO FÖRSÄKRING'!L75","v":0},{"$f":"'SKADEINFO FÖRSÄKRING'!M75","v":0},{"$f":"'SKADEINFO FÖRSÄKRING'!N75","v":0},{"$f":"'SKADEINFO FÖRSÄKRING'!O75","v":0},{"$f":"'SKADEINFO VAORG'!C75","v":"Fyll i…"},{"$f":"'SKADEINFO VAORG'!D75","v":"Välj…"},{"$f":"'SKADEINFO VAORG'!E75","v":"Välj…"},{"$f":"'SKADEINFO VAORG'!F75","v":"Välj…"},{"$f":"'SKADEINFO VAORG'!G75","v":"Välj…"},{"$f":"'SKADEINFO VAORG'!H75","v":"Välj…"},{"$f":"'SKADEINFO VAORG'!I75","v":"Välj…"},{"$f":"'SKADEINFO VAORG'!J75","v":"Välj…"},{"$f":"'SKADEINFO VAORG'!K75","v":"Välj…"},{"$f":"'SKADEINFO VAORG'!L75","v":"Välj…"},{"$f":"'SKADEINFO VAORG'!M75","v":"Välj…"},{"$f":"'SKADEINFO VAORG'!N75","v":"Skriv…"},{"$f":"'SKADEINFO VAORG'!O75","v":"Skriv…"},{"$f":"'SKADEINFO VAORG'!P75","v":"Välj…"},{"$f":"'SKADEINFO VAORG'!Q75","v":"Välj…"},{"$f":"'SKADEINFO VAORG'!R75","v":"Skriv…"},{"$f":"'SKADEINFO VAORG'!S75","v":"Skriv…"}]
[{"$f":"'BASINFO FÖRSÄKRING'!I76","v":0},{"$f":"'BASINFO FÖRSÄKRING'!G76","v":0},{"$f":"'BASINFO FÖRSÄKRING'!J76","v":0},{"$f":"'BASINFO FÖRSÄKRING'!K76","v":0},{"$f":"'BASINFO FÖRSÄKRING'!L76","v":0},{"$f":"'BASINFO VAORG'!I76","v":0},{"$f":"'BASINFO VAORG'!G76","v":"Skriv…"},{"$f":"'BASINFO VAORG'!J76","v":"Skriv…"},{"$f":"'BASINFO VAORG'!K76","v":"Skriv…"},{"$f":"'BASINFO VAORG'!L76","v":"Skriv…"},{"$f":"IF('BASINFO FÖRSÄKRING'!A76=0,'BASINFO VAORG'!A76,'BASINFO FÖRSÄKRING'!A76)","v":0},{"$f":"IF('BASINFO FÖRSÄKRING'!B76=0,'BASINFO VAORG'!B76,'BASINFO FÖRSÄKRING'!B76)","v":0},{"$f":"IF('BASINFO FÖRSÄKRING'!D76=0,'BASINFO VAORG'!C76,'BASINFO FÖRSÄKRING'!D76)","v":0},{"$f":"IF('BASINFO FÖRSÄKRING'!E76=0,'BASINFO VAORG'!D76,'BASINFO FÖRSÄKRING'!E76)","v":0},{"$f":"IF('BASINFO FÖRSÄKRING'!F76=0,'BASINFO VAORG'!E76,'BASINFO FÖRSÄKRING'!F76)","v":0},{"$f":"'SKADEINFO FÖRSÄKRING'!D76","v":0},{"$f":"'SKADEINFO FÖRSÄKRING'!C76","v":"00:00:00"},{"$f":"'SKADEINFO FÖRSÄKRING'!E76","v":"00:00:00"},{"$f":"'SKADEINFO FÖRSÄKRING'!F76","v":0},{"$f":"'SKADEINFO FÖRSÄKRING'!G76","v":0},{"$f":"'SKADEINFO FÖRSÄKRING'!H76","v":0},{"$f":"'SKADEINFO FÖRSÄKRING'!I76","v":0},{"$f":"'SKADEINFO FÖRSÄKRING'!J76","v":0},{"$f":"'SKADEINFO FÖRSÄKRING'!K76","v":0},{"$f":"'SKADEINFO FÖRSÄKRING'!L76","v":0},{"$f":"'SKADEINFO FÖRSÄKRING'!M76","v":0},{"$f":"'SKADEINFO FÖRSÄKRING'!N76","v":0},{"$f":"'SKADEINFO FÖRSÄKRING'!O76","v":0},{"$f":"'SKADEINFO VAORG'!C76","v":"Fyll i…"},{"$f":"'SKADEINFO VAORG'!D76","v":"Välj…"},{"$f":"'SKADEINFO VAORG'!E76","v":"Välj…"},{"$f":"'SKADEINFO VAORG'!F76","v":"Välj…"},{"$f":"'SKADEINFO VAORG'!G76","v":"Välj…"},{"$f":"'SKADEINFO VAORG'!H76","v":"Välj…"},{"$f":"'SKADEINFO VAORG'!I76","v":"Välj…"},{"$f":"'SKADEINFO VAORG'!J76","v":"Välj…"},{"$f":"'SKADEINFO VAORG'!K76","v":"Välj…"},{"$f":"'SKADEINFO VAORG'!L76","v":"Välj…"},{"$f":"'SKADEINFO VAORG'!M76","v":"Välj…"},{"$f":"'SKADEINFO VAORG'!N76","v":"Skriv…"},{"$f":"'SKADEINFO VAORG'!O76","v":"Skriv…"},{"$f":"'SKADEINFO VAORG'!P76","v":"Välj…"},{"$f":"'SKADEINFO VAORG'!Q76","v":"Välj…"},{"$f":"'SKADEINFO VAORG'!R76","v":"Skriv…"},{"$f":"'SKADEINFO VAORG'!S76","v":"Skriv…"}]
[{"$f":"'BASINFO FÖRSÄKRING'!I77","v":0},{"$f":"'BASINFO FÖRSÄKRING'!G77","v":0},{"$f":"'BASINFO FÖRSÄKRING'!J77","v":0},{"$f":"'BASINFO FÖRSÄKRING'!K77","v":0},{"$f":"'BASINFO FÖRSÄKRING'!L77","v":0},{"$f":"'BASINFO VAORG'!I77","v":0},{"$f":"'BASINFO VAORG'!G77","v":"Skriv…"},{"$f":"'BASINFO VAORG'!J77","v":"Skriv…"},{"$f":"'BASINFO VAORG'!K77","v":"Skriv…"},{"$f":"'BASINFO VAORG'!L77","v":"Skriv…"},{"$f":"IF('BASINFO FÖRSÄKRING'!A77=0,'BASINFO VAORG'!A77,'BASINFO FÖRSÄKRING'!A77)","v":0},{"$f":"IF('BASINFO FÖRSÄKRING'!B77=0,'BASINFO VAORG'!B77,'BASINFO FÖRSÄKRING'!B77)","v":0},{"$f":"IF('BASINFO FÖRSÄKRING'!D77=0,'BASINFO VAORG'!C77,'BASINFO FÖRSÄKRING'!D77)","v":0},{"$f":"IF('BASINFO FÖRSÄKRING'!E77=0,'BASINFO VAORG'!D77,'BASINFO FÖRSÄKRING'!E77)","v":0},{"$f":"IF('BASINFO FÖRSÄKRING'!F77=0,'BASINFO VAORG'!E77,'BASINFO FÖRSÄKRING'!F77)","v":0},{"$f":"'SKADEINFO FÖRSÄKRING'!D77","v":0},{"$f":"'SKADEINFO FÖRSÄKRING'!C77","v":"00:00:00"},{"$f":"'SKADEINFO FÖRSÄKRING'!E77","v":"00:00:00"},{"$f":"'SKADEINFO FÖRSÄKRING'!F77","v":0},{"$f":"'SKADEINFO FÖRSÄKRING'!G77","v":0},{"$f":"'SKADEINFO FÖRSÄKRING'!H77","v":0},{"$f":"'SKADEINFO FÖRSÄKRING'!I77","v":0},{"$f":"'SKADEINFO FÖRSÄKRING'!J77","v":0},{"$f":"'SKADEINFO FÖRSÄKRING'!K77","v":0},{"$f":"'SKADEINFO FÖRSÄKRING'!L77","v":0},{"$f":"'SKADEINFO FÖRSÄKRING'!M77","v":0},{"$f":"'SKADEINFO FÖRSÄKRING'!N77","v":0},{"$f":"'SKADEINFO FÖRSÄKRING'!O77","v":0},{"$f":"'SKADEINFO VAORG'!C77","v":"Fyll i…"},{"$f":"'SKADEINFO VAORG'!D77","v":"Välj…"},{"$f":"'SKADEINFO VAORG'!E77","v":"Välj…"},{"$f":"'SKADEINFO VAORG'!F77","v":"Välj…"},{"$f":"'SKADEINFO VAORG'!G77","v":"Välj…"},{"$f":"'SKADEINFO VAORG'!H77","v":"Välj…"},{"$f":"'SKADEINFO VAORG'!I77","v":"Välj…"},{"$f":"'SKADEINFO VAORG'!J77","v":"Välj…"},{"$f":"'SKADEINFO VAORG'!K77","v":"Välj…"},{"$f":"'SKADEINFO VAORG'!L77","v":"Välj…"},{"$f":"'SKADEINFO VAORG'!M77","v":"Välj…"},{"$f":"'SKADEINFO VAORG'!N77","v":"Skriv…"},{"$f":"'SKADEINFO VAORG'!O77","v":"Skriv…"},{"$f":"'SKADEINFO VAORG'!P77","v":"Välj…"},{"$f":"'SKADEINFO VAORG'!Q77","v":"Välj…"},{"$f":"'SKADEINFO VAORG'!R77","v":"Skriv…"},{"$f":"'SKADEINFO VAORG'!S77","v":"Skriv…"}]
[{"$f":"'BASINFO FÖRSÄKRING'!I78","v":0},{"$f":"'BASINFO FÖRSÄKRING'!G78","v":0},{"$f":"'BASINFO FÖRSÄKRING'!J78","v":0},{"$f":"'BASINFO FÖRSÄKRING'!K78","v":0},{"$f":"'BASINFO FÖRSÄKRING'!L78","v":0},{"$f":"'BASINFO VAORG'!I78","v":0},{"$f":"'BASINFO VAORG'!G78","v":"Skriv…"},{"$f":"'BASINFO VAORG'!J78","v":"Skriv…"},{"$f":"'BASINFO VAORG'!K78","v":"Skriv…"},{"$f":"'BASINFO VAORG'!L78","v":"Skriv…"},{"$f":"IF('BASINFO FÖRSÄKRING'!A78=0,'BASINFO VAORG'!A78,'BASINFO FÖRSÄKRING'!A78)","v":0},{"$f":"IF('BASINFO FÖRSÄKRING'!B78=0,'BASINFO VAORG'!B78,'BASINFO FÖRSÄKRING'!B78)","v":0},{"$f":"IF('BASINFO FÖRSÄKRING'!D78=0,'BASINFO VAORG'!C78,'BASINFO FÖRSÄKRING'!D78)","v":0},{"$f":"IF('BASINFO FÖRSÄKRING'!E78=0,'BASINFO VAORG'!D78,'BASINFO FÖRSÄKRING'!E78)","v":0},{"$f":"IF('BASINFO FÖRSÄKRING'!F78=0,'BASINFO VAORG'!E78,'BASINFO FÖRSÄKRING'!F78)","v":0},{"$f":"'SKADEINFO FÖRSÄKRING'!D78","v":0},{"$f":"'SKADEINFO FÖRSÄKRING'!C78","v":"00:00:00"},{"$f":"'SKADEINFO FÖRSÄKRING'!E78","v":"00:00:00"},{"$f":"'SKADEINFO FÖRSÄKRING'!F78","v":0},{"$f":"'SKADEINFO FÖRSÄKRING'!G78","v":0},{"$f":"'SKADEINFO FÖRSÄKRING'!H78","v":0},{"$f":"'SKADEINFO FÖRSÄKRING'!I78","v":0},{"$f":"'SKADEINFO FÖRSÄKRING'!J78","v":0},{"$f":"'SKADEINFO FÖRSÄKRING'!K78","v":0},{"$f":"'SKADEINFO FÖRSÄKRING'!L78","v":0},{"$f":"'SKADEINFO FÖRSÄKRING'!M78","v":0},{"$f":"'SKADEINFO FÖRSÄKRING'!N78","v":0},{"$f":"'SKADEINFO FÖRSÄKRING'!O78","v":0},{"$f":"'SKADEINFO VAORG'!C78","v":"Fyll i…"},{"$f":"'SKADEINFO VAORG'!D78","v":"Välj…"},{"$f":"'SKADEINFO VAORG'!E78","v":"Välj…"},{"$f":"'SKADEINFO VAORG'!F78","v":"Välj…"},{"$f":"'SKADEINFO VAORG'!G78","v":"Välj…"},{"$f":"'SKADEINFO VAORG'!H78","v":"Välj…"},{"$f":"'SKADEINFO VAORG'!I78","v":"Välj…"},{"$f":"'SKADEINFO VAORG'!J78","v":"Välj…"},{"$f":"'SKADEINFO VAORG'!K78","v":"Välj…"},{"$f":"'SKADEINFO VAORG'!L78","v":"Välj…"},{"$f":"'SKADEINFO VAORG'!M78","v":"Välj…"},{"$f":"'SKADEINFO VAORG'!N78","v":"Skriv…"},{"$f":"'SKADEINFO VAORG'!O78","v":"Skriv…"},{"$f":"'SKADEINFO VAORG'!P78","v":"Välj…"},{"$f":"'SKADEINFO VAORG'!Q78","v":"Välj…"},{"$f":"'SKADEINFO VAORG'!R78","v":"Skriv…"},{"$f":"'SKADEINFO VAORG'!S78","v":"Skriv…"}]
[{"$f":"'BASINFO FÖRSÄKRING'!I79","v":0},{"$f":"'BASINFO FÖRSÄKRING'!G79","v":0},{"$f":"'BASINFO FÖRSÄKRING'!J79","v":0},{"$f":"'BASINFO FÖRSÄKRING'!K79","v":0},{"$f":"'BASINFO FÖRSÄKRING'!L79","v":0},{"$f":"'BASINFO VAORG'!I79","v":0},{"$f":"'BASINFO VAORG'!G79","v":"Skriv…"},{"$f":"'BASINFO VAORG'!J79","v":"Skriv…"},{"$f":"'BASINFO VAORG'!K79","v":"Skriv…"},{"$f":"'BASINFO VAORG'!L79","v":"Skriv…"},{"$f":"IF('BASINFO FÖRSÄKRING'!A79=0,'BASINFO VAORG'!A79,'BASINFO FÖRSÄKRING'!A79)","v":0},{"$f":"IF('BASINFO FÖRSÄKRING'!B79=0,'BASINFO VAORG'!B79,'BASINFO FÖRSÄKRING'!B79)","v":0},{"$f":"IF('BASINFO FÖRSÄKRING'!D79=0,'BASINFO VAORG'!C79,'BASINFO FÖRSÄKRING'!D79)","v":0},{"$f":"IF('BASINFO FÖRSÄKRING'!E79=0,'BASINFO VAORG'!D79,'BASINFO FÖRSÄKRING'!E79)","v":0},{"$f":"IF('BASINFO FÖRSÄKRING'!F79=0,'BASINFO VAORG'!E79,'BASINFO FÖRSÄKRING'!F79)","v":0},{"$f":"'SKADEINFO FÖRSÄKRING'!D79","v":0},{"$f":"'SKADEINFO FÖRSÄKRING'!C79","v":"00:00:00"},{"$f":"'SKADEINFO FÖRSÄKRING'!E79","v":"00:00:00"},{"$f":"'SKADEINFO FÖRSÄKRING'!F79","v":0},{"$f":"'SKADEINFO FÖRSÄKRING'!G79","v":0},{"$f":"'SKADEINFO FÖRSÄKRING'!H79","v":0},{"$f":"'SKADEINFO FÖRSÄKRING'!I79","v":0},{"$f":"'SKADEINFO FÖRSÄKRING'!J79","v":0},{"$f":"'SKADEINFO FÖRSÄKRING'!K79","v":0},{"$f":"'SKADEINFO FÖRSÄKRING'!L79","v":0},{"$f":"'SKADEINFO FÖRSÄKRING'!M79","v":0},{"$f":"'SKADEINFO FÖRSÄKRING'!N79","v":0},{"$f":"'SKADEINFO FÖRSÄKRING'!O79","v":0},{"$f":"'SKADEINFO VAORG'!C79","v":"Fyll i…"},{"$f":"'SKADEINFO VAORG'!D79","v":"Välj…"},{"$f":"'SKADEINFO VAORG'!E79","v":"Välj…"},{"$f":"'SKADEINFO VAORG'!F79","v":"Välj…"},{"$f":"'SKADEINFO VAORG'!G79","v":"Välj…"},{"$f":"'SKADEINFO VAORG'!H79","v":"Välj…"},{"$f":"'SKADEINFO VAORG'!I79","v":"Välj…"},{"$f":"'SKADEINFO VAORG'!J79","v":"Välj…"},{"$f":"'SKADEINFO VAORG'!K79","v":"Välj…"},{"$f":"'SKADEINFO VAORG'!L79","v":"Välj…"},{"$f":"'SKADEINFO VAORG'!M79","v":"Välj…"},{"$f":"'SKADEINFO VAORG'!N79","v":"Skriv…"},{"$f":"'SKADEINFO VAORG'!O79","v":"Skriv…"},{"$f":"'SKADEINFO VAORG'!P79","v":"Välj…"},{"$f":"'SKADEINFO VAORG'!Q79","v":"Välj…"},{"$f":"'SKADEINFO VAORG'!R79","v":"Skriv…"},{"$f":"'SKADEINFO VAORG'!S79","v":"Skriv…"}]
[{"$f":"'BASINFO FÖRSÄKRING'!I80","v":0},{"$f":"'BASINFO FÖRSÄKRING'!G80","v":0},{"$f":"'BASINFO FÖRSÄKRING'!J80","v":0},{"$f":"'BASINFO FÖRSÄKRING'!K80","v":0},{"$f":"'BASINFO FÖRSÄKRING'!L80","v":0},{"$f":"'BASINFO VAORG'!I80","v":0},{"$f":"'BASINFO VAORG'!G80","v":"Skriv…"},{"$f":"'BASINFO VAORG'!J80","v":"Skriv…"},{"$f":"'BASINFO VAORG'!K80","v":"Skriv…"},{"$f":"'BASINFO VAORG'!L80","v":"Skriv…"},{"$f":"IF('BASINFO FÖRSÄKRING'!A80=0,'BASINFO VAORG'!A80,'BASINFO FÖRSÄKRING'!A80)","v":0},{"$f":"IF('BASINFO FÖRSÄKRING'!B80=0,'BASINFO VAORG'!B80,'BASINFO FÖRSÄKRING'!B80)","v":0},{"$f":"IF('BASINFO FÖRSÄKRING'!D80=0,'BASINFO VAORG'!C80,'BASINFO FÖRSÄKRING'!D80)","v":0},{"$f":"IF('BASINFO FÖRSÄKRING'!E80=0,'BASINFO VAORG'!D80,'BASINFO FÖRSÄKRING'!E80)","v":0},{"$f":"IF('BASINFO FÖRSÄKRING'!F80=0,'BASINFO VAORG'!E80,'BASINFO FÖRSÄKRING'!F80)","v":0},{"$f":"'SKADEINFO FÖRSÄKRING'!D80","v":0},{"$f":"'SKADEINFO FÖRSÄKRING'!C80","v":"00:00:00"},{"$f":"'SKADEINFO FÖRSÄKRING'!E80","v":"00:00:00"},{"$f":"'SKADEINFO FÖRSÄKRING'!F80","v":0},{"$f":"'SKADEINFO FÖRSÄKRING'!G80","v":0},{"$f":"'SKADEINFO FÖRSÄKRING'!H80","v":0},{"$f":"'SKADEINFO FÖRSÄKRING'!I80","v":0},{"$f":"'SKADEINFO FÖRSÄKRING'!J80","v":0},{"$f":"'SKADEINFO FÖRSÄKRING'!K80","v":0},{"$f":"'SKADEINFO FÖRSÄKRING'!L80","v":0},{"$f":"'SKADEINFO FÖRSÄKRING'!M80","v":0},{"$f":"'SKADEINFO FÖRSÄKRING'!N80","v":0},{"$f":"'SKADEINFO FÖRSÄKRING'!O80","v":0},{"$f":"'SKADEINFO VAORG'!C80","v":"Fyll i…"},{"$f":"'SKADEINFO VAORG'!D80","v":"Välj…"},{"$f":"'SKADEINFO VAORG'!E80","v":"Välj…"},{"$f":"'SKADEINFO VAORG'!F80","v":"Välj…"},{"$f":"'SKADEINFO VAORG'!G80","v":"Välj…"},{"$f":"'SKADEINFO VAORG'!H80","v":"Välj…"},{"$f":"'SKADEINFO VAORG'!I80","v":"Välj…"},{"$f":"'SKADEINFO VAORG'!J80","v":"Välj…"},{"$f":"'SKADEINFO VAORG'!K80","v":"Välj…"},{"$f":"'SKADEINFO VAORG'!L80","v":"Välj…"},{"$f":"'SKADEINFO VAORG'!M80","v":"Välj…"},{"$f":"'SKADEINFO VAORG'!N80","v":"Skriv…"},{"$f":"'SKADEINFO VAORG'!O80","v":"Skriv…"},{"$f":"'SKADEINFO VAORG'!P80","v":"Välj…"},{"$f":"'SKADEINFO VAORG'!Q80","v":"Välj…"},{"$f":"'SKADEINFO VAORG'!R80","v":"Skriv…"},{"$f":"'SKADEINFO VAORG'!S80","v":"Skriv…"}]
[{"$f":"'BASINFO FÖRSÄKRING'!I81","v":0},{"$f":"'BASINFO FÖRSÄKRING'!G81","v":0},{"$f":"'BASINFO FÖRSÄKRING'!J81","v":0},{"$f":"'BASINFO FÖRSÄKRING'!K81","v":0},{"$f":"'BASINFO FÖRSÄKRING'!L81","v":0},{"$f":"'BASINFO VAORG'!I81","v":0},{"$f":"'BASINFO VAORG'!G81","v":"Skriv…"},{"$f":"'BASINFO VAORG'!J81","v":"Skriv…"},{"$f":"'BASINFO VAORG'!K81","v":"Skriv…"},{"$f":"'BASINFO VAORG'!L81","v":"Skriv…"},{"$f":"IF('BASINFO FÖRSÄKRING'!A81=0,'BASINFO VAORG'!A81,'BASINFO FÖRSÄKRING'!A81)","v":0},{"$f":"IF('BASINFO FÖRSÄKRING'!B81=0,'BASINFO VAORG'!B81,'BASINFO FÖRSÄKRING'!B81)","v":0},{"$f":"IF('BASINFO FÖRSÄKRING'!D81=0,'BASINFO VAORG'!C81,'BASINFO FÖRSÄKRING'!D81)","v":0},{"$f":"IF('BASINFO FÖRSÄKRING'!E81=0,'BASINFO VAORG'!D81,'BASINFO FÖRSÄKRING'!E81)","v":0},{"$f":"IF('BASINFO FÖRSÄKRING'!F81=0,'BASINFO VAORG'!E81,'BASINFO FÖRSÄKRING'!F81)","v":0},{"$f":"'SKADEINFO FÖRSÄKRING'!D81","v":0},{"$f":"'SKADEINFO FÖRSÄKRING'!C81","v":"00:00:00"},{"$f":"'SKADEINFO FÖRSÄKRING'!E81","v":"00:00:00"},{"$f":"'SKADEINFO FÖRSÄKRING'!F81","v":0},{"$f":"'SKADEINFO FÖRSÄKRING'!G81","v":0},{"$f":"'SKADEINFO FÖRSÄKRING'!H81","v":0},{"$f":"'SKADEINFO FÖRSÄKRING'!I81","v":0},{"$f":"'SKADEINFO FÖRSÄKRING'!J81","v":0},{"$f":"'SKADEINFO FÖRSÄKRING'!K81","v":0},{"$f":"'SKADEINFO FÖRSÄKRING'!L81","v":0},{"$f":"'SKADEINFO FÖRSÄKRING'!M81","v":0},{"$f":"'SKADEINFO FÖRSÄKRING'!N81","v":0},{"$f":"'SKADEINFO FÖRSÄKRING'!O81","v":0},{"$f":"'SKADEINFO VAORG'!C81","v":"Fyll i…"},{"$f":"'SKADEINFO VAORG'!D81","v":"Välj…"},{"$f":"'SKADEINFO VAORG'!E81","v":"Välj…"},{"$f":"'SKADEINFO VAORG'!F81","v":"Välj…"},{"$f":"'SKADEINFO VAORG'!G81","v":"Välj…"},{"$f":"'SKADEINFO VAORG'!H81","v":"Välj…"},{"$f":"'SKADEINFO VAORG'!I81","v":"Välj…"},{"$f":"'SKADEINFO VAORG'!J81","v":"Välj…"},{"$f":"'SKADEINFO VAORG'!K81","v":"Välj…"},{"$f":"'SKADEINFO VAORG'!L81","v":"Välj…"},{"$f":"'SKADEINFO VAORG'!M81","v":"Välj…"},{"$f":"'SKADEINFO VAORG'!N81","v":"Skriv…"},{"$f":"'SKADEINFO VAORG'!O81","v":"Skriv…"},{"$f":"'SKADEINFO VAORG'!P81","v":"Välj…"},{"$f":"'SKADEINFO VAORG'!Q81","v":"Välj…"},{"$f":"'SKADEINFO VAORG'!R81","v":"Skriv…"},{"$f":"'SKADEINFO VAORG'!S81","v":"Skriv…"}]
[{"$f":"'BASINFO FÖRSÄKRING'!I82","v":0},{"$f":"'BASINFO FÖRSÄKRING'!G82","v":0},{"$f":"'BASINFO FÖRSÄKRING'!J82","v":0},{"$f":"'BASINFO FÖRSÄKRING'!K82","v":0},{"$f":"'BASINFO FÖRSÄKRING'!L82","v":0},{"$f":"'BASINFO VAORG'!I82","v":0},{"$f":"'BASINFO VAORG'!G82","v":"Skriv…"},{"$f":"'BASINFO VAORG'!J82","v":"Skriv…"},{"$f":"'BASINFO VAORG'!K82","v":"Skriv…"},{"$f":"'BASINFO VAORG'!L82","v":"Skriv…"},{"$f":"IF('BASINFO FÖRSÄKRING'!A82=0,'BASINFO VAORG'!A82,'BASINFO FÖRSÄKRING'!A82)","v":0},{"$f":"IF('BASINFO FÖRSÄKRING'!B82=0,'BASINFO VAORG'!B82,'BASINFO FÖRSÄKRING'!B82)","v":0},{"$f":"IF('BASINFO FÖRSÄKRING'!D82=0,'BASINFO VAORG'!C82,'BASINFO FÖRSÄKRING'!D82)","v":0},{"$f":"IF('BASINFO FÖRSÄKRING'!E82=0,'BASINFO VAORG'!D82,'BASINFO FÖRSÄKRING'!E82)","v":0},{"$f":"IF('BASINFO FÖRSÄKRING'!F82=0,'BASINFO VAORG'!E82,'BASINFO FÖRSÄKRING'!F82)","v":0},{"$f":"'SKADEINFO FÖRSÄKRING'!D82","v":0},{"$f":"'SKADEINFO FÖRSÄKRING'!C82","v":"00:00:00"},{"$f":"'SKADEINFO FÖRSÄKRING'!E82","v":"00:00:00"},{"$f":"'SKADEINFO FÖRSÄKRING'!F82","v":0},{"$f":"'SKADEINFO FÖRSÄKRING'!G82","v":0},{"$f":"'SKADEINFO FÖRSÄKRING'!H82","v":0},{"$f":"'SKADEINFO FÖRSÄKRING'!I82","v":0},{"$f":"'SKADEINFO FÖRSÄKRING'!J82","v":0},{"$f":"'SKADEINFO FÖRSÄKRING'!K82","v":0},{"$f":"'SKADEINFO FÖRSÄKRING'!L82","v":0},{"$f":"'SKADEINFO FÖRSÄKRING'!M82","v":0},{"$f":"'SKADEINFO FÖRSÄKRING'!N82","v":0},{"$f":"'SKADEINFO FÖRSÄKRING'!O82","v":0},{"$f":"'SKADEINFO VAORG'!C82","v":"Fyll i…"},{"$f":"'SKADEINFO VAORG'!D82","v":"Välj…"},{"$f":"'SKADEINFO VAORG'!E82","v":"Välj…"},{"$f":"'SKADEINFO VAORG'!F82","v":"Välj…"},{"$f":"'SKADEINFO VAORG'!G82","v":"Välj…"},{"$f":"'SKADEINFO VAORG'!H82","v":"Välj…"},{"$f":"'SKADEINFO VAORG'!I82","v":"Välj…"},{"$f":"'SKADEINFO VAORG'!J82","v":"Välj…"},{"$f":"'SKADEINFO VAORG'!K82","v":"Välj…"},{"$f":"'SKADEINFO VAORG'!L82","v":"Välj…"},{"$f":"'SKADEINFO VAORG'!M82","v":"Välj…"},{"$f":"'SKADEINFO VAORG'!N82","v":"Skriv…"},{"$f":"'SKADEINFO VAORG'!O82","v":"Skriv…"},{"$f":"'SKADEINFO VAORG'!P82","v":"Välj…"},{"$f":"'SKADEINFO VAORG'!Q82","v":"Välj…"},{"$f":"'SKADEINFO VAORG'!R82","v":"Skriv…"},{"$f":"'SKADEINFO VAORG'!S82","v":"Skriv…"}]
[{"$f":"'BASINFO FÖRSÄKRING'!I83","v":0},{"$f":"'BASINFO FÖRSÄKRING'!G83","v":0},{"$f":"'BASINFO FÖRSÄKRING'!J83","v":0},{"$f":"'BASINFO FÖRSÄKRING'!K83","v":0},{"$f":"'BASINFO FÖRSÄKRING'!L83","v":0},{"$f":"'BASINFO VAORG'!I83","v":0},{"$f":"'BASINFO VAORG'!G83","v":"Skriv…"},{"$f":"'BASINFO VAORG'!J83","v":"Skriv…"},{"$f":"'BASINFO VAORG'!K83","v":"Skriv…"},{"$f":"'BASINFO VAORG'!L83","v":"Skriv…"},{"$f":"IF('BASINFO FÖRSÄKRING'!A83=0,'BASINFO VAORG'!A83,'BASINFO FÖRSÄKRING'!A83)","v":0},{"$f":"IF('BASINFO FÖRSÄKRING'!B83=0,'BASINFO VAORG'!B83,'BASINFO FÖRSÄKRING'!B83)","v":0},{"$f":"IF('BASINFO FÖRSÄKRING'!D83=0,'BASINFO VAORG'!C83,'BASINFO FÖRSÄKRING'!D83)","v":0},{"$f":"IF('BASINFO FÖRSÄKRING'!E83=0,'BASINFO VAORG'!D83,'BASINFO FÖRSÄKRING'!E83)","v":0},{"$f":"IF('BASINFO FÖRSÄKRING'!F83=0,'BASINFO VAORG'!E83,'BASINFO FÖRSÄKRING'!F83)","v":0},{"$f":"'SKADEINFO FÖRSÄKRING'!D83","v":0},{"$f":"'SKADEINFO FÖRSÄKRING'!C83","v":"00:00:00"},{"$f":"'SKADEINFO FÖRSÄKRING'!E83","v":"00:00:00"},{"$f":"'SKADEINFO FÖRSÄKRING'!F83","v":0},{"$f":"'SKADEINFO FÖRSÄKRING'!G83","v":0},{"$f":"'SKADEINFO FÖRSÄKRING'!H83","v":0},{"$f":"'SKADEINFO FÖRSÄKRING'!I83","v":0},{"$f":"'SKADEINFO FÖRSÄKRING'!J83","v":0},{"$f":"'SKADEINFO FÖRSÄKRING'!K83","v":0},{"$f":"'SKADEINFO FÖRSÄKRING'!L83","v":0},{"$f":"'SKADEINFO FÖRSÄKRING'!M83","v":0},{"$f":"'SKADEINFO FÖRSÄKRING'!N83","v":0},{"$f":"'SKADEINFO FÖRSÄKRING'!O83","v":0},{"$f":"'SKADEINFO VAORG'!C83","v":"Fyll i…"},{"$f":"'SKADEINFO VAORG'!D83","v":"Välj…"},{"$f":"'SKADEINFO VAORG'!E83","v":"Välj…"},{"$f":"'SKADEINFO VAORG'!F83","v":"Välj…"},{"$f":"'SKADEINFO VAORG'!G83","v":"Välj…"},{"$f":"'SKADEINFO VAORG'!H83","v":"Välj…"},{"$f":"'SKADEINFO VAORG'!I83","v":"Välj…"},{"$f":"'SKADEINFO VAORG'!J83","v":"Välj…"},{"$f":"'SKADEINFO VAORG'!K83","v":"Välj…"},{"$f":"'SKADEINFO VAORG'!L83","v":"Välj…"},{"$f":"'SKADEINFO VAORG'!M83","v":"Välj…"},{"$f":"'SKADEINFO VAORG'!N83","v":"Skriv…"},{"$f":"'SKADEINFO VAORG'!O83","v":"Skriv…"},{"$f":"'SKADEINFO VAORG'!P83","v":"Välj…"},{"$f":"'SKADEINFO VAORG'!Q83","v":"Välj…"},{"$f":"'SKADEINFO VAORG'!R83","v":"Skriv…"},{"$f":"'SKADEINFO VAORG'!S83","v":"Skriv…"}]
[{"$f":"'BASINFO FÖRSÄKRING'!I84","v":0},{"$f":"'BASINFO FÖRSÄKRING'!G84","v":0},{"$f":"'BASINFO FÖRSÄKRING'!J84","v":0},{"$f":"'BASINFO FÖRSÄKRING'!K84","v":0},{"$f":"'BASINFO FÖRSÄKRING'!L84","v":0},{"$f":"'BASINFO VAORG'!I84","v":0},{"$f":"'BASINFO VAORG'!G84","v":"Skriv…"},{"$f":"'BASINFO VAORG'!J84","v":"Skriv…"},{"$f":"'BASINFO VAORG'!K84","v":"Skriv…"},{"$f":"'BASINFO VAORG'!L84","v":"Skriv…"},{"$f":"IF('BASINFO FÖRSÄKRING'!A84=0,'BASINFO VAORG'!A84,'BASINFO FÖRSÄKRING'!A84)","v":0},{"$f":"IF('BASINFO FÖRSÄKRING'!B84=0,'BASINFO VAORG'!B84,'BASINFO FÖRSÄKRING'!B84)","v":0},{"$f":"IF('BASINFO FÖRSÄKRING'!D84=0,'BASINFO VAORG'!C84,'BASINFO FÖRSÄKRING'!D84)","v":0},{"$f":"IF('BASINFO FÖRSÄKRING'!E84=0,'BASINFO VAORG'!D84,'BASINFO FÖRSÄKRING'!E84)","v":0},{"$f":"IF('BASINFO FÖRSÄKRING'!F84=0,'BASINFO VAORG'!E84,'BASINFO FÖRSÄKRING'!F84)","v":0},{"$f":"'SKADEINFO FÖRSÄKRING'!D84","v":0},{"$f":"'SKADEINFO FÖRSÄKRING'!C84","v":"00:00:00"},{"$f":"'SKADEINFO FÖRSÄKRING'!E84","v":"00:00:00"},{"$f":"'SKADEINFO FÖRSÄKRING'!F84","v":0},{"$f":"'SKADEINFO FÖRSÄKRING'!G84","v":0},{"$f":"'SKADEINFO FÖRSÄKRING'!H84","v":0},{"$f":"'SKADEINFO FÖRSÄKRING'!I84","v":0},{"$f":"'SKADEINFO FÖRSÄKRING'!J84","v":0},{"$f":"'SKADEINFO FÖRSÄKRING'!K84","v":0},{"$f":"'SKADEINFO FÖRSÄKRING'!L84","v":0},{"$f":"'SKADEINFO FÖRSÄKRING'!M84","v":0},{"$f":"'SKADEINFO FÖRSÄKRING'!N84","v":0},{"$f":"'SKADEINFO FÖRSÄKRING'!O84","v":0},{"$f":"'SKADEINFO VAORG'!C84","v":"Fyll i…"},{"$f":"'SKADEINFO VAORG'!D84","v":"Välj…"},{"$f":"'SKADEINFO VAORG'!E84","v":"Välj…"},{"$f":"'SKADEINFO VAORG'!F84","v":"Välj…"},{"$f":"'SKADEINFO VAORG'!G84","v":"Välj…"},{"$f":"'SKADEINFO VAORG'!H84","v":"Välj…"},{"$f":"'SKADEINFO VAORG'!I84","v":"Välj…"},{"$f":"'SKADEINFO VAORG'!J84","v":"Välj…"},{"$f":"'SKADEINFO VAORG'!K84","v":"Välj…"},{"$f":"'SKADEINFO VAORG'!L84","v":"Välj…"},{"$f":"'SKADEINFO VAORG'!M84","v":"Välj…"},{"$f":"'SKADEINFO VAORG'!N84","v":"Skriv…"},{"$f":"'SKADEINFO VAORG'!O84","v":"Skriv…"},{"$f":"'SKADEINFO VAORG'!P84","v":"Välj…"},{"$f":"'SKADEINFO VAORG'!Q84","v":"Välj…"},{"$f":"'SKADEINFO VAORG'!R84","v":"Skriv…"},{"$f":"'SKADEINFO VAORG'!S84","v":"Skriv…"}]
[{"$f":"'BASINFO FÖRSÄKRING'!I85","v":0},{"$f":"'BASINFO FÖRSÄKRING'!G85","v":0},{"$f":"'BASINFO FÖRSÄKRING'!J85","v":0},{"$f":"'BASINFO FÖRSÄKRING'!K85","v":0},{"$f":"'BASINFO FÖRSÄKRING'!L85","v":0},{"$f":"'BASINFO VAORG'!I85","v":0},{"$f":"'BASINFO VAORG'!G85","v":"Skriv…"},{"$f":"'BASINFO VAORG'!J85","v":"Skriv…"},{"$f":"'BASINFO VAORG'!K85","v":"Skriv…"},{"$f":"'BASINFO VAORG'!L85","v":"Skriv…"},{"$f":"IF('BASINFO FÖRSÄKRING'!A85=0,'BASINFO VAORG'!A85,'BASINFO FÖRSÄKRING'!A85)","v":0},{"$f":"IF('BASINFO FÖRSÄKRING'!B85=0,'BASINFO VAORG'!B85,'BASINFO FÖRSÄKRING'!B85)","v":0},{"$f":"IF('BASINFO FÖRSÄKRING'!D85=0,'BASINFO VAORG'!C85,'BASINFO FÖRSÄKRING'!D85)","v":0},{"$f":"IF('BASINFO FÖRSÄKRING'!E85=0,'BASINFO VAORG'!D85,'BASINFO FÖRSÄKRING'!E85)","v":0},{"$f":"IF('BASINFO FÖRSÄKRING'!F85=0,'BASINFO VAORG'!E85,'BASINFO FÖRSÄKRING'!F85)","v":0},{"$f":"'SKADEINFO FÖRSÄKRING'!D85","v":0},{"$f":"'SKADEINFO FÖRSÄKRING'!C85","v":"00:00:00"},{"$f":"'SKADEINFO FÖRSÄKRING'!E85","v":"00:00:00"},{"$f":"'SKADEINFO FÖRSÄKRING'!F85","v":0},{"$f":"'SKADEINFO FÖRSÄKRING'!G85","v":0},{"$f":"'SKADEINFO FÖRSÄKRING'!H85","v":0},{"$f":"'SKADEINFO FÖRSÄKRING'!I85","v":0},{"$f":"'SKADEINFO FÖRSÄKRING'!J85","v":0},{"$f":"'SKADEINFO FÖRSÄKRING'!K85","v":0},{"$f":"'SKADEINFO FÖRSÄKRING'!L85","v":0},{"$f":"'SKADEINFO FÖRSÄKRING'!M85","v":0},{"$f":"'SKADEINFO FÖRSÄKRING'!N85","v":0},{"$f":"'SKADEINFO FÖRSÄKRING'!O85","v":0},{"$f":"'SKADEINFO VAORG'!C85","v":"Fyll i…"},{"$f":"'SKADEINFO VAORG'!D85","v":"Välj…"},{"$f":"'SKADEINFO VAORG'!E85","v":"Välj…"},{"$f":"'SKADEINFO VAORG'!F85","v":"Välj…"},{"$f":"'SKADEINFO VAORG'!G85","v":"Välj…"},{"$f":"'SKADEINFO VAORG'!H85","v":"Välj…"},{"$f":"'SKADEINFO VAORG'!I85","v":"Välj…"},{"$f":"'SKADEINFO VAORG'!J85","v":"Välj…"},{"$f":"'SKADEINFO VAORG'!K85","v":"Välj…"},{"$f":"'SKADEINFO VAORG'!L85","v":"Välj…"},{"$f":"'SKADEINFO VAORG'!M85","v":"Välj…"},{"$f":"'SKADEINFO VAORG'!N85","v":"Skriv…"},{"$f":"'SKADEINFO VAORG'!O85","v":"Skriv…"},{"$f":"'SKADEINFO VAORG'!P85","v":"Välj…"},{"$f":"'SKADEINFO VAORG'!Q85","v":"Välj…"},{"$f":"'SKADEINFO VAORG'!R85","v":"Skriv…"},{"$f":"'SKADEINFO VAORG'!S85","v":"Skriv…"}]
[{"$f":"'BASINFO FÖRSÄKRING'!I86","v":0},{"$f":"'BASINFO FÖRSÄKRING'!G86","v":0},{"$f":"'BASINFO FÖRSÄKRING'!J86","v":0},{"$f":"'BASINFO FÖRSÄKRING'!K86","v":0},{"$f":"'BASINFO FÖRSÄKRING'!L86","v":0},{"$f":"'BASINFO VAORG'!I86","v":0},{"$f":"'BASINFO VAORG'!G86","v":"Skriv…"},{"$f":"'BASINFO VAORG'!J86","v":"Skriv…"},{"$f":"'BASINFO VAORG'!K86","v":"Skriv…"},{"$f":"'BASINFO VAORG'!L86","v":"Skriv…"},{"$f":"IF('BASINFO FÖRSÄKRING'!A86=0,'BASINFO VAORG'!A86,'BASINFO FÖRSÄKRING'!A86)","v":0},{"$f":"IF('BASINFO FÖRSÄKRING'!B86=0,'BASINFO VAORG'!B86,'BASINFO FÖRSÄKRING'!B86)","v":0},{"$f":"IF('BASINFO FÖRSÄKRING'!D86=0,'BASINFO VAORG'!C86,'BASINFO FÖRSÄKRING'!D86)","v":0},{"$f":"IF('BASINFO FÖRSÄKRING'!E86=0,'BASINFO VAORG'!D86,'BASINFO FÖRSÄKRING'!E86)","v":0},{"$f":"IF('BASINFO FÖRSÄKRING'!F86=0,'BASINFO VAORG'!E86,'BASINFO FÖRSÄKRING'!F86)","v":0},{"$f":"'SKADEINFO FÖRSÄKRING'!D86","v":0},{"$f":"'SKADEINFO FÖRSÄKRING'!C86","v":"00:00:00"},{"$f":"'SKADEINFO FÖRSÄKRING'!E86","v":"00:00:00"},{"$f":"'SKADEINFO FÖRSÄKRING'!F86","v":0},{"$f":"'SKADEINFO FÖRSÄKRING'!G86","v":0},{"$f":"'SKADEINFO FÖRSÄKRING'!H86","v":0},{"$f":"'SKADEINFO FÖRSÄKRING'!I86","v":0},{"$f":"'SKADEINFO FÖRSÄKRING'!J86","v":0},{"$f":"'SKADEINFO FÖRSÄKRING'!K86","v":0},{"$f":"'SKADEINFO FÖRSÄKRING'!L86","v":0},{"$f":"'SKADEINFO FÖRSÄKRING'!M86","v":0},{"$f":"'SKADEINFO FÖRSÄKRING'!N86","v":0},{"$f":"'SKADEINFO FÖRSÄKRING'!O86","v":0},{"$f":"'SKADEINFO VAORG'!C86","v":"Fyll i…"},{"$f":"'SKADEINFO VAORG'!D86","v":"Välj…"},{"$f":"'SKADEINFO VAORG'!E86","v":"Välj…"},{"$f":"'SKADEINFO VAORG'!F86","v":"Välj…"},{"$f":"'SKADEINFO VAORG'!G86","v":"Välj…"},{"$f":"'SKADEINFO VAORG'!H86","v":"Välj…"},{"$f":"'SKADEINFO VAORG'!I86","v":"Välj…"},{"$f":"'SKADEINFO VAORG'!J86","v":"Välj…"},{"$f":"'SKADEINFO VAORG'!K86","v":"Välj…"},{"$f":"'SKADEINFO VAORG'!L86","v":"Välj…"},{"$f":"'SKADEINFO VAORG'!M86","v":"Välj…"},{"$f":"'SKADEINFO VAORG'!N86","v":"Skriv…"},{"$f":"'SKADEINFO VAORG'!O86","v":"Skriv…"},{"$f":"'SKADEINFO VAORG'!P86","v":"Välj…"},{"$f":"'SKADEINFO VAORG'!Q86","v":"Välj…"},{"$f":"'SKADEINFO VAORG'!R86","v":"Skriv…"},{"$f":"'SKADEINFO VAORG'!S86","v":"Skriv…"}]
[{"$f":"'BASINFO FÖRSÄKRING'!I87","v":0},{"$f":"'BASINFO FÖRSÄKRING'!G87","v":0},{"$f":"'BASINFO FÖRSÄKRING'!J87","v":0},{"$f":"'BASINFO FÖRSÄKRING'!K87","v":0},{"$f":"'BASINFO FÖRSÄKRING'!L87","v":0},{"$f":"'BASINFO VAORG'!I87","v":0},{"$f":"'BASINFO VAORG'!G87","v":"Skriv…"},{"$f":"'BASINFO VAORG'!J87","v":"Skriv…"},{"$f":"'BASINFO VAORG'!K87","v":"Skriv…"},{"$f":"'BASINFO VAORG'!L87","v":"Skriv…"},{"$f":"IF('BASINFO FÖRSÄKRING'!A87=0,'BASINFO VAORG'!A87,'BASINFO FÖRSÄKRING'!A87)","v":0},{"$f":"IF('BASINFO FÖRSÄKRING'!B87=0,'BASINFO VAORG'!B87,'BASINFO FÖRSÄKRING'!B87)","v":0},{"$f":"IF('BASINFO FÖRSÄKRING'!D87=0,'BASINFO VAORG'!C87,'BASINFO FÖRSÄKRING'!D87)","v":0},{"$f":"IF('BASINFO FÖRSÄKRING'!E87=0,'BASINFO VAORG'!D87,'BASINFO FÖRSÄKRING'!E87)","v":0},{"$f":"IF('BASINFO FÖRSÄKRING'!F87=0,'BASINFO VAORG'!E87,'BASINFO FÖRSÄKRING'!F87)","v":0},{"$f":"'SKADEINFO FÖRSÄKRING'!D87","v":0},{"$f":"'SKADEINFO FÖRSÄKRING'!C87","v":"00:00:00"},{"$f":"'SKADEINFO FÖRSÄKRING'!E87","v":"00:00:00"},{"$f":"'SKADEINFO FÖRSÄKRING'!F87","v":0},{"$f":"'SKADEINFO FÖRSÄKRING'!G87","v":0},{"$f":"'SKADEINFO FÖRSÄKRING'!H87","v":0},{"$f":"'SKADEINFO FÖRSÄKRING'!I87","v":0},{"$f":"'SKADEINFO FÖRSÄKRING'!J87","v":0},{"$f":"'SKADEINFO FÖRSÄKRING'!K87","v":0},{"$f":"'SKADEINFO FÖRSÄKRING'!L87","v":0},{"$f":"'SKADEINFO FÖRSÄKRING'!M87","v":0},{"$f":"'SKADEINFO FÖRSÄKRING'!N87","v":0},{"$f":"'SKADEINFO FÖRSÄKRING'!O87","v":0},{"$f":"'SKADEINFO VAORG'!C87","v":"Fyll i…"},{"$f":"'SKADEINFO VAORG'!D87","v":"Välj…"},{"$f":"'SKADEINFO VAORG'!E87","v":"Välj…"},{"$f":"'SKADEINFO VAORG'!F87","v":"Välj…"},{"$f":"'SKADEINFO VAORG'!G87","v":"Välj…"},{"$f":"'SKADEINFO VAORG'!H87","v":"Välj…"},{"$f":"'SKADEINFO VAORG'!I87","v":"Välj…"},{"$f":"'SKADEINFO VAORG'!J87","v":"Välj…"},{"$f":"'SKADEINFO VAORG'!K87","v":"Välj…"},{"$f":"'SKADEINFO VAORG'!L87","v":"Välj…"},{"$f":"'SKADEINFO VAORG'!M87","v":"Välj…"},{"$f":"'SKADEINFO VAORG'!N87","v":"Skriv…"},{"$f":"'SKADEINFO VAORG'!O87","v":"Skriv…"},{"$f":"'SKADEINFO VAORG'!P87","v":"Välj…"},{"$f":"'SKADEINFO VAORG'!Q87","v":"Välj…"},{"$f":"'SKADEINFO VAORG'!R87","v":"Skriv…"},{"$f":"'SKADEINFO VAORG'!S87","v":"Skriv…"}]
[{"$f":"'BASINFO FÖRSÄKRING'!I88","v":0},{"$f":"'BASINFO FÖRSÄKRING'!G88","v":0},{"$f":"'BASINFO FÖRSÄKRING'!J88","v":0},{"$f":"'BASINFO FÖRSÄKRING'!K88","v":0},{"$f":"'BASINFO FÖRSÄKRING'!L88","v":0},{"$f":"'BASINFO VAORG'!I88","v":0},{"$f":"'BASINFO VAORG'!G88","v":"Skriv…"},{"$f":"'BASINFO VAORG'!J88","v":"Skriv…"},{"$f":"'BASINFO VAORG'!K88","v":"Skriv…"},{"$f":"'BASINFO VAORG'!L88","v":"Skriv…"},{"$f":"IF('BASINFO FÖRSÄKRING'!A88=0,'BASINFO VAORG'!A88,'BASINFO FÖRSÄKRING'!A88)","v":0},{"$f":"IF('BASINFO FÖRSÄKRING'!B88=0,'BASINFO VAORG'!B88,'BASINFO FÖRSÄKRING'!B88)","v":0},{"$f":"IF('BASINFO FÖRSÄKRING'!D88=0,'BASINFO VAORG'!C88,'BASINFO FÖRSÄKRING'!D88)","v":0},{"$f":"IF('BASINFO FÖRSÄKRING'!E88=0,'BASINFO VAORG'!D88,'BASINFO FÖRSÄKRING'!E88)","v":0},{"$f":"IF('BASINFO FÖRSÄKRING'!F88=0,'BASINFO VAORG'!E88,'BASINFO FÖRSÄKRING'!F88)","v":0},{"$f":"'SKADEINFO FÖRSÄKRING'!D88","v":0},{"$f":"'SKADEINFO FÖRSÄKRING'!C88","v":"00:00:00"},{"$f":"'SKADEINFO FÖRSÄKRING'!E88","v":"00:00:00"},{"$f":"'SKADEINFO FÖRSÄKRING'!F88","v":0},{"$f":"'SKADEINFO FÖRSÄKRING'!G88","v":0},{"$f":"'SKADEINFO FÖRSÄKRING'!H88","v":0},{"$f":"'SKADEINFO FÖRSÄKRING'!I88","v":0},{"$f":"'SKADEINFO FÖRSÄKRING'!J88","v":0},{"$f":"'SKADEINFO FÖRSÄKRING'!K88","v":0},{"$f":"'SKADEINFO FÖRSÄKRING'!L88","v":0},{"$f":"'SKADEINFO FÖRSÄKRING'!M88","v":0},{"$f":"'SKADEINFO FÖRSÄKRING'!N88","v":0},{"$f":"'SKADEINFO FÖRSÄKRING'!O88","v":0},{"$f":"'SKADEINFO VAORG'!C88","v":"Fyll i…"},{"$f":"'SKADEINFO VAORG'!D88","v":"Välj…"},{"$f":"'SKADEINFO VAORG'!E88","v":"Välj…"},{"$f":"'SKADEINFO VAORG'!F88","v":"Välj…"},{"$f":"'SKADEINFO VAORG'!G88","v":"Välj…"},{"$f":"'SKADEINFO VAORG'!H88","v":"Välj…"},{"$f":"'SKADEINFO VAORG'!I88","v":"Välj…"},{"$f":"'SKADEINFO VAORG'!J88","v":"Välj…"},{"$f":"'SKADEINFO VAORG'!K88","v":"Välj…"},{"$f":"'SKADEINFO VAORG'!L88","v":"Välj…"},{"$f":"'SKADEINFO VAORG'!M88","v":"Välj…"},{"$f":"'SKADEINFO VAORG'!N88","v":"Skriv…"},{"$f":"'SKADEINFO VAORG'!O88","v":"Skriv…"},{"$f":"'SKADEINFO VAORG'!P88","v":"Välj…"},{"$f":"'SKADEINFO VAORG'!Q88","v":"Välj…"},{"$f":"'SKADEINFO VAORG'!R88","v":"Skriv…"},{"$f":"'SKADEINFO VAORG'!S88","v":"Skriv…"}]
[{"$f":"'BASINFO FÖRSÄKRING'!I89","v":0},{"$f":"'BASINFO FÖRSÄKRING'!G89","v":0},{"$f":"'BASINFO FÖRSÄKRING'!J89","v":0},{"$f":"'BASINFO FÖRSÄKRING'!K89","v":0},{"$f":"'BASINFO FÖRSÄKRING'!L89","v":0},{"$f":"'BASINFO VAORG'!I89","v":0},{"$f":"'BASINFO VAORG'!G89","v":"Skriv…"},{"$f":"'BASINFO VAORG'!J89","v":"Skriv…"},{"$f":"'BASINFO VAORG'!K89","v":"Skriv…"},{"$f":"'BASINFO VAORG'!L89","v":"Skriv…"},{"$f":"IF('BASINFO FÖRSÄKRING'!A89=0,'BASINFO VAORG'!A89,'BASINFO FÖRSÄKRING'!A89)","v":0},{"$f":"IF('BASINFO FÖRSÄKRING'!B89=0,'BASINFO VAORG'!B89,'BASINFO FÖRSÄKRING'!B89)","v":0},{"$f":"IF('BASINFO FÖRSÄKRING'!D89=0,'BASINFO VAORG'!C89,'BASINFO FÖRSÄKRING'!D89)","v":0},{"$f":"IF('BASINFO FÖRSÄKRING'!E89=0,'BASINFO VAORG'!D89,'BASINFO FÖRSÄKRING'!E89)","v":0},{"$f":"IF('BASINFO FÖRSÄKRING'!F89=0,'BASINFO VAORG'!E89,'BASINFO FÖRSÄKRING'!F89)","v":0},{"$f":"'SKADEINFO FÖRSÄKRING'!D89","v":0},{"$f":"'SKADEINFO FÖRSÄKRING'!C89","v":"00:00:00"},{"$f":"'SKADEINFO FÖRSÄKRING'!E89","v":"00:00:00"},{"$f":"'SKADEINFO FÖRSÄKRING'!F89","v":0},{"$f":"'SKADEINFO FÖRSÄKRING'!G89","v":0},{"$f":"'SKADEINFO FÖRSÄKRING'!H89","v":0},{"$f":"'SKADEINFO FÖRSÄKRING'!I89","v":0},{"$f":"'SKADEINFO FÖRSÄKRING'!J89","v":0},{"$f":"'SKADEINFO FÖRSÄKRING'!K89","v":0},{"$f":"'SKADEINFO FÖRSÄKRING'!L89","v":0},{"$f":"'SKADEINFO FÖRSÄKRING'!M89","v":0},{"$f":"'SKADEINFO FÖRSÄKRING'!N89","v":0},{"$f":"'SKADEINFO FÖRSÄKRING'!O89","v":0},{"$f":"'SKADEINFO VAORG'!C89","v":"Fyll i…"},{"$f":"'SKADEINFO VAORG'!D89","v":"Välj…"},{"$f":"'SKADEINFO VAORG'!E89","v":"Välj…"},{"$f":"'SKADEINFO VAORG'!F89","v":"Välj…"},{"$f":"'SKADEINFO VAORG'!G89","v":"Välj…"},{"$f":"'SKADEINFO VAORG'!H89","v":"Välj…"},{"$f":"'SKADEINFO VAORG'!I89","v":"Välj…"},{"$f":"'SKADEINFO VAORG'!J89","v":"Välj…"},{"$f":"'SKADEINFO VAORG'!K89","v":"Välj…"},{"$f":"'SKADEINFO VAORG'!L89","v":"Välj…"},{"$f":"'SKADEINFO VAORG'!M89","v":"Välj…"},{"$f":"'SKADEINFO VAORG'!N89","v":"Skriv…"},{"$f":"'SKADEINFO VAORG'!O89","v":"Skriv…"},{"$f":"'SKADEINFO VAORG'!P89","v":"Välj…"},{"$f":"'SKADEINFO VAORG'!Q89","v":"Välj…"},{"$f":"'SKADEINFO VAORG'!R89","v":"Skriv…"},{"$f":"'SKADEINFO VAORG'!S89","v":"Skriv…"}]
[{"$f":"'BASINFO FÖRSÄKRING'!I90","v":0},{"$f":"'BASINFO FÖRSÄKRING'!G90","v":0},{"$f":"'BASINFO FÖRSÄKRING'!J90","v":0},{"$f":"'BASINFO FÖRSÄKRING'!K90","v":0},{"$f":"'BASINFO FÖRSÄKRING'!L90","v":0},{"$f":"'BASINFO VAORG'!I90","v":0},{"$f":"'BASINFO VAORG'!G90","v":"Skriv…"},{"$f":"'BASINFO VAORG'!J90","v":"Skriv…"},{"$f":"'BASINFO VAORG'!K90","v":"Skriv…"},{"$f":"'BASINFO VAORG'!L90","v":"Skriv…"},{"$f":"IF('BASINFO FÖRSÄKRING'!A90=0,'BASINFO VAORG'!A90,'BASINFO FÖRSÄKRING'!A90)","v":0},{"$f":"IF('BASINFO FÖRSÄKRING'!B90=0,'BASINFO VAORG'!B90,'BASINFO FÖRSÄKRING'!B90)","v":0},{"$f":"IF('BASINFO FÖRSÄKRING'!D90=0,'BASINFO VAORG'!C90,'BASINFO FÖRSÄKRING'!D90)","v":0},{"$f":"IF('BASINFO FÖRSÄKRING'!E90=0,'BASINFO VAORG'!D90,'BASINFO FÖRSÄKRING'!E90)","v":0},{"$f":"IF('BASINFO FÖRSÄKRING'!F90=0,'BASINFO VAORG'!E90,'BASINFO FÖRSÄKRING'!F90)","v":0},{"$f":"'SKADEINFO FÖRSÄKRING'!D90","v":0},{"$f":"'SKADEINFO FÖRSÄKRING'!C90","v":"00:00:00"},{"$f":"'SKADEINFO FÖRSÄKRING'!E90","v":"00:00:00"},{"$f":"'SKADEINFO FÖRSÄKRING'!F90","v":0},{"$f":"'SKADEINFO FÖRSÄKRING'!G90","v":0},{"$f":"'SKADEINFO FÖRSÄKRING'!H90","v":0},{"$f":"'SKADEINFO FÖRSÄKRING'!I90","v":0},{"$f":"'SKADEINFO FÖRSÄKRING'!J90","v":0},{"$f":"'SKADEINFO FÖRSÄKRING'!K90","v":0},{"$f":"'SKADEINFO FÖRSÄKRING'!L90","v":0},{"$f":"'SKADEINFO FÖRSÄKRING'!M90","v":0},{"$f":"'SKADEINFO FÖRSÄKRING'!N90","v":0},{"$f":"'SKADEINFO FÖRSÄKRING'!O90","v":0},{"$f":"'SKADEINFO VAORG'!C90","v":"Fyll i…"},{"$f":"'SKADEINFO VAORG'!D90","v":"Välj…"},{"$f":"'SKADEINFO VAORG'!E90","v":"Välj…"},{"$f":"'SKADEINFO VAORG'!F90","v":"Välj…"},{"$f":"'SKADEINFO VAORG'!G90","v":"Välj…"},{"$f":"'SKADEINFO VAORG'!H90","v":"Välj…"},{"$f":"'SKADEINFO VAORG'!I90","v":"Välj…"},{"$f":"'SKADEINFO VAORG'!J90","v":"Välj…"},{"$f":"'SKADEINFO VAORG'!K90","v":"Välj…"},{"$f":"'SKADEINFO VAORG'!L90","v":"Välj…"},{"$f":"'SKADEINFO VAORG'!M90","v":"Välj…"},{"$f":"'SKADEINFO VAORG'!N90","v":"Skriv…"},{"$f":"'SKADEINFO VAORG'!O90","v":"Skriv…"},{"$f":"'SKADEINFO VAORG'!P90","v":"Välj…"},{"$f":"'SKADEINFO VAORG'!Q90","v":"Välj…"},{"$f":"'SKADEINFO VAORG'!R90","v":"Skriv…"},{"$f":"'SKADEINFO VAORG'!S90","v":"Skriv…"}]
[{"$f":"'BASINFO FÖRSÄKRING'!I91","v":0},{"$f":"'BASINFO FÖRSÄKRING'!G91","v":0},{"$f":"'BASINFO FÖRSÄKRING'!J91","v":0},{"$f":"'BASINFO FÖRSÄKRING'!K91","v":0},{"$f":"'BASINFO FÖRSÄKRING'!L91","v":0},{"$f":"'BASINFO VAORG'!I91","v":0},{"$f":"'BASINFO VAORG'!G91","v":"Skriv…"},{"$f":"'BASINFO VAORG'!J91","v":"Skriv…"},{"$f":"'BASINFO VAORG'!K91","v":"Skriv…"},{"$f":"'BASINFO VAORG'!L91","v":"Skriv…"},{"$f":"IF('BASINFO FÖRSÄKRING'!A91=0,'BASINFO VAORG'!A91,'BASINFO FÖRSÄKRING'!A91)","v":0},{"$f":"IF('BASINFO FÖRSÄKRING'!B91=0,'BASINFO VAORG'!B91,'BASINFO FÖRSÄKRING'!B91)","v":0},{"$f":"IF('BASINFO FÖRSÄKRING'!D91=0,'BASINFO VAORG'!C91,'BASINFO FÖRSÄKRING'!D91)","v":0},{"$f":"IF('BASINFO FÖRSÄKRING'!E91=0,'BASINFO VAORG'!D91,'BASINFO FÖRSÄKRING'!E91)","v":0},{"$f":"IF('BASINFO FÖRSÄKRING'!F91=0,'BASINFO VAORG'!E91,'BASINFO FÖRSÄKRING'!F91)","v":0},{"$f":"'SKADEINFO FÖRSÄKRING'!D91","v":0},{"$f":"'SKADEINFO FÖRSÄKRING'!C91","v":"00:00:00"},{"$f":"'SKADEINFO FÖRSÄKRING'!E91","v":"00:00:00"},{"$f":"'SKADEINFO FÖRSÄKRING'!F91","v":0},{"$f":"'SKADEINFO FÖRSÄKRING'!G91","v":0},{"$f":"'SKADEINFO FÖRSÄKRING'!H91","v":0},{"$f":"'SKADEINFO FÖRSÄKRING'!I91","v":0},{"$f":"'SKADEINFO FÖRSÄKRING'!J91","v":0},{"$f":"'SKADEINFO FÖRSÄKRING'!K91","v":0},{"$f":"'SKADEINFO FÖRSÄKRING'!L91","v":0},{"$f":"'SKADEINFO FÖRSÄKRING'!M91","v":0},{"$f":"'SKADEINFO FÖRSÄKRING'!N91","v":0},{"$f":"'SKADEINFO FÖRSÄKRING'!O91","v":0},{"$f":"'SKADEINFO VAORG'!C91","v":"Fyll i…"},{"$f":"'SKADEINFO VAORG'!D91","v":"Välj…"},{"$f":"'SKADEINFO VAORG'!E91","v":"Välj…"},{"$f":"'SKADEINFO VAORG'!F91","v":"Välj…"},{"$f":"'SKADEINFO VAORG'!G91","v":"Välj…"},{"$f":"'SKADEINFO VAORG'!H91","v":"Välj…"},{"$f":"'SKADEINFO VAORG'!I91","v":"Välj…"},{"$f":"'SKADEINFO VAORG'!J91","v":"Välj…"},{"$f":"'SKADEINFO VAORG'!K91","v":"Välj…"},{"$f":"'SKADEINFO VAORG'!L91","v":"Välj…"},{"$f":"'SKADEINFO VAORG'!M91","v":"Välj…"},{"$f":"'SKADEINFO VAORG'!N91","v":"Skriv…"},{"$f":"'SKADEINFO VAORG'!O91","v":"Skriv…"},{"$f":"'SKADEINFO VAORG'!P91","v":"Välj…"},{"$f":"'SKADEINFO VAORG'!Q91","v":"Välj…"},{"$f":"'SKADEINFO VAORG'!R91","v":"Skriv…"},{"$f":"'SKADEINFO VAORG'!S91","v":"Skriv…"}]
[{"$f":"'BASINFO FÖRSÄKRING'!I92","v":0},{"$f":"'BASINFO FÖRSÄKRING'!G92","v":0},{"$f":"'BASINFO FÖRSÄKRING'!J92","v":0},{"$f":"'BASINFO FÖRSÄKRING'!K92","v":0},{"$f":"'BASINFO FÖRSÄKRING'!L92","v":0},{"$f":"'BASINFO VAORG'!I92","v":0},{"$f":"'BASINFO VAORG'!G92","v":"Skriv…"},{"$f":"'BASINFO VAORG'!J92","v":"Skriv…"},{"$f":"'BASINFO VAORG'!K92","v":"Skriv…"},{"$f":"'BASINFO VAORG'!L92","v":"Skriv…"},{"$f":"IF('BASINFO FÖRSÄKRING'!A92=0,'BASINFO VAORG'!A92,'BASINFO FÖRSÄKRING'!A92)","v":0},{"$f":"IF('BASINFO FÖRSÄKRING'!B92=0,'BASINFO VAORG'!B92,'BASINFO FÖRSÄKRING'!B92)","v":0},{"$f":"IF('BASINFO FÖRSÄKRING'!D92=0,'BASINFO VAORG'!C92,'BASINFO FÖRSÄKRING'!D92)","v":0},{"$f":"IF('BASINFO FÖRSÄKRING'!E92=0,'BASINFO VAORG'!D92,'BASINFO FÖRSÄKRING'!E92)","v":0},{"$f":"IF('BASINFO FÖRSÄKRING'!F92=0,'BASINFO VAORG'!E92,'BASINFO FÖRSÄKRING'!F92)","v":0},{"$f":"'SKADEINFO FÖRSÄKRING'!D92","v":0},{"$f":"'SKADEINFO FÖRSÄKRING'!C92","v":"00:00:00"},{"$f":"'SKADEINFO FÖRSÄKRING'!E92","v":"00:00:00"},{"$f":"'SKADEINFO FÖRSÄKRING'!F92","v":0},{"$f":"'SKADEINFO FÖRSÄKRING'!G92","v":0},{"$f":"'SKADEINFO FÖRSÄKRING'!H92","v":0},{"$f":"'SKADEINFO FÖRSÄKRING'!I92","v":0},{"$f":"'SKADEINFO FÖRSÄKRING'!J92","v":0},{"$f":"'SKADEINFO FÖRSÄKRING'!K92","v":0},{"$f":"'SKADEINFO FÖRSÄKRING'!L92","v":0},{"$f":"'SKADEINFO FÖRSÄKRING'!M92","v":0},{"$f":"'SKADEINFO FÖRSÄKRING'!N92","v":0},{"$f":"'SKADEINFO FÖRSÄKRING'!O92","v":0},{"$f":"'SKADEINFO VAORG'!C92","v":"Fyll i…"},{"$f":"'SKADEINFO VAORG'!D92","v":"Välj…"},{"$f":"'SKADEINFO VAORG'!E92","v":"Välj…"},{"$f":"'SKADEINFO VAORG'!F92","v":"Välj…"},{"$f":"'SKADEINFO VAORG'!G92","v":"Välj…"},{"$f":"'SKADEINFO VAORG'!H92","v":"Välj…"},{"$f":"'SKADEINFO VAORG'!I92","v":"Välj…"},{"$f":"'SKADEINFO VAORG'!J92","v":"Välj…"},{"$f":"'SKADEINFO VAORG'!K92","v":"Välj…"},{"$f":"'SKADEINFO VAORG'!L92","v":"Välj…"},{"$f":"'SKADEINFO VAORG'!M92","v":"Välj…"},{"$f":"'SKADEINFO VAORG'!N92","v":"Skriv…"},{"$f":"'SKADEINFO VAORG'!O92","v":"Skriv…"},{"$f":"'SKADEINFO VAORG'!P92","v":"Välj…"},{"$f":"'SKADEINFO VAORG'!Q92","v":"Välj…"},{"$f":"'SKADEINFO VAORG'!R92","v":"Skriv…"},{"$f":"'SKADEINFO VAORG'!S92","v":"Skriv…"}]
[{"$f":"'BASINFO FÖRSÄKRING'!I93","v":0},{"$f":"'BASINFO FÖRSÄKRING'!G93","v":0},{"$f":"'BASINFO FÖRSÄKRING'!J93","v":0},{"$f":"'BASINFO FÖRSÄKRING'!K93","v":0},{"$f":"'BASINFO FÖRSÄKRING'!L93","v":0},{"$f":"'BASINFO VAORG'!I93","v":0},{"$f":"'BASINFO VAORG'!G93","v":"Skriv…"},{"$f":"'BASINFO VAORG'!J93","v":"Skriv…"},{"$f":"'BASINFO VAORG'!K93","v":"Skriv…"},{"$f":"'BASINFO VAORG'!L93","v":"Skriv…"},{"$f":"IF('BASINFO FÖRSÄKRING'!A93=0,'BASINFO VAORG'!A93,'BASINFO FÖRSÄKRING'!A93)","v":0},{"$f":"IF('BASINFO FÖRSÄKRING'!B93=0,'BASINFO VAORG'!B93,'BASINFO FÖRSÄKRING'!B93)","v":0},{"$f":"IF('BASINFO FÖRSÄKRING'!D93=0,'BASINFO VAORG'!C93,'BASINFO FÖRSÄKRING'!D93)","v":0},{"$f":"IF('BASINFO FÖRSÄKRING'!E93=0,'BASINFO VAORG'!D93,'BASINFO FÖRSÄKRING'!E93)","v":0},{"$f":"IF('BASINFO FÖRSÄKRING'!F93=0,'BASINFO VAORG'!E93,'BASINFO FÖRSÄKRING'!F93)","v":0},{"$f":"'SKADEINFO FÖRSÄKRING'!D93","v":0},{"$f":"'SKADEINFO FÖRSÄKRING'!C93","v":"00:00:00"},{"$f":"'SKADEINFO FÖRSÄKRING'!E93","v":"00:00:00"},{"$f":"'SKADEINFO FÖRSÄKRING'!F93","v":0},{"$f":"'SKADEINFO FÖRSÄKRING'!G93","v":0},{"$f":"'SKADEINFO FÖRSÄKRING'!H93","v":0},{"$f":"'SKADEINFO FÖRSÄKRING'!I93","v":0},{"$f":"'SKADEINFO FÖRSÄKRING'!J93","v":0},{"$f":"'SKADEINFO FÖRSÄKRING'!K93","v":0},{"$f":"'SKADEINFO FÖRSÄKRING'!L93","v":0},{"$f":"'SKADEINFO FÖRSÄKRING'!M93","v":0},{"$f":"'SKADEINFO FÖRSÄKRING'!N93","v":0},{"$f":"'SKADEINFO FÖRSÄKRING'!O93","v":0},{"$f":"'SKADEINFO VAORG'!C93","v":"Fyll i…"},{"$f":"'SKADEINFO VAORG'!D93","v":"Välj…"},{"$f":"'SKADEINFO VAORG'!E93","v":"Välj…"},{"$f":"'SKADEINFO VAORG'!F93","v":"Välj…"},{"$f":"'SKADEINFO VAORG'!G93","v":"Välj…"},{"$f":"'SKADEINFO VAORG'!H93","v":"Välj…"},{"$f":"'SKADEINFO VAORG'!I93","v":"Välj…"},{"$f":"'SKADEINFO VAORG'!J93","v":"Välj…"},{"$f":"'SKADEINFO VAORG'!K93","v":"Välj…"},{"$f":"'SKADEINFO VAORG'!L93","v":"Välj…"},{"$f":"'SKADEINFO VAORG'!M93","v":"Välj…"},{"$f":"'SKADEINFO VAORG'!N93","v":"Skriv…"},{"$f":"'SKADEINFO VAORG'!O93","v":"Skriv…"},{"$f":"'SKADEINFO VAORG'!P93","v":"Välj…"},{"$f":"'SKADEINFO VAORG'!Q93","v":"Välj…"},{"$f":"'SKADEINFO VAORG'!R93","v":"Skriv…"},{"$f":"'SKADEINFO VAORG'!S93","v":"Skriv…"}]
[{"$f":"'BASINFO FÖRSÄKRING'!I94","v":0},{"$f":"'BASINFO FÖRSÄKRING'!G94","v":0},{"$f":"'BASINFO FÖRSÄKRING'!J94","v":0},{"$f":"'BASINFO FÖRSÄKRING'!K94","v":0},{"$f":"'BASINFO FÖRSÄKRING'!L94","v":0},{"$f":"'BASINFO VAORG'!I94","v":0},{"$f":"'BASINFO VAORG'!G94","v":"Skriv…"},{"$f":"'BASINFO VAORG'!J94","v":"Skriv…"},{"$f":"'BASINFO VAORG'!K94","v":"Skriv…"},{"$f":"'BASINFO VAORG'!L94","v":"Skriv…"},{"$f":"IF('BASINFO FÖRSÄKRING'!A94=0,'BASINFO VAORG'!A94,'BASINFO FÖRSÄKRING'!A94)","v":0},{"$f":"IF('BASINFO FÖRSÄKRING'!B94=0,'BASINFO VAORG'!B94,'BASINFO FÖRSÄKRING'!B94)","v":0},{"$f":"IF('BASINFO FÖRSÄKRING'!D94=0,'BASINFO VAORG'!C94,'BASINFO FÖRSÄKRING'!D94)","v":0},{"$f":"IF('BASINFO FÖRSÄKRING'!E94=0,'BASINFO VAORG'!D94,'BASINFO FÖRSÄKRING'!E94)","v":0},{"$f":"IF('BASINFO FÖRSÄKRING'!F94=0,'BASINFO VAORG'!E94,'BASINFO FÖRSÄKRING'!F94)","v":0},{"$f":"'SKADEINFO FÖRSÄKRING'!D94","v":0},{"$f":"'SKADEINFO FÖRSÄKRING'!C94","v":"00:00:00"},{"$f":"'SKADEINFO FÖRSÄKRING'!E94","v":"00:00:00"},{"$f":"'SKADEINFO FÖRSÄKRING'!F94","v":0},{"$f":"'SKADEINFO FÖRSÄKRING'!G94","v":0},{"$f":"'SKADEINFO FÖRSÄKRING'!H94","v":0},{"$f":"'SKADEINFO FÖRSÄKRING'!I94","v":0},{"$f":"'SKADEINFO FÖRSÄKRING'!J94","v":0},{"$f":"'SKADEINFO FÖRSÄKRING'!K94","v":0},{"$f":"'SKADEINFO FÖRSÄKRING'!L94","v":0},{"$f":"'SKADEINFO FÖRSÄKRING'!M94","v":0},{"$f":"'SKADEINFO FÖRSÄKRING'!N94","v":0},{"$f":"'SKADEINFO FÖRSÄKRING'!O94","v":0},{"$f":"'SKADEINFO VAORG'!C94","v":"Fyll i…"},{"$f":"'SKADEINFO VAORG'!D94","v":"Välj…"},{"$f":"'SKADEINFO VAORG'!E94","v":"Välj…"},{"$f":"'SKADEINFO VAORG'!F94","v":"Välj…"},{"$f":"'SKADEINFO VAORG'!G94","v":"Välj…"},{"$f":"'SKADEINFO VAORG'!H94","v":"Välj…"},{"$f":"'SKADEINFO VAORG'!I94","v":"Välj…"},{"$f":"'SKADEINFO VAORG'!J94","v":"Välj…"},{"$f":"'SKADEINFO VAORG'!K94","v":"Välj…"},{"$f":"'SKADEINFO VAORG'!L94","v":"Välj…"},{"$f":"'SKADEINFO VAORG'!M94","v":"Välj…"},{"$f":"'SKADEINFO VAORG'!N94","v":"Skriv…"},{"$f":"'SKADEINFO VAORG'!O94","v":"Skriv…"},{"$f":"'SKADEINFO VAORG'!P94","v":"Välj…"},{"$f":"'SKADEINFO VAORG'!Q94","v":"Välj…"},{"$f":"'SKADEINFO VAORG'!R94","v":"Skriv…"},{"$f":"'SKADEINFO VAORG'!S94","v":"Skriv…"}]
[{"$f":"'BASINFO FÖRSÄKRING'!I95","v":0},{"$f":"'BASINFO FÖRSÄKRING'!G95","v":0},{"$f":"'BASINFO FÖRSÄKRING'!J95","v":0},{"$f":"'BASINFO FÖRSÄKRING'!K95","v":0},{"$f":"'BASINFO FÖRSÄKRING'!L95","v":0},{"$f":"'BASINFO VAORG'!I95","v":0},{"$f":"'BASINFO VAORG'!G95","v":"Skriv…"},{"$f":"'BASINFO VAORG'!J95","v":"Skriv…"},{"$f":"'BASINFO VAORG'!K95","v":"Skriv…"},{"$f":"'BASINFO VAORG'!L95","v":"Skriv…"},{"$f":"IF('BASINFO FÖRSÄKRING'!A95=0,'BASINFO VAORG'!A95,'BASINFO FÖRSÄKRING'!A95)","v":0},{"$f":"IF('BASINFO FÖRSÄKRING'!B95=0,'BASINFO VAORG'!B95,'BASINFO FÖRSÄKRING'!B95)","v":0},{"$f":"IF('BASINFO FÖRSÄKRING'!D95=0,'BASINFO VAORG'!C95,'BASINFO FÖRSÄKRING'!D95)","v":0},{"$f":"IF('BASINFO FÖRSÄKRING'!E95=0,'BASINFO VAORG'!D95,'BASINFO FÖRSÄKRING'!E95)","v":0},{"$f":"IF('BASINFO FÖRSÄKRING'!F95=0,'BASINFO VAORG'!E95,'BASINFO FÖRSÄKRING'!F95)","v":0},{"$f":"'SKADEINFO FÖRSÄKRING'!D95","v":0},{"$f":"'SKADEINFO FÖRSÄKRING'!C95","v":"00:00:00"},{"$f":"'SKADEINFO FÖRSÄKRING'!E95","v":"00:00:00"},{"$f":"'SKADEINFO FÖRSÄKRING'!F95","v":0},{"$f":"'SKADEINFO FÖRSÄKRING'!G95","v":0},{"$f":"'SKADEINFO FÖRSÄKRING'!H95","v":0},{"$f":"'SKADEINFO FÖRSÄKRING'!I95","v":0},{"$f":"'SKADEINFO FÖRSÄKRING'!J95","v":0},{"$f":"'SKADEINFO FÖRSÄKRING'!K95","v":0},{"$f":"'SKADEINFO FÖRSÄKRING'!L95","v":0},{"$f":"'SKADEINFO FÖRSÄKRING'!M95","v":0},{"$f":"'SKADEINFO FÖRSÄKRING'!N95","v":0},{"$f":"'SKADEINFO FÖRSÄKRING'!O95","v":0},{"$f":"'SKADEINFO VAORG'!C95","v":"Fyll i…"},{"$f":"'SKADEINFO VAORG'!D95","v":"Välj…"},{"$f":"'SKADEINFO VAORG'!E95","v":"Välj…"},{"$f":"'SKADEINFO VAORG'!F95","v":"Välj…"},{"$f":"'SKADEINFO VAORG'!G95","v":"Välj…"},{"$f":"'SKADEINFO VAORG'!H95","v":"Välj…"},{"$f":"'SKADEINFO VAORG'!I95","v":"Välj…"},{"$f":"'SKADEINFO VAORG'!J95","v":"Välj…"},{"$f":"'SKADEINFO VAORG'!K95","v":"Välj…"},{"$f":"'SKADEINFO VAORG'!L95","v":"Välj…"},{"$f":"'SKADEINFO VAORG'!M95","v":"Välj…"},{"$f":"'SKADEINFO VAORG'!N95","v":"Skriv…"},{"$f":"'SKADEINFO VAORG'!O95","v":"Skriv…"},{"$f":"'SKADEINFO VAORG'!P95","v":"Välj…"},{"$f":"'SKADEINFO VAORG'!Q95","v":"Välj…"},{"$f":"'SKADEINFO VAORG'!R95","v":"Skriv…"},{"$f":"'SKADEINFO VAORG'!S95","v":"Skriv…"}]
[{"$f":"'BASINFO FÖRSÄKRING'!I96","v":0},{"$f":"'BASINFO FÖRSÄKRING'!G96","v":0},{"$f":"'BASINFO FÖRSÄKRING'!J96","v":0},{"$f":"'BASINFO FÖRSÄKRING'!K96","v":0},{"$f":"'BASINFO FÖRSÄKRING'!L96","v":0},{"$f":"'BASINFO VAORG'!I96","v":0},{"$f":"'BASINFO VAORG'!G96","v":"Skriv…"},{"$f":"'BASINFO VAORG'!J96","v":"Skriv…"},{"$f":"'BASINFO VAORG'!K96","v":"Skriv…"},{"$f":"'BASINFO VAORG'!L96","v":"Skriv…"},{"$f":"IF('BASINFO FÖRSÄKRING'!A96=0,'BASINFO VAORG'!A96,'BASINFO FÖRSÄKRING'!A96)","v":0},{"$f":"IF('BASINFO FÖRSÄKRING'!B96=0,'BASINFO VAORG'!B96,'BASINFO FÖRSÄKRING'!B96)","v":0},{"$f":"IF('BASINFO FÖRSÄKRING'!D96=0,'BASINFO VAORG'!C96,'BASINFO FÖRSÄKRING'!D96)","v":0},{"$f":"IF('BASINFO FÖRSÄKRING'!E96=0,'BASINFO VAORG'!D96,'BASINFO FÖRSÄKRING'!E96)","v":0},{"$f":"IF('BASINFO FÖRSÄKRING'!F96=0,'BASINFO VAORG'!E96,'BASINFO FÖRSÄKRING'!F96)","v":0},{"$f":"'SKADEINFO FÖRSÄKRING'!D96","v":0},{"$f":"'SKADEINFO FÖRSÄKRING'!C96","v":"00:00:00"},{"$f":"'SKADEINFO FÖRSÄKRING'!E96","v":"00:00:00"},{"$f":"'SKADEINFO FÖRSÄKRING'!F96","v":0},{"$f":"'SKADEINFO FÖRSÄKRING'!G96","v":0},{"$f":"'SKADEINFO FÖRSÄKRING'!H96","v":0},{"$f":"'SKADEINFO FÖRSÄKRING'!I96","v":0},{"$f":"'SKADEINFO FÖRSÄKRING'!J96","v":0},{"$f":"'SKADEINFO FÖRSÄKRING'!K96","v":0},{"$f":"'SKADEINFO FÖRSÄKRING'!L96","v":0},{"$f":"'SKADEINFO FÖRSÄKRING'!M96","v":0},{"$f":"'SKADEINFO FÖRSÄKRING'!N96","v":0},{"$f":"'SKADEINFO FÖRSÄKRING'!O96","v":0},{"$f":"'SKADEINFO VAORG'!C96","v":"Fyll i…"},{"$f":"'SKADEINFO VAORG'!D96","v":"Välj…"},{"$f":"'SKADEINFO VAORG'!E96","v":"Välj…"},{"$f":"'SKADEINFO VAORG'!F96","v":"Välj…"},{"$f":"'SKADEINFO VAORG'!G96","v":"Välj…"},{"$f":"'SKADEINFO VAORG'!H96","v":"Välj…"},{"$f":"'SKADEINFO VAORG'!I96","v":"Välj…"},{"$f":"'SKADEINFO VAORG'!J96","v":"Välj…"},{"$f":"'SKADEINFO VAORG'!K96","v":"Välj…"},{"$f":"'SKADEINFO VAORG'!L96","v":"Välj…"},{"$f":"'SKADEINFO VAORG'!M96","v":"Välj…"},{"$f":"'SKADEINFO VAORG'!N96","v":"Skriv…"},{"$f":"'SKADEINFO VAORG'!O96","v":"Skriv…"},{"$f":"'SKADEINFO VAORG'!P96","v":"Välj…"},{"$f":"'SKADEINFO VAORG'!Q96","v":"Välj…"},{"$f":"'SKADEINFO VAORG'!R96","v":"Skriv…"},{"$f":"'SKADEINFO VAORG'!S96","v":"Skriv…"}]
[{"$f":"'BASINFO FÖRSÄKRING'!I97","v":0},{"$f":"'BASINFO FÖRSÄKRING'!G97","v":0},{"$f":"'BASINFO FÖRSÄKRING'!J97","v":0},{"$f":"'BASINFO FÖRSÄKRING'!K97","v":0},{"$f":"'BASINFO FÖRSÄKRING'!L97","v":0},{"$f":"'BASINFO VAORG'!I97","v":0},{"$f":"'BASINFO VAORG'!G97","v":"Skriv…"},{"$f":"'BASINFO VAORG'!J97","v":"Skriv…"},{"$f":"'BASINFO VAORG'!K97","v":"Skriv…"},{"$f":"'BASINFO VAORG'!L97","v":"Skriv…"},{"$f":"IF('BASINFO FÖRSÄKRING'!A97=0,'BASINFO VAORG'!A97,'BASINFO FÖRSÄKRING'!A97)","v":0},{"$f":"IF('BASINFO FÖRSÄKRING'!B97=0,'BASINFO VAORG'!B97,'BASINFO FÖRSÄKRING'!B97)","v":0},{"$f":"IF('BASINFO FÖRSÄKRING'!D97=0,'BASINFO VAORG'!C97,'BASINFO FÖRSÄKRING'!D97)","v":0},{"$f":"IF('BASINFO FÖRSÄKRING'!E97=0,'BASINFO VAORG'!D97,'BASINFO FÖRSÄKRING'!E97)","v":0},{"$f":"IF('BASINFO FÖRSÄKRING'!F97=0,'BASINFO VAORG'!E97,'BASINFO FÖRSÄKRING'!F97)","v":0},{"$f":"'SKADEINFO FÖRSÄKRING'!D97","v":0},{"$f":"'SKADEINFO FÖRSÄKRING'!C97","v":"00:00:00"},{"$f":"'SKADEINFO FÖRSÄKRING'!E97","v":"00:00:00"},{"$f":"'SKADEINFO FÖRSÄKRING'!F97","v":0},{"$f":"'SKADEINFO FÖRSÄKRING'!G97","v":0},{"$f":"'SKADEINFO FÖRSÄKRING'!H97","v":0},{"$f":"'SKADEINFO FÖRSÄKRING'!I97","v":0},{"$f":"'SKADEINFO FÖRSÄKRING'!J97","v":0},{"$f":"'SKADEINFO FÖRSÄKRING'!K97","v":0},{"$f":"'SKADEINFO FÖRSÄKRING'!L97","v":0},{"$f":"'SKADEINFO FÖRSÄKRING'!M97","v":0},{"$f":"'SKADEINFO FÖRSÄKRING'!N97","v":0},{"$f":"'SKADEINFO FÖRSÄKRING'!O97","v":0},{"$f":"'SKADEINFO VAORG'!C97","v":"Fyll i…"},{"$f":"'SKADEINFO VAORG'!D97","v":"Välj…"},{"$f":"'SKADEINFO VAORG'!E97","v":"Välj…"},{"$f":"'SKADEINFO VAORG'!F97","v":"Välj…"},{"$f":"'SKADEINFO VAORG'!G97","v":"Välj…"},{"$f":"'SKADEINFO VAORG'!H97","v":"Välj…"},{"$f":"'SKADEINFO VAORG'!I97","v":"Välj…"},{"$f":"'SKADEINFO VAORG'!J97","v":"Välj…"},{"$f":"'SKADEINFO VAORG'!K97","v":"Välj…"},{"$f":"'SKADEINFO VAORG'!L97","v":"Välj…"},{"$f":"'SKADEINFO VAORG'!M97","v":"Välj…"},{"$f":"'SKADEINFO VAORG'!N97","v":"Skriv…"},{"$f":"'SKADEINFO VAORG'!O97","v":"Skriv…"},{"$f":"'SKADEINFO VAORG'!P97","v":"Välj…"},{"$f":"'SKADEINFO VAORG'!Q97","v":"Välj…"},{"$f":"'SKADEINFO VAORG'!R97","v":"Skriv…"},{"$f":"'SKADEINFO VAORG'!S97","v":"Skriv…"}]
[{"$f":"'BASINFO FÖRSÄKRING'!I98","v":0},{"$f":"'BASINFO FÖRSÄKRING'!G98","v":0},{"$f":"'BASINFO FÖRSÄKRING'!J98","v":0},{"$f":"'BASINFO FÖRSÄKRING'!K98","v":0},{"$f":"'BASINFO FÖRSÄKRING'!L98","v":0},{"$f":"'BASINFO VAORG'!I98","v":0},{"$f":"'BASINFO VAORG'!G98","v":"Skriv…"},{"$f":"'BASINFO VAORG'!J98","v":"Skriv…"},{"$f":"'BASINFO VAORG'!K98","v":"Skriv…"},{"$f":"'BASINFO VAORG'!L98","v":"Skriv…"},{"$f":"IF('BASINFO FÖRSÄKRING'!A98=0,'BASINFO VAORG'!A98,'BASINFO FÖRSÄKRING'!A98)","v":0},{"$f":"IF('BASINFO FÖRSÄKRING'!B98=0,'BASINFO VAORG'!B98,'BASINFO FÖRSÄKRING'!B98)","v":0},{"$f":"IF('BASINFO FÖRSÄKRING'!D98=0,'BASINFO VAORG'!C98,'BASINFO FÖRSÄKRING'!D98)","v":0},{"$f":"IF('BASINFO FÖRSÄKRING'!E98=0,'BASINFO VAORG'!D98,'BASINFO FÖRSÄKRING'!E98)","v":0},{"$f":"IF('BASINFO FÖRSÄKRING'!F98=0,'BASINFO VAORG'!E98,'BASINFO FÖRSÄKRING'!F98)","v":0},{"$f":"'SKADEINFO FÖRSÄKRING'!D98","v":0},{"$f":"'SKADEINFO FÖRSÄKRING'!C98","v":"00:00:00"},{"$f":"'SKADEINFO FÖRSÄKRING'!E98","v":"00:00:00"},{"$f":"'SKADEINFO FÖRSÄKRING'!F98","v":0},{"$f":"'SKADEINFO FÖRSÄKRING'!G98","v":0},{"$f":"'SKADEINFO FÖRSÄKRING'!H98","v":0},{"$f":"'SKADEINFO FÖRSÄKRING'!I98","v":0},{"$f":"'SKADEINFO FÖRSÄKRING'!J98","v":0},{"$f":"'SKADEINFO FÖRSÄKRING'!K98","v":0},{"$f":"'SKADEINFO FÖRSÄKRING'!L98","v":0},{"$f":"'SKADEINFO FÖRSÄKRING'!M98","v":0},{"$f":"'SKADEINFO FÖRSÄKRING'!N98","v":0},{"$f":"'SKADEINFO FÖRSÄKRING'!O98","v":0},{"$f":"'SKADEINFO VAORG'!C98","v":"Fyll i…"},{"$f":"'SKADEINFO VAORG'!D98","v":"Välj…"},{"$f":"'SKADEINFO VAORG'!E98","v":"Välj…"},{"$f":"'SKADEINFO VAORG'!F98","v":"Välj…"},{"$f":"'SKADEINFO VAORG'!G98","v":"Välj…"},{"$f":"'SKADEINFO VAORG'!H98","v":"Välj…"},{"$f":"'SKADEINFO VAORG'!I98","v":"Välj…"},{"$f":"'SKADEINFO VAORG'!J98","v":"Välj…"},{"$f":"'SKADEINFO VAORG'!K98","v":"Välj…"},{"$f":"'SKADEINFO VAORG'!L98","v":"Välj…"},{"$f":"'SKADEINFO VAORG'!M98","v":"Välj…"},{"$f":"'SKADEINFO VAORG'!N98","v":"Skriv…"},{"$f":"'SKADEINFO VAORG'!O98","v":"Skriv…"},{"$f":"'SKADEINFO VAORG'!P98","v":"Välj…"},{"$f":"'SKADEINFO VAORG'!Q98","v":"Välj…"},{"$f":"'SKADEINFO VAORG'!R98","v":"Skriv…"},{"$f":"'SKADEINFO VAORG'!S98","v":"Skriv…"}]
[{"$f":"'BASINFO FÖRSÄKRING'!I99","v":0},{"$f":"'BASINFO FÖRSÄKRING'!G99","v":0},{"$f":"'BASINFO FÖRSÄKRING'!J99","v":0},{"$f":"'BASINFO FÖRSÄKRING'!K99","v":0},{"$f":"'BASINFO FÖRSÄKRING'!L99","v":0},{"$f":"'BASINFO VAORG'!I99","v":0},{"$f":"'BASINFO VAORG'!G99","v":"Skriv…"},{"$f":"'BASINFO VAORG'!J99","v":"Skriv…"},{"$f":"'BASINFO VAORG'!K99","v":"Skriv…"},{"$f":"'BASINFO VAORG'!L99","v":"Skriv…"},{"$f":"IF('BASINFO FÖRSÄKRING'!A99=0,'BASINFO VAORG'!A99,'BASINFO FÖRSÄKRING'!A99)","v":0},{"$f":"IF('BASINFO FÖRSÄKRING'!B99=0,'BASINFO VAORG'!B99,'BASINFO FÖRSÄKRING'!B99)","v":0},{"$f":"IF('BASINFO FÖRSÄKRING'!D99=0,'BASINFO VAORG'!C99,'BASINFO FÖRSÄKRING'!D99)","v":0},{"$f":"IF('BASINFO FÖRSÄKRING'!E99=0,'BASINFO VAORG'!D99,'BASINFO FÖRSÄKRING'!E99)","v":0},{"$f":"IF('BASINFO FÖRSÄKRING'!F99=0,'BASINFO VAORG'!E99,'BASINFO FÖRSÄKRING'!F99)","v":0},{"$f":"'SKADEINFO FÖRSÄKRING'!D99","v":0},{"$f":"'SKADEINFO FÖRSÄKRING'!C99","v":"00:00:00"},{"$f":"'SKADEINFO FÖRSÄKRING'!E99","v":"00:00:00"},{"$f":"'SKADEINFO FÖRSÄKRING'!F99","v":0},{"$f":"'SKADEINFO FÖRSÄKRING'!G99","v":0},{"$f":"'SKADEINFO FÖRSÄKRING'!H99","v":0},{"$f":"'SKADEINFO FÖRSÄKRING'!I99","v":0},{"$f":"'SKADEINFO FÖRSÄKRING'!J99","v":0},{"$f":"'SKADEINFO FÖRSÄKRING'!K99","v":0},{"$f":"'SKADEINFO FÖRSÄKRING'!L99","v":0},{"$f":"'SKADEINFO FÖRSÄKRING'!M99","v":0},{"$f":"'SKADEINFO FÖRSÄKRING'!N99","v":0},{"$f":"'SKADEINFO FÖRSÄKRING'!O99","v":0},{"$f":"'SKADEINFO VAORG'!C99","v":"Fyll i…"},{"$f":"'SKADEINFO VAORG'!D99","v":"Välj…"},{"$f":"'SKADEINFO VAORG'!E99","v":"Välj…"},{"$f":"'SKADEINFO VAORG'!F99","v":"Välj…"},{"$f":"'SKADEINFO VAORG'!G99","v":"Välj…"},{"$f":"'SKADEINFO VAORG'!H99","v":"Välj…"},{"$f":"'SKADEINFO VAORG'!I99","v":"Välj…"},{"$f":"'SKADEINFO VAORG'!J99","v":"Välj…"},{"$f":"'SKADEINFO VAORG'!K99","v":"Välj…"},{"$f":"'SKADEINFO VAORG'!L99","v":"Välj…"},{"$f":"'SKADEINFO VAORG'!M99","v":"Välj…"},{"$f":"'SKADEINFO VAORG'!N99","v":"Skriv…"},{"$f":"'SKADEINFO VAORG'!O99","v":"Skriv…"},{"$f":"'SKADEINFO VAORG'!P99","v":"Välj…"},{"$f":"'SKADEINFO VAORG'!Q99","v":"Välj…"},{"$f":"'SKADEINFO VAORG'!R99","v":"Skriv…"},{"$f":"'SKADEINFO VAORG'!S99","v":"Skriv…"}]
[{"$f":"'BASINFO FÖRSÄKRING'!I100","v":0},{"$f":"'BASINFO FÖRSÄKRING'!G100","v":0},{"$f":"'BASINFO FÖRSÄKRING'!J100","v":0},{"$f":"'BASINFO FÖRSÄKRING'!K100","v":0},{"$f":"'BASINFO FÖRSÄKRING'!L100","v":0},{"$f":"'BASINFO VAORG'!I100","v":0},{"$f":"'BASINFO VAORG'!G100","v":"Skriv…"},{"$f":"'BASINFO VAORG'!J100","v":"Skriv…"},{"$f":"'BASINFO VAORG'!K100","v":"Skriv…"},{"$f":"'BASINFO VAORG'!L100","v":"Skriv…"},{"$f":"IF('BASINFO FÖRSÄKRING'!A100=0,'BASINFO VAORG'!A100,'BASINFO FÖRSÄKRING'!A100)","v":0},{"$f":"IF('BASINFO FÖRSÄKRING'!B100=0,'BASINFO VAORG'!B100,'BASINFO FÖRSÄKRING'!B100)","v":0},{"$f":"IF('BASINFO FÖRSÄKRING'!D100=0,'BASINFO VAORG'!C100,'BASINFO FÖRSÄKRING'!D100)","v":0},{"$f":"IF('BASINFO FÖRSÄKRING'!E100=0,'BASINFO VAORG'!D100,'BASINFO FÖRSÄKRING'!E100)","v":0},{"$f":"IF('BASINFO FÖRSÄKRING'!F100=0,'BASINFO VAORG'!E100,'BASINFO FÖRSÄKRING'!F100)","v":0},{"$f":"'SKADEINFO FÖRSÄKRING'!D100","v":0},{"$f":"'SKADEINFO FÖRSÄKRING'!C100","v":"00:00:00"},{"$f":"'SKADEINFO FÖRSÄKRING'!E100","v":"00:00:00"},{"$f":"'SKADEINFO FÖRSÄKRING'!F100","v":0},{"$f":"'SKADEINFO FÖRSÄKRING'!G100","v":0},{"$f":"'SKADEINFO FÖRSÄKRING'!H100","v":0},{"$f":"'SKADEINFO FÖRSÄKRING'!I100","v":0},{"$f":"'SKADEINFO FÖRSÄKRING'!J100","v":0},{"$f":"'SKADEINFO FÖRSÄKRING'!K100","v":0},{"$f":"'SKADEINFO FÖRSÄKRING'!L100","v":0},{"$f":"'SKADEINFO FÖRSÄKRING'!M100","v":0},{"$f":"'SKADEINFO FÖRSÄKRING'!N100","v":0},{"$f":"'SKADEINFO FÖRSÄKRING'!O100","v":0},{"$f":"'SKADEINFO VAORG'!C100","v":"Fyll i…"},{"$f":"'SKADEINFO VAORG'!D100","v":"Välj…"},{"$f":"'SKADEINFO VAORG'!E100","v":"Välj…"},{"$f":"'SKADEINFO VAORG'!F100","v":"Välj…"},{"$f":"'SKADEINFO VAORG'!G100","v":"Välj…"},{"$f":"'SKADEINFO VAORG'!H100","v":"Välj…"},{"$f":"'SKADEINFO VAORG'!I100","v":"Välj…"},{"$f":"'SKADEINFO VAORG'!J100","v":"Välj…"},{"$f":"'SKADEINFO VAORG'!K100","v":"Välj…"},{"$f":"'SKADEINFO VAORG'!L100","v":"Välj…"},{"$f":"'SKADEINFO VAORG'!M100","v":"Välj…"},{"$f":"'SKADEINFO VAORG'!N100","v":"Skriv…"},{"$f":"'SKADEINFO VAORG'!O100","v":"Skriv…"},{"$f":"'SKADEINFO VAORG'!P100","v":"Välj…"},{"$f":"'SKADEINFO VAORG'!Q100","v":"Välj…"},{"$f":"'SKADEINFO VAORG'!R100","v":"Skriv…"},{"$f":"'SKADEINFO VAORG'!S100","v":"Skriv…"}]
[{"$f":"'BASINFO FÖRSÄKRING'!I101","v":0},{"$f":"'BASINFO FÖRSÄKRING'!G101","v":0},{"$f":"'BASINFO FÖRSÄKRING'!J101","v":0},{"$f":"'BASINFO FÖRSÄKRING'!K101","v":0},{"$f":"'BASINFO FÖRSÄKRING'!L101","v":0},{"$f":"'BASINFO VAORG'!I101","v":0},{"$f":"'BASINFO VAORG'!G101","v":"Skriv…"},{"$f":"'BASINFO VAORG'!J101","v":"Skriv…"},{"$f":"'BASINFO VAORG'!K101","v":"Skriv…"},{"$f":"'BASINFO VAORG'!L101","v":"Skriv…"},{"$f":"IF('BASINFO FÖRSÄKRING'!A101=0,'BASINFO VAORG'!A101,'BASINFO FÖRSÄKRING'!A101)","v":0},{"$f":"IF('BASINFO FÖRSÄKRING'!B101=0,'BASINFO VAORG'!B101,'BASINFO FÖRSÄKRING'!B101)","v":0},{"$f":"IF('BASINFO FÖRSÄKRING'!D101=0,'BASINFO VAORG'!C101,'BASINFO FÖRSÄKRING'!D101)","v":0},{"$f":"IF('BASINFO FÖRSÄKRING'!E101=0,'BASINFO VAORG'!D101,'BASINFO FÖRSÄKRING'!E101)","v":0},{"$f":"IF('BASINFO FÖRSÄKRING'!F101=0,'BASINFO VAORG'!E101,'BASINFO FÖRSÄKRING'!F101)","v":0},{"$f":"'SKADEINFO FÖRSÄKRING'!D101","v":0},{"$f":"'SKADEINFO FÖRSÄKRING'!C101","v":"00:00:00"},{"$f":"'SKADEINFO FÖRSÄKRING'!E101","v":"00:00:00"},{"$f":"'SKADEINFO FÖRSÄKRING'!F101","v":0},{"$f":"'SKADEINFO FÖRSÄKRING'!G101","v":0},{"$f":"'SKADEINFO FÖRSÄKRING'!H101","v":0},{"$f":"'SKADEINFO FÖRSÄKRING'!I101","v":0},{"$f":"'SKADEINFO FÖRSÄKRING'!J101","v":0},{"$f":"'SKADEINFO FÖRSÄKRING'!K101","v":0},{"$f":"'SKADEINFO FÖRSÄKRING'!L101","v":0},{"$f":"'SKADEINFO FÖRSÄKRING'!M101","v":0},{"$f":"'SKADEINFO FÖRSÄKRING'!N101","v":0},{"$f":"'SKADEINFO FÖRSÄKRING'!O101","v":0},{"$f":"'SKADEINFO VAORG'!C101","v":"Fyll i…"},{"$f":"'SKADEINFO VAORG'!D101","v":"Välj…"},{"$f":"'SKADEINFO VAORG'!E101","v":"Välj…"},{"$f":"'SKADEINFO VAORG'!F101","v":"Välj…"},{"$f":"'SKADEINFO VAORG'!G101","v":"Välj…"},{"$f":"'SKADEINFO VAORG'!H101","v":"Välj…"},{"$f":"'SKADEINFO VAORG'!I101","v":"Välj…"},{"$f":"'SKADEINFO VAORG'!J101","v":"Välj…"},{"$f":"'SKADEINFO VAORG'!K101","v":"Välj…"},{"$f":"'SKADEINFO VAORG'!L101","v":"Välj…"},{"$f":"'SKADEINFO VAORG'!M101","v":"Välj…"},{"$f":"'SKADEINFO VAORG'!N101","v":"Skriv…"},{"$f":"'SKADEINFO VAORG'!O101","v":"Skriv…"},{"$f":"'SKADEINFO VAORG'!P101","v":"Välj…"},{"$f":"'SKADEINFO VAORG'!Q101","v":"Välj…"},{"$f":"'SKADEINFO VAORG'!R101","v":"Skriv…"},{"$f":"'SKADEINFO VAORG'!S101","v":"Skriv…"}]
[{"$f":"'BASINFO FÖRSÄKRING'!I102","v":0},{"$f":"'BASINFO FÖRSÄKRING'!G102","v":0},{"$f":"'BASINFO FÖRSÄKRING'!J102","v":0},{"$f":"'BASINFO FÖRSÄKRING'!K102","v":0},{"$f":"'BASINFO FÖRSÄKRING'!L102","v":0},{"$f":"'BASINFO VAORG'!I102","v":0},{"$f":"'BASINFO VAORG'!G102","v":"Skriv…"},{"$f":"'BASINFO VAORG'!J102","v":"Skriv…"},{"$f":"'BASINFO VAORG'!K102","v":"Skriv…"},{"$f":"'BASINFO VAORG'!L102","v":"Skriv…"},{"$f":"IF('BASINFO FÖRSÄKRING'!A102=0,'BASINFO VAORG'!A102,'BASINFO FÖRSÄKRING'!A102)","v":0},{"$f":"IF('BASINFO FÖRSÄKRING'!B102=0,'BASINFO VAORG'!B102,'BASINFO FÖRSÄKRING'!B102)","v":0},{"$f":"IF('BASINFO FÖRSÄKRING'!D102=0,'BASINFO VAORG'!C102,'BASINFO FÖRSÄKRING'!D102)","v":0},{"$f":"IF('BASINFO FÖRSÄKRING'!E102=0,'BASINFO VAORG'!D102,'BASINFO FÖRSÄKRING'!E102)","v":0},{"$f":"IF('BASINFO FÖRSÄKRING'!F102=0,'BASINFO VAORG'!E102,'BASINFO FÖRSÄKRING'!F102)","v":0},{"$f":"'SKADEINFO FÖRSÄKRING'!D102","v":0},{"$f":"'SKADEINFO FÖRSÄKRING'!C102","v":"00:00:00"},{"$f":"'SKADEINFO FÖRSÄKRING'!E102","v":"00:00:00"},{"$f":"'SKADEINFO FÖRSÄKRING'!F102","v":0},{"$f":"'SKADEINFO FÖRSÄKRING'!G102","v":0},{"$f":"'SKADEINFO FÖRSÄKRING'!H102","v":0},{"$f":"'SKADEINFO FÖRSÄKRING'!I102","v":0},{"$f":"'SKADEINFO FÖRSÄKRING'!J102","v":0},{"$f":"'SKADEINFO FÖRSÄKRING'!K102","v":0},{"$f":"'SKADEINFO FÖRSÄKRING'!L102","v":0},{"$f":"'SKADEINFO FÖRSÄKRING'!M102","v":0},{"$f":"'SKADEINFO FÖRSÄKRING'!N102","v":0},{"$f":"'SKADEINFO FÖRSÄKRING'!O102","v":0},{"$f":"'SKADEINFO VAORG'!C102","v":"Fyll i…"},{"$f":"'SKADEINFO VAORG'!D102","v":"Välj…"},{"$f":"'SKADEINFO VAORG'!E102","v":"Välj…"},{"$f":"'SKADEINFO VAORG'!F102","v":"Välj…"},{"$f":"'SKADEINFO VAORG'!G102","v":"Välj…"},{"$f":"'SKADEINFO VAORG'!H102","v":"Välj…"},{"$f":"'SKADEINFO VAORG'!I102","v":"Välj…"},{"$f":"'SKADEINFO VAORG'!J102","v":"Välj…"},{"$f":"'SKADEINFO VAORG'!K102","v":"Välj…"},{"$f":"'SKADEINFO VAORG'!L102","v":"Välj…"},{"$f":"'SKADEINFO VAORG'!M102","v":"Välj…"},{"$f":"'SKADEINFO VAORG'!N102","v":"Skriv…"},{"$f":"'SKADEINFO VAORG'!O102","v":"Skriv…"},{"$f":"'SKADEINFO VAORG'!P102","v":"Välj…"},{"$f":"'SKADEINFO VAORG'!Q102","v":"Välj…"},{"$f":"'SKADEINFO VAORG'!R102","v":"Skriv…"},{"$f":"'SKADEINFO VAORG'!S102","v":"Skriv…"}]
[{"$f":"'BASINFO FÖRSÄKRING'!I103","v":0},{"$f":"'BASINFO FÖRSÄKRING'!G103","v":0},{"$f":"'BASINFO FÖRSÄKRING'!J103","v":0},{"$f":"'BASINFO FÖRSÄKRING'!K103","v":0},{"$f":"'BASINFO FÖRSÄKRING'!L103","v":0},{"$f":"'BASINFO VAORG'!I103","v":0},{"$f":"'BASINFO VAORG'!G103","v":"Skriv…"},{"$f":"'BASINFO VAORG'!J103","v":"Skriv…"},{"$f":"'BASINFO VAORG'!K103","v":"Skriv…"},{"$f":"'BASINFO VAORG'!L103","v":"Skriv…"},{"$f":"IF('BASINFO FÖRSÄKRING'!A103=0,'BASINFO VAORG'!A103,'BASINFO FÖRSÄKRING'!A103)","v":0},{"$f":"IF('BASINFO FÖRSÄKRING'!B103=0,'BASINFO VAORG'!B103,'BASINFO FÖRSÄKRING'!B103)","v":0},{"$f":"IF('BASINFO FÖRSÄKRING'!D103=0,'BASINFO VAORG'!C103,'BASINFO FÖRSÄKRING'!D103)","v":0},{"$f":"IF('BASINFO FÖRSÄKRING'!E103=0,'BASINFO VAORG'!D103,'BASINFO FÖRSÄKRING'!E103)","v":0},{"$f":"IF('BASINFO FÖRSÄKRING'!F103=0,'BASINFO VAORG'!E103,'BASINFO FÖRSÄKRING'!F103)","v":0},{"$f":"'SKADEINFO FÖRSÄKRING'!D103","v":0},{"$f":"'SKADEINFO FÖRSÄKRING'!C103","v":"00:00:00"},{"$f":"'SKADEINFO FÖRSÄKRING'!E103","v":"00:00:00"},{"$f":"'SKADEINFO FÖRSÄKRING'!F103","v":0},{"$f":"'SKADEINFO FÖRSÄKRING'!G103","v":0},{"$f":"'SKADEINFO FÖRSÄKRING'!H103","v":0},{"$f":"'SKADEINFO FÖRSÄKRING'!I103","v":0},{"$f":"'SKADEINFO FÖRSÄKRING'!J103","v":0},{"$f":"'SKADEINFO FÖRSÄKRING'!K103","v":0},{"$f":"'SKADEINFO FÖRSÄKRING'!L103","v":0},{"$f":"'SKADEINFO FÖRSÄKRING'!M103","v":0},{"$f":"'SKADEINFO FÖRSÄKRING'!N103","v":0},{"$f":"'SKADEINFO FÖRSÄKRING'!O103","v":0},{"$f":"'SKADEINFO VAORG'!C103","v":"Fyll i…"},{"$f":"'SKADEINFO VAORG'!D103","v":"Välj…"},{"$f":"'SKADEINFO VAORG'!E103","v":"Välj…"},{"$f":"'SKADEINFO VAORG'!F103","v":"Välj…"},{"$f":"'SKADEINFO VAORG'!G103","v":"Välj…"},{"$f":"'SKADEINFO VAORG'!H103","v":"Välj…"},{"$f":"'SKADEINFO VAORG'!I103","v":"Välj…"},{"$f":"'SKADEINFO VAORG'!J103","v":"Välj…"},{"$f":"'SKADEINFO VAORG'!K103","v":"Välj…"},{"$f":"'SKADEINFO VAORG'!L103","v":"Välj…"},{"$f":"'SKADEINFO VAORG'!M103","v":"Välj…"},{"$f":"'SKADEINFO VAORG'!N103","v":"Skriv…"},{"$f":"'SKADEINFO VAORG'!O103","v":"Skriv…"},{"$f":"'SKADEINFO VAORG'!P103","v":"Välj…"},{"$f":"'SKADEINFO VAORG'!Q103","v":"Välj…"},{"$f":"'SKADEINFO VAORG'!R103","v":"Skriv…"},{"$f":"'SKADEINFO VAORG'!S103","v":"Skriv…"}]
[{"$f":"'BASINFO FÖRSÄKRING'!I104","v":0},{"$f":"'BASINFO FÖRSÄKRING'!G104","v":0},{"$f":"'BASINFO FÖRSÄKRING'!J104","v":0},{"$f":"'BASINFO FÖRSÄKRING'!K104","v":0},{"$f":"'BASINFO FÖRSÄKRING'!L104","v":0},{"$f":"'BASINFO VAORG'!I104","v":0},{"$f":"'BASINFO VAORG'!G104","v":"Skriv…"},{"$f":"'BASINFO VAORG'!J104","v":"Skriv…"},{"$f":"'BASINFO VAORG'!K104","v":"Skriv…"},{"$f":"'BASINFO VAORG'!L104","v":"Skriv…"},{"$f":"IF('BASINFO FÖRSÄKRING'!A104=0,'BASINFO VAORG'!A104,'BASINFO FÖRSÄKRING'!A104)","v":0},{"$f":"IF('BASINFO FÖRSÄKRING'!B104=0,'BASINFO VAORG'!B104,'BASINFO FÖRSÄKRING'!B104)","v":0},{"$f":"IF('BASINFO FÖRSÄKRING'!D104=0,'BASINFO VAORG'!C104,'BASINFO FÖRSÄKRING'!D104)","v":0},{"$f":"IF('BASINFO FÖRSÄKRING'!E104=0,'BASINFO VAORG'!D104,'BASINFO FÖRSÄKRING'!E104)","v":0},{"$f":"IF('BASINFO FÖRSÄKRING'!F104=0,'BASINFO VAORG'!E104,'BASINFO FÖRSÄKRING'!F104)","v":0},{"$f":"'SKADEINFO FÖRSÄKRING'!D104","v":0},{"$f":"'SKADEINFO FÖRSÄKRING'!C104","v":"00:00:00"},{"$f":"'SKADEINFO FÖRSÄKRING'!E104","v":"00:00:00"},{"$f":"'SKADEINFO FÖRSÄKRING'!F104","v":0},{"$f":"'SKADEINFO FÖRSÄKRING'!G104","v":0},{"$f":"'SKADEINFO FÖRSÄKRING'!H104","v":0},{"$f":"'SKADEINFO FÖRSÄKRING'!I104","v":0},{"$f":"'SKADEINFO FÖRSÄKRING'!J104","v":0},{"$f":"'SKADEINFO FÖRSÄKRING'!K104","v":0},{"$f":"'SKADEINFO FÖRSÄKRING'!L104","v":0},{"$f":"'SKADEINFO FÖRSÄKRING'!M104","v":0},{"$f":"'SKADEINFO FÖRSÄKRING'!N104","v":0},{"$f":"'SKADEINFO FÖRSÄKRING'!O104","v":0},{"$f":"'SKADEINFO VAORG'!C104","v":"Fyll i…"},{"$f":"'SKADEINFO VAORG'!D104","v":"Välj…"},{"$f":"'SKADEINFO VAORG'!E104","v":"Välj…"},{"$f":"'SKADEINFO VAORG'!F104","v":"Välj…"},{"$f":"'SKADEINFO VAORG'!G104","v":"Välj…"},{"$f":"'SKADEINFO VAORG'!H104","v":"Välj…"},{"$f":"'SKADEINFO VAORG'!I104","v":"Välj…"},{"$f":"'SKADEINFO VAORG'!J104","v":"Välj…"},{"$f":"'SKADEINFO VAORG'!K104","v":"Välj…"},{"$f":"'SKADEINFO VAORG'!L104","v":"Välj…"},{"$f":"'SKADEINFO VAORG'!M104","v":"Välj…"},{"$f":"'SKADEINFO VAORG'!N104","v":"Skriv…"},{"$f":"'SKADEINFO VAORG'!O104","v":"Skriv…"},{"$f":"'SKADEINFO VAORG'!P104","v":"Välj…"},{"$f":"'SKADEINFO VAORG'!Q104","v":"Välj…"},{"$f":"'SKADEINFO VAORG'!R104","v":"Skriv…"},{"$f":"'SKADEINFO VAORG'!S104","v":"Skriv…"}]
[{"$f":"'BASINFO FÖRSÄKRING'!I105","v":0},{"$f":"'BASINFO FÖRSÄKRING'!G105","v":0},{"$f":"'BASINFO FÖRSÄKRING'!J105","v":0},{"$f":"'BASINFO FÖRSÄKRING'!K105","v":0},{"$f":"'BASINFO FÖRSÄKRING'!L105","v":0},{"$f":"'BASINFO VAORG'!I105","v":0},{"$f":"'BASINFO VAORG'!G105","v":"Skriv…"},{"$f":"'BASINFO VAORG'!J105","v":"Skriv…"},{"$f":"'BASINFO VAORG'!K105","v":"Skriv…"},{"$f":"'BASINFO VAORG'!L105","v":"Skriv…"},{"$f":"IF('BASINFO FÖRSÄKRING'!A105=0,'BASINFO VAORG'!A105,'BASINFO FÖRSÄKRING'!A105)","v":0},{"$f":"IF('BASINFO FÖRSÄKRING'!B105=0,'BASINFO VAORG'!B105,'BASINFO FÖRSÄKRING'!B105)","v":0},{"$f":"IF('BASINFO FÖRSÄKRING'!D105=0,'BASINFO VAORG'!C105,'BASINFO FÖRSÄKRING'!D105)","v":0},{"$f":"IF('BASINFO FÖRSÄKRING'!E105=0,'BASINFO VAORG'!D105,'BASINFO FÖRSÄKRING'!E105)","v":0},{"$f":"IF('BASINFO FÖRSÄKRING'!F105=0,'BASINFO VAORG'!E105,'BASINFO FÖRSÄKRING'!F105)","v":0},{"$f":"'SKADEINFO FÖRSÄKRING'!D105","v":0},{"$f":"'SKADEINFO FÖRSÄKRING'!C105","v":"00:00:00"},{"$f":"'SKADEINFO FÖRSÄKRING'!E105","v":"00:00:00"},{"$f":"'SKADEINFO FÖRSÄKRING'!F105","v":0},{"$f":"'SKADEINFO FÖRSÄKRING'!G105","v":0},{"$f":"'SKADEINFO FÖRSÄKRING'!H105","v":0},{"$f":"'SKADEINFO FÖRSÄKRING'!I105","v":0},{"$f":"'SKADEINFO FÖRSÄKRING'!J105","v":0},{"$f":"'SKADEINFO FÖRSÄKRING'!K105","v":0},{"$f":"'SKADEINFO FÖRSÄKRING'!L105","v":0},{"$f":"'SKADEINFO FÖRSÄKRING'!M105","v":0},{"$f":"'SKADEINFO FÖRSÄKRING'!N105","v":0},{"$f":"'SKADEINFO FÖRSÄKRING'!O105","v":0},{"$f":"'SKADEINFO VAORG'!C105","v":"Fyll i…"},{"$f":"'SKADEINFO VAORG'!D105","v":"Välj…"},{"$f":"'SKADEINFO VAORG'!E105","v":"Välj…"},{"$f":"'SKADEINFO VAORG'!F105","v":"Välj…"},{"$f":"'SKADEINFO VAORG'!G105","v":"Välj…"},{"$f":"'SKADEINFO VAORG'!H105","v":"Välj…"},{"$f":"'SKADEINFO VAORG'!I105","v":"Välj…"},{"$f":"'SKADEINFO VAORG'!J105","v":"Välj…"},{"$f":"'SKADEINFO VAORG'!K105","v":"Välj…"},{"$f":"'SKADEINFO VAORG'!L105","v":"Välj…"},{"$f":"'SKADEINFO VAORG'!M105","v":"Välj…"},{"$f":"'SKADEINFO VAORG'!N105","v":"Skriv…"},{"$f":"'SKADEINFO VAORG'!O105","v":"Skriv…"},{"$f":"'SKADEINFO VAORG'!P105","v":"Välj…"},{"$f":"'SKADEINFO VAORG'!Q105","v":"Välj…"},{"$f":"'SKADEINFO VAORG'!R105","v":"Skriv…"},{"$f":"'SKADEINFO VAORG'!S105","v":"Skriv…"}]
[{"$f":"'BASINFO FÖRSÄKRING'!I106","v":0},{"$f":"'BASINFO FÖRSÄKRING'!G106","v":0},{"$f":"'BASINFO FÖRSÄKRING'!J106","v":0},{"$f":"'BASINFO FÖRSÄKRING'!K106","v":0},{"$f":"'BASINFO FÖRSÄKRING'!L106","v":0},{"$f":"'BASINFO VAORG'!I106","v":0},{"$f":"'BASINFO VAORG'!G106","v":"Skriv…"},{"$f":"'BASINFO VAORG'!J106","v":"Skriv…"},{"$f":"'BASINFO VAORG'!K106","v":"Skriv…"},{"$f":"'BASINFO VAORG'!L106","v":"Skriv…"},{"$f":"IF('BASINFO FÖRSÄKRING'!A106=0,'BASINFO VAORG'!A106,'BASINFO FÖRSÄKRING'!A106)","v":0},{"$f":"IF('BASINFO FÖRSÄKRING'!B106=0,'BASINFO VAORG'!B106,'BASINFO FÖRSÄKRING'!B106)","v":0},{"$f":"IF('BASINFO FÖRSÄKRING'!D106=0,'BASINFO VAORG'!C106,'BASINFO FÖRSÄKRING'!D106)","v":0},{"$f":"IF('BASINFO FÖRSÄKRING'!E106=0,'BASINFO VAORG'!D106,'BASINFO FÖRSÄKRING'!E106)","v":0},{"$f":"IF('BASINFO FÖRSÄKRING'!F106=0,'BASINFO VAORG'!E106,'BASINFO FÖRSÄKRING'!F106)","v":0},{"$f":"'SKADEINFO FÖRSÄKRING'!D106","v":0},{"$f":"'SKADEINFO FÖRSÄKRING'!C106","v":"00:00:00"},{"$f":"'SKADEINFO FÖRSÄKRING'!E106","v":"00:00:00"},{"$f":"'SKADEINFO FÖRSÄKRING'!F106","v":0},{"$f":"'SKADEINFO FÖRSÄKRING'!G106","v":0},{"$f":"'SKADEINFO FÖRSÄKRING'!H106","v":0},{"$f":"'SKADEINFO FÖRSÄKRING'!I106","v":0},{"$f":"'SKADEINFO FÖRSÄKRING'!J106","v":0},{"$f":"'SKADEINFO FÖRSÄKRING'!K106","v":0},{"$f":"'SKADEINFO FÖRSÄKRING'!L106","v":0},{"$f":"'SKADEINFO FÖRSÄKRING'!M106","v":0},{"$f":"'SKADEINFO FÖRSÄKRING'!N106","v":0},{"$f":"'SKADEINFO FÖRSÄKRING'!O106","v":0},{"$f":"'SKADEINFO VAORG'!C106","v":"Fyll i…"},{"$f":"'SKADEINFO VAORG'!D106","v":"Välj…"},{"$f":"'SKADEINFO VAORG'!E106","v":"Välj…"},{"$f":"'SKADEINFO VAORG'!F106","v":"Välj…"},{"$f":"'SKADEINFO VAORG'!G106","v":"Välj…"},{"$f":"'SKADEINFO VAORG'!H106","v":"Välj…"},{"$f":"'SKADEINFO VAORG'!I106","v":"Välj…"},{"$f":"'SKADEINFO VAORG'!J106","v":"Välj…"},{"$f":"'SKADEINFO VAORG'!K106","v":"Välj…"},{"$f":"'SKADEINFO VAORG'!L106","v":"Välj…"},{"$f":"'SKADEINFO VAORG'!M106","v":"Välj…"},{"$f":"'SKADEINFO VAORG'!N106","v":"Skriv…"},{"$f":"'SKADEINFO VAORG'!O106","v":"Skriv…"},{"$f":"'SKADEINFO VAORG'!P106","v":"Välj…"},{"$f":"'SKADEINFO VAORG'!Q106","v":"Välj…"},{"$f":"'SKADEINFO VAORG'!R106","v":"Skriv…"},{"$f":"'SKADEINFO VAORG'!S106","v":"Skriv…"}]
[{"$f":"'BASINFO FÖRSÄKRING'!I107","v":0},{"$f":"'BASINFO FÖRSÄKRING'!G107","v":0},{"$f":"'BASINFO FÖRSÄKRING'!J107","v":0},{"$f":"'BASINFO FÖRSÄKRING'!K107","v":0},{"$f":"'BASINFO FÖRSÄKRING'!L107","v":0},{"$f":"'BASINFO VAORG'!I107","v":0},{"$f":"'BASINFO VAORG'!G107","v":"Skriv…"},{"$f":"'BASINFO VAORG'!J107","v":"Skriv…"},{"$f":"'BASINFO VAORG'!K107","v":"Skriv…"},{"$f":"'BASINFO VAORG'!L107","v":"Skriv…"},{"$f":"IF('BASINFO FÖRSÄKRING'!A107=0,'BASINFO VAORG'!A107,'BASINFO FÖRSÄKRING'!A107)","v":0},{"$f":"IF('BASINFO FÖRSÄKRING'!B107=0,'BASINFO VAORG'!B107,'BASINFO FÖRSÄKRING'!B107)","v":0},{"$f":"IF('BASINFO FÖRSÄKRING'!D107=0,'BASINFO VAORG'!C107,'BASINFO FÖRSÄKRING'!D107)","v":0},{"$f":"IF('BASINFO FÖRSÄKRING'!E107=0,'BASINFO VAORG'!D107,'BASINFO FÖRSÄKRING'!E107)","v":0},{"$f":"IF('BASINFO FÖRSÄKRING'!F107=0,'BASINFO VAORG'!E107,'BASINFO FÖRSÄKRING'!F107)","v":0},{"$f":"'SKADEINFO FÖRSÄKRING'!D107","v":0},{"$f":"'SKADEINFO FÖRSÄKRING'!C107","v":"00:00:00"},{"$f":"'SKADEINFO FÖRSÄKRING'!E107","v":"00:00:00"},{"$f":"'SKADEINFO FÖRSÄKRING'!F107","v":0},{"$f":"'SKADEINFO FÖRSÄKRING'!G107","v":0},{"$f":"'SKADEINFO FÖRSÄKRING'!H107","v":0},{"$f":"'SKADEINFO FÖRSÄKRING'!I107","v":0},{"$f":"'SKADEINFO FÖRSÄKRING'!J107","v":0},{"$f":"'SKADEINFO FÖRSÄKRING'!K107","v":0},{"$f":"'SKADEINFO FÖRSÄKRING'!L107","v":0},{"$f":"'SKADEINFO FÖRSÄKRING'!M107","v":0},{"$f":"'SKADEINFO FÖRSÄKRING'!N107","v":0},{"$f":"'SKADEINFO FÖRSÄKRING'!O107","v":0},{"$f":"'SKADEINFO VAORG'!C107","v":"Fyll i…"},{"$f":"'SKADEINFO VAORG'!D107","v":"Välj…"},{"$f":"'SKADEINFO VAORG'!E107","v":"Välj…"},{"$f":"'SKADEINFO VAORG'!F107","v":"Välj…"},{"$f":"'SKADEINFO VAORG'!G107","v":"Välj…"},{"$f":"'SKADEINFO VAORG'!H107","v":"Välj…"},{"$f":"'SKADEINFO VAORG'!I107","v":"Välj…"},{"$f":"'SKADEINFO VAORG'!J107","v":"Välj…"},{"$f":"'SKADEINFO VAORG'!K107","v":"Välj…"},{"$f":"'SKADEINFO VAORG'!L107","v":"Välj…"},{"$f":"'SKADEINFO VAORG'!M107","v":"Välj…"},{"$f":"'SKADEINFO VAORG'!N107","v":"Skriv…"},{"$f":"'SKADEINFO VAORG'!O107","v":"Skriv…"},{"$f":"'SKADEINFO VAORG'!P107","v":"Välj…"},{"$f":"'SKADEINFO VAORG'!Q107","v":"Välj…"},{"$f":"'SKADEINFO VAORG'!R107","v":"Skriv…"},{"$f":"'SKADEINFO VAORG'!S107","v":"Skriv…"}]
[{"$f":"'BASINFO FÖRSÄKRING'!I108","v":0},{"$f":"'BASINFO FÖRSÄKRING'!G108","v":0},{"$f":"'BASINFO FÖRSÄKRING'!J108","v":0},{"$f":"'BASINFO FÖRSÄKRING'!K108","v":0},{"$f":"'BASINFO FÖRSÄKRING'!L108","v":0},{"$f":"'BASINFO VAORG'!I108","v":0},{"$f":"'BASINFO VAORG'!G108","v":"Skriv…"},{"$f":"'BASINFO VAORG'!J108","v":"Skriv…"},{"$f":"'BASINFO VAORG'!K108","v":"Skriv…"},{"$f":"'BASINFO VAORG'!L108","v":"Skriv…"},{"$f":"IF('BASINFO FÖRSÄKRING'!A108=0,'BASINFO VAORG'!A108,'BASINFO FÖRSÄKRING'!A108)","v":0},{"$f":"IF('BASINFO FÖRSÄKRING'!B108=0,'BASINFO VAORG'!B108,'BASINFO FÖRSÄKRING'!B108)","v":0},{"$f":"IF('BASINFO FÖRSÄKRING'!D108=0,'BASINFO VAORG'!C108,'BASINFO FÖRSÄKRING'!D108)","v":0},{"$f":"IF('BASINFO FÖRSÄKRING'!E108=0,'BASINFO VAORG'!D108,'BASINFO FÖRSÄKRING'!E108)","v":0},{"$f":"IF('BASINFO FÖRSÄKRING'!F108=0,'BASINFO VAORG'!E108,'BASINFO FÖRSÄKRING'!F108)","v":0},{"$f":"'SKADEINFO FÖRSÄKRING'!D108","v":0},{"$f":"'SKADEINFO FÖRSÄKRING'!C108","v":"00:00:00"},{"$f":"'SKADEINFO FÖRSÄKRING'!E108","v":"00:00:00"},{"$f":"'SKADEINFO FÖRSÄKRING'!F108","v":0},{"$f":"'SKADEINFO FÖRSÄKRING'!G108","v":0},{"$f":"'SKADEINFO FÖRSÄKRING'!H108","v":0},{"$f":"'SKADEINFO FÖRSÄKRING'!I108","v":0},{"$f":"'SKADEINFO FÖRSÄKRING'!J108","v":0},{"$f":"'SKADEINFO FÖRSÄKRING'!K108","v":0},{"$f":"'SKADEINFO FÖRSÄKRING'!L108","v":0},{"$f":"'SKADEINFO FÖRSÄKRING'!M108","v":0},{"$f":"'SKADEINFO FÖRSÄKRING'!N108","v":0},{"$f":"'SKADEINFO FÖRSÄKRING'!O108","v":0},{"$f":"'SKADEINFO VAORG'!C108","v":"Fyll i…"},{"$f":"'SKADEINFO VAORG'!D108","v":"Välj…"},{"$f":"'SKADEINFO VAORG'!E108","v":"Välj…"},{"$f":"'SKADEINFO VAORG'!F108","v":"Välj…"},{"$f":"'SKADEINFO VAORG'!G108","v":"Välj…"},{"$f":"'SKADEINFO VAORG'!H108","v":"Välj…"},{"$f":"'SKADEINFO VAORG'!I108","v":"Välj…"},{"$f":"'SKADEINFO VAORG'!J108","v":"Välj…"},{"$f":"'SKADEINFO VAORG'!K108","v":"Välj…"},{"$f":"'SKADEINFO VAORG'!L108","v":"Välj…"},{"$f":"'SKADEINFO VAORG'!M108","v":"Välj…"},{"$f":"'SKADEINFO VAORG'!N108","v":"Skriv…"},{"$f":"'SKADEINFO VAORG'!O108","v":"Skriv…"},{"$f":"'SKADEINFO VAORG'!P108","v":"Välj…"},{"$f":"'SKADEINFO VAORG'!Q108","v":"Välj…"},{"$f":"'SKADEINFO VAORG'!R108","v":"Skriv…"},{"$f":"'SKADEINFO VAORG'!S108","v":"Skriv…"}]
[{"$f":"'BASINFO FÖRSÄKRING'!I109","v":0},{"$f":"'BASINFO FÖRSÄKRING'!G109","v":0},{"$f":"'BASINFO FÖRSÄKRING'!J109","v":0},{"$f":"'BASINFO FÖRSÄKRING'!K109","v":0},{"$f":"'BASINFO FÖRSÄKRING'!L109","v":0},{"$f":"'BASINFO VAORG'!I109","v":0},{"$f":"'BASINFO VAORG'!G109","v":"Skriv…"},{"$f":"'BASINFO VAORG'!J109","v":"Skriv…"},{"$f":"'BASINFO VAORG'!K109","v":"Skriv…"},{"$f":"'BASINFO VAORG'!L109","v":"Skriv…"},{"$f":"IF('BASINFO FÖRSÄKRING'!A109=0,'BASINFO VAORG'!A109,'BASINFO FÖRSÄKRING'!A109)","v":0},{"$f":"IF('BASINFO FÖRSÄKRING'!B109=0,'BASINFO VAORG'!B109,'BASINFO FÖRSÄKRING'!B109)","v":0},{"$f":"IF('BASINFO FÖRSÄKRING'!D109=0,'BASINFO VAORG'!C109,'BASINFO FÖRSÄKRING'!D109)","v":0},{"$f":"IF('BASINFO FÖRSÄKRING'!E109=0,'BASINFO VAORG'!D109,'BASINFO FÖRSÄKRING'!E109)","v":0},{"$f":"IF('BASINFO FÖRSÄKRING'!F109=0,'BASINFO VAORG'!E109,'BASINFO FÖRSÄKRING'!F109)","v":0},{"$f":"'SKADEINFO FÖRSÄKRING'!D109","v":0},{"$f":"'SKADEINFO FÖRSÄKRING'!C109","v":"00:00:00"},{"$f":"'SKADEINFO FÖRSÄKRING'!E109","v":"00:00:00"},{"$f":"'SKADEINFO FÖRSÄKRING'!F109","v":0},{"$f":"'SKADEINFO FÖRSÄKRING'!G109","v":0},{"$f":"'SKADEINFO FÖRSÄKRING'!H109","v":0},{"$f":"'SKADEINFO FÖRSÄKRING'!I109","v":0},{"$f":"'SKADEINFO FÖRSÄKRING'!J109","v":0},{"$f":"'SKADEINFO FÖRSÄKRING'!K109","v":0},{"$f":"'SKADEINFO FÖRSÄKRING'!L109","v":0},{"$f":"'SKADEINFO FÖRSÄKRING'!M109","v":0},{"$f":"'SKADEINFO FÖRSÄKRING'!N109","v":0},{"$f":"'SKADEINFO FÖRSÄKRING'!O109","v":0},{"$f":"'SKADEINFO VAORG'!C109","v":"Fyll i…"},{"$f":"'SKADEINFO VAORG'!D109","v":"Välj…"},{"$f":"'SKADEINFO VAORG'!E109","v":"Välj…"},{"$f":"'SKADEINFO VAORG'!F109","v":"Välj…"},{"$f":"'SKADEINFO VAORG'!G109","v":"Välj…"},{"$f":"'SKADEINFO VAORG'!H109","v":"Välj…"},{"$f":"'SKADEINFO VAORG'!I109","v":"Välj…"},{"$f":"'SKADEINFO VAORG'!J109","v":"Välj…"},{"$f":"'SKADEINFO VAORG'!K109","v":"Välj…"},{"$f":"'SKADEINFO VAORG'!L109","v":"Välj…"},{"$f":"'SKADEINFO VAORG'!M109","v":"Välj…"},{"$f":"'SKADEINFO VAORG'!N109","v":"Skriv…"},{"$f":"'SKADEINFO VAORG'!O109","v":"Skriv…"},{"$f":"'SKADEINFO VAORG'!P109","v":"Välj…"},{"$f":"'SKADEINFO VAORG'!Q109","v":"Välj…"},{"$f":"'SKADEINFO VAORG'!R109","v":"Skriv…"},{"$f":"'SKADEINFO VAORG'!S109","v":"Skriv…"}]
[{"$f":"'BASINFO FÖRSÄKRING'!I110","v":0},{"$f":"'BASINFO FÖRSÄKRING'!G110","v":0},{"$f":"'BASINFO FÖRSÄKRING'!J110","v":0},{"$f":"'BASINFO FÖRSÄKRING'!K110","v":0},{"$f":"'BASINFO FÖRSÄKRING'!L110","v":0},{"$f":"'BASINFO VAORG'!I110","v":0},{"$f":"'BASINFO VAORG'!G110","v":"Skriv…"},{"$f":"'BASINFO VAORG'!J110","v":"Skriv…"},{"$f":"'BASINFO VAORG'!K110","v":"Skriv…"},{"$f":"'BASINFO VAORG'!L110","v":"Skriv…"},{"$f":"IF('BASINFO FÖRSÄKRING'!A110=0,'BASINFO VAORG'!A110,'BASINFO FÖRSÄKRING'!A110)","v":0},{"$f":"IF('BASINFO FÖRSÄKRING'!B110=0,'BASINFO VAORG'!B110,'BASINFO FÖRSÄKRING'!B110)","v":0},{"$f":"IF('BASINFO FÖRSÄKRING'!D110=0,'BASINFO VAORG'!C110,'BASINFO FÖRSÄKRING'!D110)","v":0},{"$f":"IF('BASINFO FÖRSÄKRING'!E110=0,'BASINFO VAORG'!D110,'BASINFO FÖRSÄKRING'!E110)","v":0},{"$f":"IF('BASINFO FÖRSÄKRING'!F110=0,'BASINFO VAORG'!E110,'BASINFO FÖRSÄKRING'!F110)","v":0},{"$f":"'SKADEINFO FÖRSÄKRING'!D110","v":0},{"$f":"'SKADEINFO FÖRSÄKRING'!C110","v":"00:00:00"},{"$f":"'SKADEINFO FÖRSÄKRING'!E110","v":"00:00:00"},{"$f":"'SKADEINFO FÖRSÄKRING'!F110","v":0},{"$f":"'SKADEINFO FÖRSÄKRING'!G110","v":0},{"$f":"'SKADEINFO FÖRSÄKRING'!H110","v":0},{"$f":"'SKADEINFO FÖRSÄKRING'!I110","v":0},{"$f":"'SKADEINFO FÖRSÄKRING'!J110","v":0},{"$f":"'SKADEINFO FÖRSÄKRING'!K110","v":0},{"$f":"'SKADEINFO FÖRSÄKRING'!L110","v":0},{"$f":"'SKADEINFO FÖRSÄKRING'!M110","v":0},{"$f":"'SKADEINFO FÖRSÄKRING'!N110","v":0},{"$f":"'SKADEINFO FÖRSÄKRING'!O110","v":0},{"$f":"'SKADEINFO VAORG'!C110","v":"Fyll i…"},{"$f":"'SKADEINFO VAORG'!D110","v":"Välj…"},{"$f":"'SKADEINFO VAORG'!E110","v":"Välj…"},{"$f":"'SKADEINFO VAORG'!F110","v":"Välj…"},{"$f":"'SKADEINFO VAORG'!G110","v":"Välj…"},{"$f":"'SKADEINFO VAORG'!H110","v":"Välj…"},{"$f":"'SKADEINFO VAORG'!I110","v":"Välj…"},{"$f":"'SKADEINFO VAORG'!J110","v":"Välj…"},{"$f":"'SKADEINFO VAORG'!K110","v":"Välj…"},{"$f":"'SKADEINFO VAORG'!L110","v":"Välj…"},{"$f":"'SKADEINFO VAORG'!M110","v":"Välj…"},{"$f":"'SKADEINFO VAORG'!N110","v":"Skriv…"},{"$f":"'SKADEINFO VAORG'!O110","v":"Skriv…"},{"$f":"'SKADEINFO VAORG'!P110","v":"Välj…"},{"$f":"'SKADEINFO VAORG'!Q110","v":"Välj…"},{"$f":"'SKADEINFO VAORG'!R110","v":"Skriv…"},{"$f":"'SKADEINFO VAORG'!S110","v":"Skriv…"}]
[{"$f":"'BASINFO FÖRSÄKRING'!I111","v":0},{"$f":"'BASINFO FÖRSÄKRING'!G111","v":0},{"$f":"'BASINFO FÖRSÄKRING'!J111","v":0},{"$f":"'BASINFO FÖRSÄKRING'!K111","v":0},{"$f":"'BASINFO FÖRSÄKRING'!L111","v":0},{"$f":"'BASINFO VAORG'!I111","v":0},{"$f":"'BASINFO VAORG'!G111","v":"Skriv…"},{"$f":"'BASINFO VAORG'!J111","v":"Skriv…"},{"$f":"'BASINFO VAORG'!K111","v":"Skriv…"},{"$f":"'BASINFO VAORG'!L111","v":"Skriv…"},{"$f":"IF('BASINFO FÖRSÄKRING'!A111=0,'BASINFO VAORG'!A111,'BASINFO FÖRSÄKRING'!A111)","v":0},{"$f":"IF('BASINFO FÖRSÄKRING'!B111=0,'BASINFO VAORG'!B111,'BASINFO FÖRSÄKRING'!B111)","v":0},{"$f":"IF('BASINFO FÖRSÄKRING'!D111=0,'BASINFO VAORG'!C111,'BASINFO FÖRSÄKRING'!D111)","v":0},{"$f":"IF('BASINFO FÖRSÄKRING'!E111=0,'BASINFO VAORG'!D111,'BASINFO FÖRSÄKRING'!E111)","v":0},{"$f":"IF('BASINFO FÖRSÄKRING'!F111=0,'BASINFO VAORG'!E111,'BASINFO FÖRSÄKRING'!F111)","v":0},{"$f":"'SKADEINFO FÖRSÄKRING'!D111","v":0},{"$f":"'SKADEINFO FÖRSÄKRING'!C111","v":"00:00:00"},{"$f":"'SKADEINFO FÖRSÄKRING'!E111","v":"00:00:00"},{"$f":"'SKADEINFO FÖRSÄKRING'!F111","v":0},{"$f":"'SKADEINFO FÖRSÄKRING'!G111","v":0},{"$f":"'SKADEINFO FÖRSÄKRING'!H111","v":0},{"$f":"'SKADEINFO FÖRSÄKRING'!I111","v":0},{"$f":"'SKADEINFO FÖRSÄKRING'!J111","v":0},{"$f":"'SKADEINFO FÖRSÄKRING'!K111","v":0},{"$f":"'SKADEINFO FÖRSÄKRING'!L111","v":0},{"$f":"'SKADEINFO FÖRSÄKRING'!M111","v":0},{"$f":"'SKADEINFO FÖRSÄKRING'!N111","v":0},{"$f":"'SKADEINFO FÖRSÄKRING'!O111","v":0},{"$f":"'SKADEINFO VAORG'!C111","v":"Fyll i…"},{"$f":"'SKADEINFO VAORG'!D111","v":"Välj…"},{"$f":"'SKADEINFO VAORG'!E111","v":"Välj…"},{"$f":"'SKADEINFO VAORG'!F111","v":"Välj…"},{"$f":"'SKADEINFO VAORG'!G111","v":"Välj…"},{"$f":"'SKADEINFO VAORG'!H111","v":"Välj…"},{"$f":"'SKADEINFO VAORG'!I111","v":"Välj…"},{"$f":"'SKADEINFO VAORG'!J111","v":"Välj…"},{"$f":"'SKADEINFO VAORG'!K111","v":"Välj…"},{"$f":"'SKADEINFO VAORG'!L111","v":"Välj…"},{"$f":"'SKADEINFO VAORG'!M111","v":"Välj…"},{"$f":"'SKADEINFO VAORG'!N111","v":"Skriv…"},{"$f":"'SKADEINFO VAORG'!O111","v":"Skriv…"},{"$f":"'SKADEINFO VAORG'!P111","v":"Välj…"},{"$f":"'SKADEINFO VAORG'!Q111","v":"Välj…"},{"$f":"'SKADEINFO VAORG'!R111","v":"Skriv…"},{"$f":"'SKADEINFO VAORG'!S111","v":"Skriv…"}]
[{"$f":"'BASINFO FÖRSÄKRING'!I112","v":0},{"$f":"'BASINFO FÖRSÄKRING'!G112","v":0},{"$f":"'BASINFO FÖRSÄKRING'!J112","v":0},{"$f":"'BASINFO FÖRSÄKRING'!K112","v":0},{"$f":"'BASINFO FÖRSÄKRING'!L112","v":0},{"$f":"'BASINFO VAORG'!I112","v":0},{"$f":"'BASINFO VAORG'!G112","v":"Skriv…"},{"$f":"'BASINFO VAORG'!J112","v":"Skriv…"},{"$f":"'BASINFO VAORG'!K112","v":"Skriv…"},{"$f":"'BASINFO VAORG'!L112","v":"Skriv…"},{"$f":"IF('BASINFO FÖRSÄKRING'!A112=0,'BASINFO VAORG'!A112,'BASINFO FÖRSÄKRING'!A112)","v":0},{"$f":"IF('BASINFO FÖRSÄKRING'!B112=0,'BASINFO VAORG'!B112,'BASINFO FÖRSÄKRING'!B112)","v":0},{"$f":"IF('BASINFO FÖRSÄKRING'!D112=0,'BASINFO VAORG'!C112,'BASINFO FÖRSÄKRING'!D112)","v":0},{"$f":"IF('BASINFO FÖRSÄKRING'!E112=0,'BASINFO VAORG'!D112,'BASINFO FÖRSÄKRING'!E112)","v":0},{"$f":"IF('BASINFO FÖRSÄKRING'!F112=0,'BASINFO VAORG'!E112,'BASINFO FÖRSÄKRING'!F112)","v":0},{"$f":"'SKADEINFO FÖRSÄKRING'!D112","v":0},{"$f":"'SKADEINFO FÖRSÄKRING'!C112","v":"00:00:00"},{"$f":"'SKADEINFO FÖRSÄKRING'!E112","v":"00:00:00"},{"$f":"'SKADEINFO FÖRSÄKRING'!F112","v":0},{"$f":"'SKADEINFO FÖRSÄKRING'!G112","v":0},{"$f":"'SKADEINFO FÖRSÄKRING'!H112","v":0},{"$f":"'SKADEINFO FÖRSÄKRING'!I112","v":0},{"$f":"'SKADEINFO FÖRSÄKRING'!J112","v":0},{"$f":"'SKADEINFO FÖRSÄKRING'!K112","v":0},{"$f":"'SKADEINFO FÖRSÄKRING'!L112","v":0},{"$f":"'SKADEINFO FÖRSÄKRING'!M112","v":0},{"$f":"'SKADEINFO FÖRSÄKRING'!N112","v":0},{"$f":"'SKADEINFO FÖRSÄKRING'!O112","v":0},{"$f":"'SKADEINFO VAORG'!C112","v":"Fyll i…"},{"$f":"'SKADEINFO VAORG'!D112","v":"Välj…"},{"$f":"'SKADEINFO VAORG'!E112","v":"Välj…"},{"$f":"'SKADEINFO VAORG'!F112","v":"Välj…"},{"$f":"'SKADEINFO VAORG'!G112","v":"Välj…"},{"$f":"'SKADEINFO VAORG'!H112","v":"Välj…"},{"$f":"'SKADEINFO VAORG'!I112","v":"Välj…"},{"$f":"'SKADEINFO VAORG'!J112","v":"Välj…"},{"$f":"'SKADEINFO VAORG'!K112","v":"Välj…"},{"$f":"'SKADEINFO VAORG'!L112","v":"Välj…"},{"$f":"'SKADEINFO VAORG'!M112","v":"Välj…"},{"$f":"'SKADEINFO VAORG'!N112","v":"Skriv…"},{"$f":"'SKADEINFO VAORG'!O112","v":"Skriv…"},{"$f":"'SKADEINFO VAORG'!P112","v":"Välj…"},{"$f":"'SKADEINFO VAORG'!Q112","v":"Välj…"},{"$f":"'SKADEINFO VAORG'!R112","v":"Skriv…"},{"$f":"'SKADEINFO VAORG'!S112","v":"Skriv…"}]
[{"$f":"'BASINFO FÖRSÄKRING'!I113","v":0},{"$f":"'BASINFO FÖRSÄKRING'!G113","v":0},{"$f":"'BASINFO FÖRSÄKRING'!J113","v":0},{"$f":"'BASINFO FÖRSÄKRING'!K113","v":0},{"$f":"'BASINFO FÖRSÄKRING'!L113","v":0},{"$f":"'BASINFO VAORG'!I113","v":0},{"$f":"'BASINFO VAORG'!G113","v":"Skriv…"},{"$f":"'BASINFO VAORG'!J113","v":"Skriv…"},{"$f":"'BASINFO VAORG'!K113","v":"Skriv…"},{"$f":"'BASINFO VAORG'!L113","v":"Skriv…"},{"$f":"IF('BASINFO FÖRSÄKRING'!A113=0,'BASINFO VAORG'!A113,'BASINFO FÖRSÄKRING'!A113)","v":0},{"$f":"IF('BASINFO FÖRSÄKRING'!B113=0,'BASINFO VAORG'!B113,'BASINFO FÖRSÄKRING'!B113)","v":0},{"$f":"IF('BASINFO FÖRSÄKRING'!D113=0,'BASINFO VAORG'!C113,'BASINFO FÖRSÄKRING'!D113)","v":0},{"$f":"IF('BASINFO FÖRSÄKRING'!E113=0,'BASINFO VAORG'!D113,'BASINFO FÖRSÄKRING'!E113)","v":0},{"$f":"IF('BASINFO FÖRSÄKRING'!F113=0,'BASINFO VAORG'!E113,'BASINFO FÖRSÄKRING'!F113)","v":0},{"$f":"'SKADEINFO FÖRSÄKRING'!D113","v":0},{"$f":"'SKADEINFO FÖRSÄKRING'!C113","v":"00:00:00"},{"$f":"'SKADEINFO FÖRSÄKRING'!E113","v":"00:00:00"},{"$f":"'SKADEINFO FÖRSÄKRING'!F113","v":0},{"$f":"'SKADEINFO FÖRSÄKRING'!G113","v":0},{"$f":"'SKADEINFO FÖRSÄKRING'!H113","v":0},{"$f":"'SKADEINFO FÖRSÄKRING'!I113","v":0},{"$f":"'SKADEINFO FÖRSÄKRING'!J113","v":0},{"$f":"'SKADEINFO FÖRSÄKRING'!K113","v":0},{"$f":"'SKADEINFO FÖRSÄKRING'!L113","v":0},{"$f":"'SKADEINFO FÖRSÄKRING'!M113","v":0},{"$f":"'SKADEINFO FÖRSÄKRING'!N113","v":0},{"$f":"'SKADEINFO FÖRSÄKRING'!O113","v":0},{"$f":"'SKADEINFO VAORG'!C113","v":"Fyll i…"},{"$f":"'SKADEINFO VAORG'!D113","v":"Välj…"},{"$f":"'SKADEINFO VAORG'!E113","v":"Välj…"},{"$f":"'SKADEINFO VAORG'!F113","v":"Välj…"},{"$f":"'SKADEINFO VAORG'!G113","v":"Välj…"},{"$f":"'SKADEINFO VAORG'!H113","v":"Välj…"},{"$f":"'SKADEINFO VAORG'!I113","v":"Välj…"},{"$f":"'SKADEINFO VAORG'!J113","v":"Välj…"},{"$f":"'SKADEINFO VAORG'!K113","v":"Välj…"},{"$f":"'SKADEINFO VAORG'!L113","v":"Välj…"},{"$f":"'SKADEINFO VAORG'!M113","v":"Välj…"},{"$f":"'SKADEINFO VAORG'!N113","v":"Skriv…"},{"$f":"'SKADEINFO VAORG'!O113","v":"Skriv…"},{"$f":"'SKADEINFO VAORG'!P113","v":"Välj…"},{"$f":"'SKADEINFO VAORG'!Q113","v":"Välj…"},{"$f":"'SKADEINFO VAORG'!R113","v":"Skriv…"},{"$f":"'SKADEINFO VAORG'!S113","v":"Skriv…"}]
[{"$f":"'BASINFO FÖRSÄKRING'!I114","v":0},{"$f":"'BASINFO FÖRSÄKRING'!G114","v":0},{"$f":"'BASINFO FÖRSÄKRING'!J114","v":0},{"$f":"'BASINFO FÖRSÄKRING'!K114","v":0},{"$f":"'BASINFO FÖRSÄKRING'!L114","v":0},{"$f":"'BASINFO VAORG'!I114","v":0},{"$f":"'BASINFO VAORG'!G114","v":"Skriv…"},{"$f":"'BASINFO VAORG'!J114","v":"Skriv…"},{"$f":"'BASINFO VAORG'!K114","v":"Skriv…"},{"$f":"'BASINFO VAORG'!L114","v":"Skriv…"},{"$f":"IF('BASINFO FÖRSÄKRING'!A114=0,'BASINFO VAORG'!A114,'BASINFO FÖRSÄKRING'!A114)","v":0},{"$f":"IF('BASINFO FÖRSÄKRING'!B114=0,'BASINFO VAORG'!B114,'BASINFO FÖRSÄKRING'!B114)","v":0},{"$f":"IF('BASINFO FÖRSÄKRING'!D114=0,'BASINFO VAORG'!C114,'BASINFO FÖRSÄKRING'!D114)","v":0},{"$f":"IF('BASINFO FÖRSÄKRING'!E114=0,'BASINFO VAORG'!D114,'BASINFO FÖRSÄKRING'!E114)","v":0},{"$f":"IF('BASINFO FÖRSÄKRING'!F114=0,'BASINFO VAORG'!E114,'BASINFO FÖRSÄKRING'!F114)","v":0},{"$f":"'SKADEINFO FÖRSÄKRING'!D114","v":0},{"$f":"'SKADEINFO FÖRSÄKRING'!C114","v":"00:00:00"},{"$f":"'SKADEINFO FÖRSÄKRING'!E114","v":"00:00:00"},{"$f":"'SKADEINFO FÖRSÄKRING'!F114","v":0},{"$f":"'SKADEINFO FÖRSÄKRING'!G114","v":0},{"$f":"'SKADEINFO FÖRSÄKRING'!H114","v":0},{"$f":"'SKADEINFO FÖRSÄKRING'!I114","v":0},{"$f":"'SKADEINFO FÖRSÄKRING'!J114","v":0},{"$f":"'SKADEINFO FÖRSÄKRING'!K114","v":0},{"$f":"'SKADEINFO FÖRSÄKRING'!L114","v":0},{"$f":"'SKADEINFO FÖRSÄKRING'!M114","v":0},{"$f":"'SKADEINFO FÖRSÄKRING'!N114","v":0},{"$f":"'SKADEINFO FÖRSÄKRING'!O114","v":0},{"$f":"'SKADEINFO VAORG'!C114","v":"Fyll i…"},{"$f":"'SKADEINFO VAORG'!D114","v":"Välj…"},{"$f":"'SKADEINFO VAORG'!E114","v":"Välj…"},{"$f":"'SKADEINFO VAORG'!F114","v":"Välj…"},{"$f":"'SKADEINFO VAORG'!G114","v":"Välj…"},{"$f":"'SKADEINFO VAORG'!H114","v":"Välj…"},{"$f":"'SKADEINFO VAORG'!I114","v":"Välj…"},{"$f":"'SKADEINFO VAORG'!J114","v":"Välj…"},{"$f":"'SKADEINFO VAORG'!K114","v":"Välj…"},{"$f":"'SKADEINFO VAORG'!L114","v":"Välj…"},{"$f":"'SKADEINFO VAORG'!M114","v":"Välj…"},{"$f":"'SKADEINFO VAORG'!N114","v":"Skriv…"},{"$f":"'SKADEINFO VAORG'!O114","v":"Skriv…"},{"$f":"'SKADEINFO VAORG'!P114","v":"Välj…"},{"$f":"'SKADEINFO VAORG'!Q114","v":"Välj…"},{"$f":"'SKADEINFO VAORG'!R114","v":"Skriv…"},{"$f":"'SKADEINFO VAORG'!S114","v":"Skriv…"}]
[]
[]
[]
[]
[]
[]
[]
[]
[]
[]
[]
[]
[]
[]
[]
[]
[]
[]
[]
[]
[]
[]
[]
[]
[]
[]
[]
[]
[]
[]
[]
[]
[]
[]
[]
[]
[]
[]
[]
[]
[]
[]
[]
[]
[]
[]
[]
[]
[]
[]
[]
[]
[]
[]
[]
[]
[]
[]
[]
[]
[]
[]
[]
[]
[]
[]
[]
[]
[]
[]
[]
[]
[]
[]
[]
[]
[]
[]
[]
[]
[]
[]
[]
[null,null,null,null,null,null,null,null,null,null,null,null,null,null,null,{"$f":"'SKADEINFO FÖRSÄKRING'!D109","v":0},null,{"$f":"'SKADEINFO FÖRSÄKRING'!E109","v":0},{"$f":"'SKADEINFO FÖRSÄKRING'!F109","v":0},{"$f":"'SKADEINFO FÖRSÄKRING'!G109","v":0},{"$f":"'SKADEINFO FÖRSÄKRING'!H109","v":0},{"$f":"'SKADEINFO FÖRSÄKRING'!I109","v":0},{"$f":"'SKADEINFO FÖRSÄKRING'!J109","v":0},{"$f":"'SKADEINFO FÖRSÄKRING'!K109","v":0},{"$f":"'SKADEINFO FÖRSÄKRING'!L109","v":0},{"$f":"'SKADEINFO FÖRSÄKRING'!M109","v":0},{"$f":"'SKADEINFO FÖRSÄKRING'!N109","v":0},{"$f":"'SKADEINFO FÖRSÄKRING'!O109","v":0}]
[null,null,null,null,null,null,null,null,null,null,null,null,null,null,null,{"$f":"'SKADEINFO FÖRSÄKRING'!D110","v":0},null,{"$f":"'SKADEINFO FÖRSÄKRING'!E110","v":0},{"$f":"'SKADEINFO FÖRSÄKRING'!F110","v":0},{"$f":"'SKADEINFO FÖRSÄKRING'!G110","v":0},{"$f":"'SKADEINFO FÖRSÄKRING'!H110","v":0},{"$f":"'SKADEINFO FÖRSÄKRING'!I110","v":0},{"$f":"'SKADEINFO FÖRSÄKRING'!J110","v":0},{"$f":"'SKADEINFO FÖRSÄKRING'!K110","v":0},{"$f":"'SKADEINFO FÖRSÄKRING'!L110","v":0},{"$f":"'SKADEINFO FÖRSÄKRING'!M110","v":0},{"$f":"'SKADEINFO FÖRSÄKRING'!N110","v":0},{"$f":"'SKADEINFO FÖRSÄKRING'!O110","v":0}]
[null,null,null,null,null,null,null,null,null,null,null,null,null,null,null,{"$f":"'SKADEINFO FÖRSÄKRING'!D111","v":0},null,{"$f":"'SKADEINFO FÖRSÄKRING'!E111","v":0},{"$f":"'SKADEINFO FÖRSÄKRING'!F111","v":0},{"$f":"'SKADEINFO FÖRSÄKRING'!G111","v":0},{"$f":"'SKADEINFO FÖRSÄKRING'!H111","v":0},{"$f":"'SKADEINFO FÖRSÄKRING'!I111","v":0},{"$f":"'SKADEINFO FÖRSÄKRING'!J111","v":0},{"$f":"'SKADEINFO FÖRSÄKRING'!K111","v":0},{"$f":"'SKADEINFO FÖRSÄKRING'!L111","v":0},{"$f":"'SKADEINFO FÖRSÄKRING'!M111","v":0},{"$f":"'SKADEINFO FÖRSÄKRING'!N111","v":0},{"$f":"'SKADEINFO FÖRSÄKRING'!O111","v":0}]
[null,null,null,null,null,null,null,null,null,null,null,null,null,null,null,{"$f":"'SKADEINFO FÖRSÄKRING'!D112","v":0},null,{"$f":"'SKADEINFO FÖRSÄKRING'!E112","v":0},{"$f":"'SKADEINFO FÖRSÄKRING'!F112","v":0},{"$f":"'SKADEINFO FÖRSÄKRING'!G112","v":0},{"$f":"'SKADEINFO FÖRSÄKRING'!H112","v":0},{"$f":"'SKADEINFO FÖRSÄKRING'!I112","v":0},{"$f":"'SKADEINFO FÖRSÄKRING'!J112","v":0},{"$f":"'SKADEINFO FÖRSÄKRING'!K112","v":0},{"$f":"'SKADEINFO FÖRSÄKRING'!L112","v":0},{"$f":"'SKADEINFO FÖRSÄKRING'!M112","v":0},{"$f":"'SKADEINFO FÖRSÄKRING'!N112","v":0},{"$f":"'SKADEINFO FÖRSÄKRING'!O112","v":0}]
[null,null,null,null,null,null,null,null,null,null,null,null,null,null,null,{"$f":"'SKADEINFO FÖRSÄKRING'!D113","v":0},null,{"$f":"'SKADEINFO FÖRSÄKRING'!E113","v":0},{"$f":"'SKADEINFO FÖRSÄKRING'!F113","v":0},{"$f":"'SKADEINFO FÖRSÄKRING'!G113","v":0},{"$f":"'SKADEINFO FÖRSÄKRING'!H113","v":0},{"$f":"'SKADEINFO FÖRSÄKRING'!I113","v":0},{"$f":"'SKADEINFO FÖRSÄKRING'!J113","v":0},{"$f":"'SKADEINFO FÖRSÄKRING'!K113","v":0},{"$f":"'SKADEINFO FÖRSÄKRING'!L113","v":0},{"$f":"'SKADEINFO FÖRSÄKRING'!M113","v":0},{"$f":"'SKADEINFO FÖRSÄKRING'!N113","v":0},{"$f":"'SKADEINFO FÖRSÄKRING'!O113","v":0}]
[null,null,null,null,null,null,null,null,null,null,null,null,null,null,null,{"$f":"'SKADEINFO FÖRSÄKRING'!D114","v":0},null,{"$f":"'SKADEINFO FÖRSÄKRING'!E114","v":0},{"$f":"'SKADEINFO FÖRSÄKRING'!F114","v":0},{"$f":"'SKADEINFO FÖRSÄKRING'!G114","v":0},{"$f":"'SKADEINFO FÖRSÄKRING'!H114","v":0},{"$f":"'SKADEINFO FÖRSÄKRING'!I114","v":0},{"$f":"'SKADEINFO FÖRSÄKRING'!J114","v":0},{"$f":"'SKADEINFO FÖRSÄKRING'!K114","v":0},{"$f":"'SKADEINFO FÖRSÄKRING'!L114","v":0},{"$f":"'SKADEINFO FÖRSÄKRING'!M114","v":0},{"$f":"'SKADEINFO FÖRSÄKRING'!N114","v":0},{"$f":"'SKADEINFO FÖRSÄKRING'!O114","v":0}]

{"sheet":"SNABBINFO","index":5,"n_rows":114,"n_cols":10,"rows_kept":114,"cut":false,"hidden":true,"merged":[]}
["SNABBINFO FÖRSÄKRINGSBOLAG"]
[]
["På denna flik kan specifika kolumner som är extra intressanta samlas, för att snabbt få en bild, eller kopiera över till annan excelfil / register"]
[]
[]
[]
[]
[]
[]
[]
[]
[]
["Skadenummer","Skadedag","Län","Kommun","Skadeställe adress","ev Fast.beteckning","Försäkringstagare","Hur kom vattnet in","Uppskattad skadekostnad","Hur kom vattnet till byggnaden"]
[{"$f":"'BASINFO FÖRSÄKRING'!G14","v":0},{"$f":"'SKADEINFO FÖRSÄKRING'!C14","v":"00:00:00"},{"$f":"IF('BASINFO FÖRSÄKRING'!A14=0,'BASINFO VAORG'!A14,'BASINFO FÖRSÄKRING'!A14)","v":0},{"$f":"IF('BASINFO FÖRSÄKRING'!B14=0,'BASINFO VAORG'!B14,'BASINFO FÖRSÄKRING'!B14)","v":0},{"$f":"IF('BASINFO FÖRSÄKRING'!D14=0,'BASINFO VAORG'!C14,'BASINFO FÖRSÄKRING'!D14)","v":0},{"$f":"IF('BASINFO FÖRSÄKRING'!E14=0,'BASINFO VAORG'!D14,'BASINFO FÖRSÄKRING'!E14)","v":0},{"$f":"IF('BASINFO FÖRSÄKRING'!F14=0,'BASINFO VAORG'!E14,'BASINFO FÖRSÄKRING'!F14)","v":0},{"$f":"'SKADEINFO FÖRSÄKRING'!H14","v":0},{"$f":"'SKADEINFO FÖRSÄKRING'!N14","v":0},{"$f":"'SKADEINFO VAORG'!G14","v":"Välj…"}]
[{"$f":"'BASINFO FÖRSÄKRING'!G15","v":0},{"$f":"'SKADEINFO FÖRSÄKRING'!C15","v":"00:00:00"},{"$f":"IF('BASINFO FÖRSÄKRING'!A15=0,'BASINFO VAORG'!A15,'BASINFO FÖRSÄKRING'!A15)","v":0},{"$f":"IF('BASINFO FÖRSÄKRING'!B15=0,'BASINFO VAORG'!F15,'BASINFO FÖRSÄKRING'!B15)","v":0},{"$f":"IF('BASINFO FÖRSÄKRING'!D15=0,'BASINFO VAORG'!C15,'BASINFO FÖRSÄKRING'!D15)","v":0},{"$f":"IF('BASINFO FÖRSÄKRING'!E15=0,'BASINFO VAORG'!D15,'BASINFO FÖRSÄKRING'!E15)","v":0},{"$f":"IF('BASINFO FÖRSÄKRING'!F15=0,'BASINFO VAORG'!E15,'BASINFO FÖRSÄKRING'!F15)","v":0},{"$f":"'SKADEINFO FÖRSÄKRING'!H15","v":0},{"$f":"'SKADEINFO FÖRSÄKRING'!N15","v":0},{"$f":"'SKADEINFO VAORG'!G15","v":"Välj…"}]
[{"$f":"'BASINFO FÖRSÄKRING'!G16","v":0},{"$f":"'SKADEINFO FÖRSÄKRING'!C16","v":"00:00:00"},{"$f":"IF('BASINFO FÖRSÄKRING'!A16=0,'BASINFO VAORG'!A16,'BASINFO FÖRSÄKRING'!A16)","v":0},{"$f":"IF('BASINFO FÖRSÄKRING'!B16=0,'BASINFO VAORG'!B16,'BASINFO FÖRSÄKRING'!B16)","v":0},{"$f":"IF('BASINFO FÖRSÄKRING'!D16=0,'BASINFO VAORG'!C16,'BASINFO FÖRSÄKRING'!D16)","v":0},{"$f":"IF('BASINFO FÖRSÄKRING'!E16=0,'BASINFO VAORG'!D16,'BASINFO FÖRSÄKRING'!E16)","v":0},{"$f":"IF('BASINFO FÖRSÄKRING'!F16=0,'BASINFO VAORG'!E16,'BASINFO FÖRSÄKRING'!F16)","v":0},{"$f":"'SKADEINFO FÖRSÄKRING'!H16","v":0},{"$f":"'SKADEINFO FÖRSÄKRING'!N16","v":0},{"$f":"'SKADEINFO VAORG'!G16","v":"Välj…"}]
[{"$f":"'BASINFO FÖRSÄKRING'!G17","v":0},{"$f":"'SKADEINFO FÖRSÄKRING'!C17","v":"00:00:00"},{"$f":"IF('BASINFO FÖRSÄKRING'!A17=0,'BASINFO VAORG'!A17,'BASINFO FÖRSÄKRING'!A17)","v":0},{"$f":"IF('BASINFO FÖRSÄKRING'!B17=0,'BASINFO VAORG'!B17,'BASINFO FÖRSÄKRING'!B17)","v":0},{"$f":"IF('BASINFO FÖRSÄKRING'!D17=0,'BASINFO VAORG'!C17,'BASINFO FÖRSÄKRING'!D17)","v":0},{"$f":"IF('BASINFO FÖRSÄKRING'!E17=0,'BASINFO VAORG'!D17,'BASINFO FÖRSÄKRING'!E17)","v":0},{"$f":"IF('BASINFO FÖRSÄKRING'!F17=0,'BASINFO VAORG'!E17,'BASINFO FÖRSÄKRING'!F17)","v":0},{"$f":"'SKADEINFO FÖRSÄKRING'!H17","v":0},{"$f":"'SKADEINFO FÖRSÄKRING'!N17","v":0},{"$f":"'SKADEINFO VAORG'!G17","v":"Välj…"}]
[{"$f":"'BASINFO FÖRSÄKRING'!G18","v":0},{"$f":"'SKADEINFO FÖRSÄKRING'!C18","v":"00:00:00"},{"$f":"IF('BASINFO FÖRSÄKRING'!A18=0,'BASINFO VAORG'!A18,'BASINFO FÖRSÄKRING'!A18)","v":0},{"$f":"IF('BASINFO FÖRSÄKRING'!B18=0,'BASINFO VAORG'!B18,'BASINFO FÖRSÄKRING'!B18)","v":0},{"$f":"IF('BASINFO FÖRSÄKRING'!D18=0,'BASINFO VAORG'!C18,'BASINFO FÖRSÄKRING'!D18)","v":0},{"$f":"IF('BASINFO FÖRSÄKRING'!E18=0,'BASINFO VAORG'!D18,'BASINFO FÖRSÄKRING'!E18)","v":0},{"$f":"IF('BASINFO FÖRSÄKRING'!F18=0,'BASINFO VAORG'!E18,'BASINFO FÖRSÄKRING'!F18)","v":0},{"$f":"'SKADEINFO FÖRSÄKRING'!H18","v":0},{"$f":"'SKADEINFO FÖRSÄKRING'!N18","v":0},{"$f":"'SKADEINFO VAORG'!G18","v":"Välj…"}]
[{"$f":"'BASINFO FÖRSÄKRING'!G19","v":0},{"$f":"'SKADEINFO FÖRSÄKRING'!C19","v":"00:00:00"},{"$f":"IF('BASINFO FÖRSÄKRING'!A19=0,'BASINFO VAORG'!A19,'BASINFO FÖRSÄKRING'!A19)","v":0},{"$f":"IF('BASINFO FÖRSÄKRING'!B19=0,'BASINFO VAORG'!B19,'BASINFO FÖRSÄKRING'!B19)","v":0},{"$f":"IF('BASINFO FÖRSÄKRING'!D19=0,'BASINFO VAORG'!C19,'BASINFO FÖRSÄKRING'!D19)","v":0},{"$f":"IF('BASINFO FÖRSÄKRING'!E19=0,'BASINFO VAORG'!D19,'BASINFO FÖRSÄKRING'!E19)","v":0},{"$f":"IF('BASINFO FÖRSÄKRING'!F19=0,'BASINFO VAORG'!E19,'BASINFO FÖRSÄKRING'!F19)","v":0},{"$f":"'SKADEINFO FÖRSÄKRING'!H19","v":0},{"$f":"'SKADEINFO FÖRSÄKRING'!N19","v":0},{"$f":"'SKADEINFO VAORG'!G19","v":"Välj…"}]
[{"$f":"'BASINFO FÖRSÄKRING'!G20","v":0},{"$f":"'SKADEINFO FÖRSÄKRING'!C20","v":"00:00:00"},{"$f":"IF('BASINFO FÖRSÄKRING'!A20=0,'BASINFO VAORG'!A20,'BASINFO FÖRSÄKRING'!A20)","v":0},{"$f":"IF('BASINFO FÖRSÄKRING'!B20=0,'BASINFO VAORG'!B20,'BASINFO FÖRSÄKRING'!B20)","v":0},{"$f":"IF('BASINFO FÖRSÄKRING'!D20=0,'BASINFO VAORG'!C20,'BASINFO FÖRSÄKRING'!D20)","v":0},{"$f":"IF('BASINFO FÖRSÄKRING'!E20=0,'BASINFO VAORG'!D20,'BASINFO FÖRSÄKRING'!E20)","v":0},{"$f":"IF('BASINFO FÖRSÄKRING'!F20=0,'BASINFO VAORG'!E20,'BASINFO FÖRSÄKRING'!F20)","v":0},{"$f":"'SKADEINFO FÖRSÄKRING'!H20","v":0},{"$f":"'SKADEINFO FÖRSÄKRING'!N20","v":0},{"$f":"'SKADEINFO VAORG'!G20","v":"Välj…"}]
[{"$f":"'BASINFO FÖRSÄKRING'!G21","v":0},{"$f":"'SKADEINFO FÖRSÄKRING'!C21","v":"00:00:00"},{"$f":"IF('BASINFO FÖRSÄKRING'!A21=0,'BASINFO VAORG'!A21,'BASINFO FÖRSÄKRING'!A21)","v":0},{"$f":"IF('BASINFO FÖRSÄKRING'!B21=0,'BASINFO VAORG'!B21,'BASINFO FÖRSÄKRING'!B21)","v":0},{"$f":"IF('BASINFO FÖRSÄKRING'!D21=0,'BASINFO VAORG'!C21,'BASINFO FÖRSÄKRING'!D21)","v":0},{"$f":"IF('BASINFO FÖRSÄKRING'!E21=0,'BASINFO VAORG'!D21,'BASINFO FÖRSÄKRING'!E21)","v":0},{"$f":"IF('BASINFO FÖRSÄKRING'!F21=0,'BASINFO VAORG'!E21,'BASINFO FÖRSÄKRING'!F21)","v":0},{"$f":"'SKADEINFO FÖRSÄKRING'!H21","v":0},{"$f":"'SKADEINFO FÖRSÄKRING'!N21","v":0},{"$f":"'SKADEINFO VAORG'!G21","v":"Välj…"}]
[{"$f":"'BASINFO FÖRSÄKRING'!G22","v":0},{"$f":"'SKADEINFO FÖRSÄKRING'!C22","v":"00:00:00"},{"$f":"IF('BASINFO FÖRSÄKRING'!A22=0,'BASINFO VAORG'!A22,'BASINFO FÖRSÄKRING'!A22)","v":0},{"$f":"IF('BASINFO FÖRSÄKRING'!B22=0,'BASINFO VAORG'!B22,'BASINFO FÖRSÄKRING'!B22)","v":0},{"$f":"IF('BASINFO FÖRSÄKRING'!D22=0,'BASINFO VAORG'!C22,'BASINFO FÖRSÄKRING'!D22)","v":0},{"$f":"IF('BASINFO FÖRSÄKRING'!E22=0,'BASINFO VAORG'!D22,'BASINFO FÖRSÄKRING'!E22)","v":0},{"$f":"IF('BASINFO FÖRSÄKRING'!F22=0,'BASINFO VAORG'!E22,'BASINFO FÖRSÄKRING'!F22)","v":0},{"$f":"'SKADEINFO FÖRSÄKRING'!H22","v":0},{"$f":"'SKADEINFO FÖRSÄKRING'!N22","v":0},{"$f":"'SKADEINFO VAORG'!G22","v":"Välj…"}]
[{"$f":"'BASINFO FÖRSÄKRING'!G23","v":0},{"$f":"'SKADEINFO FÖRSÄKRING'!C23","v":"00:00:00"},{"$f":"IF('BASINFO FÖRSÄKRING'!A23=0,'BASINFO VAORG'!A23,'BASINFO FÖRSÄKRING'!A23)","v":0},{"$f":"IF('BASINFO FÖRSÄKRING'!B23=0,'BASINFO VAORG'!B23,'BASINFO FÖRSÄKRING'!B23)","v":0},{"$f":"IF('BASINFO FÖRSÄKRING'!D23=0,'BASINFO VAORG'!C23,'BASINFO FÖRSÄKRING'!D23)","v":0},{"$f":"IF('BASINFO FÖRSÄKRING'!E23=0,'BASINFO VAORG'!D23,'BASINFO FÖRSÄKRING'!E23)","v":0},{"$f":"IF('BASINFO FÖRSÄKRING'!F23=0,'BASINFO VAORG'!E23,'BASINFO FÖRSÄKRING'!F23)","v":0},{"$f":"'SKADEINFO FÖRSÄKRING'!H23","v":0},{"$f":"'SKADEINFO FÖRSÄKRING'!N23","v":0},{"$f":"'SKADEINFO VAORG'!G23","v":"Välj…"}]
[{"$f":"'BASINFO FÖRSÄKRING'!G24","v":0},{"$f":"'SKADEINFO FÖRSÄKRING'!C24","v":"00:00:00"},{"$f":"IF('BASINFO FÖRSÄKRING'!A24=0,'BASINFO VAORG'!A24,'BASINFO FÖRSÄKRING'!A24)","v":0},{"$f":"IF('BASINFO FÖRSÄKRING'!B24=0,'BASINFO VAORG'!B24,'BASINFO FÖRSÄKRING'!B24)","v":0},{"$f":"IF('BASINFO FÖRSÄKRING'!D24=0,'BASINFO VAORG'!C24,'BASINFO FÖRSÄKRING'!D24)","v":0},{"$f":"IF('BASINFO FÖRSÄKRING'!E24=0,'BASINFO VAORG'!D24,'BASINFO FÖRSÄKRING'!E24)","v":0},{"$f":"IF('BASINFO FÖRSÄKRING'!F24=0,'BASINFO VAORG'!E24,'BASINFO FÖRSÄKRING'!F24)","v":0},{"$f":"'SKADEINFO FÖRSÄKRING'!H24","v":0},{"$f":"'SKADEINFO FÖRSÄKRING'!N24","v":0},{"$f":"'SKADEINFO VAORG'!G24","v":"Välj…"}]
[{"$f":"'BASINFO FÖRSÄKRING'!G25","v":0},{"$f":"'SKADEINFO FÖRSÄKRING'!C25","v":"00:00:00"},{"$f":"IF('BASINFO FÖRSÄKRING'!A25=0,'BASINFO VAORG'!A25,'BASINFO FÖRSÄKRING'!A25)","v":0},{"$f":"IF('BASINFO FÖRSÄKRING'!B25=0,'BASINFO VAORG'!B25,'BASINFO FÖRSÄKRING'!B25)","v":0},{"$f":"IF('BASINFO FÖRSÄKRING'!D25=0,'BASINFO VAORG'!C25,'BASINFO FÖRSÄKRING'!D25)","v":0},{"$f":"IF('BASINFO FÖRSÄKRING'!E25=0,'BASINFO VAORG'!D25,'BASINFO FÖRSÄKRING'!E25)","v":0},{"$f":"IF('BASINFO FÖRSÄKRING'!F25=0,'BASINFO VAORG'!E25,'BASINFO FÖRSÄKRING'!F25)","v":0},{"$f":"'SKADEINFO FÖRSÄKRING'!H25","v":0},{"$f":"'SKADEINFO FÖRSÄKRING'!N25","v":0},{"$f":"'SKADEINFO VAORG'!G25","v":"Välj…"}]
[{"$f":"'BASINFO FÖRSÄKRING'!G26","v":0},{"$f":"'SKADEINFO FÖRSÄKRING'!C26","v":"00:00:00"},{"$f":"IF('BASINFO FÖRSÄKRING'!A26=0,'BASINFO VAORG'!A26,'BASINFO FÖRSÄKRING'!A26)","v":0},{"$f":"IF('BASINFO FÖRSÄKRING'!B26=0,'BASINFO VAORG'!B26,'BASINFO FÖRSÄKRING'!B26)","v":0},{"$f":"IF('BASINFO FÖRSÄKRING'!D26=0,'BASINFO VAORG'!C26,'BASINFO FÖRSÄKRING'!D26)","v":0},{"$f":"IF('BASINFO FÖRSÄKRING'!E26=0,'BASINFO VAORG'!D26,'BASINFO FÖRSÄKRING'!E26)","v":0},{"$f":"IF('BASINFO FÖRSÄKRING'!F26=0,'BASINFO VAORG'!E26,'BASINFO FÖRSÄKRING'!F26)","v":0},{"$f":"'SKADEINFO FÖRSÄKRING'!H26","v":0},{"$f":"'SKADEINFO FÖRSÄKRING'!N26","v":0},{"$f":"'SKADEINFO VAORG'!G26","v":"Välj…"}]
[{"$f":"'BASINFO FÖRSÄKRING'!G27","v":0},{"$f":"'SKADEINFO FÖRSÄKRING'!C27","v":"00:00:00"},{"$f":"IF('BASINFO FÖRSÄKRING'!A27=0,'BASINFO VAORG'!A27,'BASINFO FÖRSÄKRING'!A27)","v":0},{"$f":"IF('BASINFO FÖRSÄKRING'!B27=0,'BASINFO VAORG'!B27,'BASINFO FÖRSÄKRING'!B27)","v":0},{"$f":"IF('BASINFO FÖRSÄKRING'!D27=0,'BASINFO VAORG'!C27,'BASINFO FÖRSÄKRING'!D27)","v":0},{"$f":"IF('BASINFO FÖRSÄKRING'!E27=0,'BASINFO VAORG'!D27,'BASINFO FÖRSÄKRING'!E27)","v":0},{"$f":"IF('BASINFO FÖRSÄKRING'!F27=0,'BASINFO VAORG'!E27,'BASINFO FÖRSÄKRING'!F27)","v":0},{"$f":"'SKADEINFO FÖRSÄKRING'!H27","v":0},{"$f":"'SKADEINFO FÖRSÄKRING'!N27","v":0},{"$f":"'SKADEINFO VAORG'!G27","v":"Välj…"}]
[{"$f":"'BASINFO FÖRSÄKRING'!G28","v":0},{"$f":"'SKADEINFO FÖRSÄKRING'!C28","v":"00:00:00"},{"$f":"IF('BASINFO FÖRSÄKRING'!A28=0,'BASINFO VAORG'!A28,'BASINFO FÖRSÄKRING'!A28)","v":0},{"$f":"IF('BASINFO FÖRSÄKRING'!B28=0,'BASINFO VAORG'!B28,'BASINFO FÖRSÄKRING'!B28)","v":0},{"$f":"IF('BASINFO FÖRSÄKRING'!D28=0,'BASINFO VAORG'!C28,'BASINFO FÖRSÄKRING'!D28)","v":0},{"$f":"IF('BASINFO FÖRSÄKRING'!E28=0,'BASINFO VAORG'!D28,'BASINFO FÖRSÄKRING'!E28)","v":0},{"$f":"IF('BASINFO FÖRSÄKRING'!F28=0,'BASINFO VAORG'!E28,'BASINFO FÖRSÄKRING'!F28)","v":0},{"$f":"'SKADEINFO FÖRSÄKRING'!H28","v":0},{"$f":"'SKADEINFO FÖRSÄKRING'!N28","v":0},{"$f":"'SKADEINFO VAORG'!G28","v":"Välj…"}]
[{"$f":"'BASINFO FÖRSÄKRING'!G29","v":0},{"$f":"'SKADEINFO FÖRSÄKRING'!C29","v":"00:00:00"},{"$f":"IF('BASINFO FÖRSÄKRING'!A29=0,'BASINFO VAORG'!A29,'BASINFO FÖRSÄKRING'!A29)","v":0},{"$f":"IF('BASINFO FÖRSÄKRING'!B29=0,'BASINFO VAORG'!B29,'BASINFO FÖRSÄKRING'!B29)","v":0},{"$f":"IF('BASINFO FÖRSÄKRING'!D29=0,'BASINFO VAORG'!C29,'BASINFO FÖRSÄKRING'!D29)","v":0},{"$f":"IF('BASINFO FÖRSÄKRING'!E29=0,'BASINFO VAORG'!D29,'BASINFO FÖRSÄKRING'!E29)","v":0},{"$f":"IF('BASINFO FÖRSÄKRING'!F29=0,'BASINFO VAORG'!E29,'BASINFO FÖRSÄKRING'!F29)","v":0},{"$f":"'SKADEINFO FÖRSÄKRING'!H29","v":0},{"$f":"'SKADEINFO FÖRSÄKRING'!N29","v":0},{"$f":"'SKADEINFO VAORG'!G29","v":"Välj…"}]
[{"$f":"'BASINFO FÖRSÄKRING'!G30","v":0},{"$f":"'SKADEINFO FÖRSÄKRING'!C30","v":"00:00:00"},{"$f":"IF('BASINFO FÖRSÄKRING'!A30=0,'BASINFO VAORG'!A30,'BASINFO FÖRSÄKRING'!A30)","v":0},{"$f":"IF('BASINFO FÖRSÄKRING'!B30=0,'BASINFO VAORG'!B30,'BASINFO FÖRSÄKRING'!B30)","v":0},{"$f":"IF('BASINFO FÖRSÄKRING'!D30=0,'BASINFO VAORG'!C30,'BASINFO FÖRSÄKRING'!D30)","v":0},{"$f":"IF('BASINFO FÖRSÄKRING'!E30=0,'BASINFO VAORG'!D30,'BASINFO FÖRSÄKRING'!E30)","v":0},{"$f":"IF('BASINFO FÖRSÄKRING'!F30=0,'BASINFO VAORG'!E30,'BASINFO FÖRSÄKRING'!F30)","v":0},{"$f":"'SKADEINFO FÖRSÄKRING'!H30","v":0},{"$f":"'SKADEINFO FÖRSÄKRING'!N30","v":0},{"$f":"'SKADEINFO VAORG'!G30","v":"Välj…"}]
[{"$f":"'BASINFO FÖRSÄKRING'!G31","v":0},{"$f":"'SKADEINFO FÖRSÄKRING'!C31","v":"00:00:00"},{"$f":"IF('BASINFO FÖRSÄKRING'!A31=0,'BASINFO VAORG'!A31,'BASINFO FÖRSÄKRING'!A31)","v":0},{"$f":"IF('BASINFO FÖRSÄKRING'!B31=0,'BASINFO VAORG'!B31,'BASINFO FÖRSÄKRING'!B31)","v":0},{"$f":"IF('BASINFO FÖRSÄKRING'!D31=0,'BASINFO VAORG'!C31,'BASINFO FÖRSÄKRING'!D31)","v":0},{"$f":"IF('BASINFO FÖRSÄKRING'!E31=0,'BASINFO VAORG'!D31,'BASINFO FÖRSÄKRING'!E31)","v":0},{"$f":"IF('BASINFO FÖRSÄKRING'!F31=0,'BASINFO VAORG'!E31,'BASINFO FÖRSÄKRING'!F31)","v":0},{"$f":"'SKADEINFO FÖRSÄKRING'!H31","v":0},{"$f":"'SKADEINFO FÖRSÄKRING'!N31","v":0},{"$f":"'SKADEINFO VAORG'!G31","v":"Välj…"}]
[{"$f":"'BASINFO FÖRSÄKRING'!G32","v":0},{"$f":"'SKADEINFO FÖRSÄKRING'!C32","v":"00:00:00"},{"$f":"IF('BASINFO FÖRSÄKRING'!A32=0,'BASINFO VAORG'!A32,'BASINFO FÖRSÄKRING'!A32)","v":0},{"$f":"IF('BASINFO FÖRSÄKRING'!B32=0,'BASINFO VAORG'!B32,'BASINFO FÖRSÄKRING'!B32)","v":0},{"$f":"IF('BASINFO FÖRSÄKRING'!D32=0,'BASINFO VAORG'!C32,'BASINFO FÖRSÄKRING'!D32)","v":0},{"$f":"IF('BASINFO FÖRSÄKRING'!E32=0,'BASINFO VAORG'!D32,'BASINFO FÖRSÄKRING'!E32)","v":0},{"$f":"IF('BASINFO FÖRSÄKRING'!F32=0,'BASINFO VAORG'!E32,'BASINFO FÖRSÄKRING'!F32)","v":0},{"$f":"'SKADEINFO FÖRSÄKRING'!H32","v":0},{"$f":"'SKADEINFO FÖRSÄKRING'!N32","v":0},{"$f":"'SKADEINFO VAORG'!G32","v":"Välj…"}]
[{"$f":"'BASINFO FÖRSÄKRING'!G33","v":0},{"$f":"'SKADEINFO FÖRSÄKRING'!C33","v":"00:00:00"},{"$f":"IF('BASINFO FÖRSÄKRING'!A33=0,'BASINFO VAORG'!A33,'BASINFO FÖRSÄKRING'!A33)","v":0},{"$f":"IF('BASINFO FÖRSÄKRING'!B33=0,'BASINFO VAORG'!B33,'BASINFO FÖRSÄKRING'!B33)","v":0},{"$f":"IF('BASINFO FÖRSÄKRING'!D33=0,'BASINFO VAORG'!C33,'BASINFO FÖRSÄKRING'!D33)","v":0},{"$f":"IF('BASINFO FÖRSÄKRING'!E33=0,'BASINFO VAORG'!D33,'BASINFO FÖRSÄKRING'!E33)","v":0},{"$f":"IF('BASINFO FÖRSÄKRING'!F33=0,'BASINFO VAORG'!E33,'BASINFO FÖRSÄKRING'!F33)","v":0},{"$f":"'SKADEINFO FÖRSÄKRING'!H33","v":0},{"$f":"'SKADEINFO FÖRSÄKRING'!N33","v":0},{"$f":"'SKADEINFO VAORG'!G33","v":"Välj…"}]
[{"$f":"'BASINFO FÖRSÄKRING'!G34","v":0},{"$f":"'SKADEINFO FÖRSÄKRING'!C34","v":"00:00:00"},{"$f":"IF('BASINFO FÖRSÄKRING'!A34=0,'BASINFO VAORG'!A34,'BASINFO FÖRSÄKRING'!A34)","v":0},{"$f":"IF('BASINFO FÖRSÄKRING'!B34=0,'BASINFO VAORG'!B34,'BASINFO FÖRSÄKRING'!B34)","v":0},{"$f":"IF('BASINFO FÖRSÄKRING'!D34=0,'BASINFO VAORG'!C34,'BASINFO FÖRSÄKRING'!D34)","v":0},{"$f":"IF('BASINFO FÖRSÄKRING'!E34=0,'BASINFO VAORG'!D34,'BASINFO FÖRSÄKRING'!E34)","v":0},{"$f":"IF('BASINFO FÖRSÄKRING'!F34=0,'BASINFO VAORG'!E34,'BASINFO FÖRSÄKRING'!F34)","v":0},{"$f":"'SKADEINFO FÖRSÄKRING'!H34","v":0},{"$f":"'SKADEINFO FÖRSÄKRING'!N34","v":0},{"$f":"'SKADEINFO VAORG'!G34","v":"Välj…"}]
[{"$f":"'BASINFO FÖRSÄKRING'!G35","v":0},{"$f":"'SKADEINFO FÖRSÄKRING'!C35","v":"00:00:00"},{"$f":"IF('BASINFO FÖRSÄKRING'!A35=0,'BASINFO VAORG'!A35,'BASINFO FÖRSÄKRING'!A35)","v":0},{"$f":"IF('BASINFO FÖRSÄKRING'!B35=0,'BASINFO VAORG'!B35,'BASINFO FÖRSÄKRING'!B35)","v":0},{"$f":"IF('BASINFO FÖRSÄKRING'!D35=0,'BASINFO VAORG'!C35,'BASINFO FÖRSÄKRING'!D35)","v":0},{"$f":"IF('BASINFO FÖRSÄKRING'!E35=0,'BASINFO VAORG'!D35,'BASINFO FÖRSÄKRING'!E35)","v":0},{"$f":"IF('BASINFO FÖRSÄKRING'!F35=0,'BASINFO VAORG'!E35,'BASINFO FÖRSÄKRING'!F35)","v":0},{"$f":"'SKADEINFO FÖRSÄKRING'!H35","v":0},{"$f":"'SKADEINFO FÖRSÄKRING'!N35","v":0},{"$f":"'SKADEINFO VAORG'!G35","v":"Välj…"}]
[{"$f":"'BASINFO FÖRSÄKRING'!G36","v":0},{"$f":"'SKADEINFO FÖRSÄKRING'!C36","v":"00:00:00"},{"$f":"IF('BASINFO FÖRSÄKRING'!A36=0,'BASINFO VAORG'!A36,'BASINFO FÖRSÄKRING'!A36)","v":0},{"$f":"IF('BASINFO FÖRSÄKRING'!B36=0,'BASINFO VAORG'!B36,'BASINFO FÖRSÄKRING'!B36)","v":0},{"$f":"IF('BASINFO FÖRSÄKRING'!D36=0,'BASINFO VAORG'!C36,'BASINFO FÖRSÄKRING'!D36)","v":0},{"$f":"IF('BASINFO FÖRSÄKRING'!E36=0,'BASINFO VAORG'!D36,'BASINFO FÖRSÄKRING'!E36)","v":0},{"$f":"IF('BASINFO FÖRSÄKRING'!F36=0,'BASINFO VAORG'!E36,'BASINFO FÖRSÄKRING'!F36)","v":0},{"$f":"'SKADEINFO FÖRSÄKRING'!H36","v":0},{"$f":"'SKADEINFO FÖRSÄKRING'!N36","v":0},{"$f":"'SKADEINFO VAORG'!G36","v":"Välj…"}]
[{"$f":"'BASINFO FÖRSÄKRING'!G37","v":0},{"$f":"'SKADEINFO FÖRSÄKRING'!C37","v":"00:00:00"},{"$f":"IF('BASINFO FÖRSÄKRING'!A37=0,'BASINFO VAORG'!A37,'BASINFO FÖRSÄKRING'!A37)","v":0},{"$f":"IF('BASINFO FÖRSÄKRING'!B37=0,'BASINFO VAORG'!B37,'BASINFO FÖRSÄKRING'!B37)","v":0},{"$f":"IF('BASINFO FÖRSÄKRING'!D37=0,'BASINFO VAORG'!C37,'BASINFO FÖRSÄKRING'!D37)","v":0},{"$f":"IF('BASINFO FÖRSÄKRING'!E37=0,'BASINFO VAORG'!D37,'BASINFO FÖRSÄKRING'!E37)","v":0},{"$f":"IF('BASINFO FÖRSÄKRING'!F37=0,'BASINFO VAORG'!E37,'BASINFO FÖRSÄKRING'!F37)","v":0},{"$f":"'SKADEINFO FÖRSÄKRING'!H37","v":0},{"$f":"'SKADEINFO FÖRSÄKRING'!N37","v":0},{"$f":"'SKADEINFO VAORG'!G37","v":"Välj…"}]
[{"$f":"'BASINFO FÖRSÄKRING'!G38","v":0},{"$f":"'SKADEINFO FÖRSÄKRING'!C38","v":"00:00:00"},{"$f":"IF('BASINFO FÖRSÄKRING'!A38=0,'BASINFO VAORG'!A38,'BASINFO FÖRSÄKRING'!A38)","v":0},{"$f":"IF('BASINFO FÖRSÄKRING'!B38=0,'BASINFO VAORG'!B38,'BASINFO FÖRSÄKRING'!B38)","v":0},{"$f":"IF('BASINFO FÖRSÄKRING'!D38=0,'BASINFO VAORG'!C38,'BASINFO FÖRSÄKRING'!D38)","v":0},{"$f":"IF('BASINFO FÖRSÄKRING'!E38=0,'BASINFO VAORG'!D38,'BASINFO FÖRSÄKRING'!E38)","v":0},{"$f":"IF('BASINFO FÖRSÄKRING'!F38=0,'BASINFO VAORG'!E38,'BASINFO FÖRSÄKRING'!F38)","v":0},{"$f":"'SKADEINFO FÖRSÄKRING'!H38","v":0},{"$f":"'SKADEINFO FÖRSÄKRING'!N38","v":0},{"$f":"'SKADEINFO VAORG'!G38","v":"Välj…"}]
[{"$f":"'BASINFO FÖRSÄKRING'!G39","v":0},{"$f":"'SKADEINFO FÖRSÄKRING'!C39","v":"00:00:00"},{"$f":"IF('BASINFO FÖRSÄKRING'!A39=0,'BASINFO VAORG'!A39,'BASINFO FÖRSÄKRING'!A39)","v":0},{"$f":"IF('BASINFO FÖRSÄKRING'!B39=0,'BASINFO VAORG'!B39,'BASINFO FÖRSÄKRING'!B39)","v":0},{"$f":"IF('BASINFO FÖRSÄKRING'!D39=0,'BASINFO VAORG'!C39,'BASINFO FÖRSÄKRING'!D39)","v":0},{"$f":"IF('BASINFO FÖRSÄKRING'!E39=0,'BASINFO VAORG'!D39,'BASINFO FÖRSÄKRING'!E39)","v":0},{"$f":"IF('BASINFO FÖRSÄKRING'!F39=0,'BASINFO VAORG'!E39,'BASINFO FÖRSÄKRING'!F39)","v":0},{"$f":"'SKADEINFO FÖRSÄKRING'!H39","v":0},{"$f":"'SKADEINFO FÖRSÄKRING'!N39","v":0},{"$f":"'SKADEINFO VAORG'!G39","v":"Välj…"}]
[{"$f":"'BASINFO FÖRSÄKRING'!G40","v":0},{"$f":"'SKADEINFO FÖRSÄKRING'!C40","v":"00:00:00"},{"$f":"IF('BASINFO FÖRSÄKRING'!A40=0,'BASINFO VAORG'!A40,'BASINFO FÖRSÄKRING'!A40)","v":0},{"$f":"IF('BASINFO FÖRSÄKRING'!B40=0,'BASINFO VAORG'!B40,'BASINFO FÖRSÄKRING'!B40)","v":0},{"$f":"IF('BASINFO FÖRSÄKRING'!D40=0,'BASINFO VAORG'!C40,'BASINFO FÖRSÄKRING'!D40)","v":0},{"$f":"IF('BASINFO FÖRSÄKRING'!E40=0,'BASINFO VAORG'!D40,'BASINFO FÖRSÄKRING'!E40)","v":0},{"$f":"IF('BASINFO FÖRSÄKRING'!F40=0,'BASINFO VAORG'!E40,'BASINFO FÖRSÄKRING'!F40)","v":0},{"$f":"'SKADEINFO FÖRSÄKRING'!H40","v":0},{"$f":"'SKADEINFO FÖRSÄKRING'!N40","v":0},{"$f":"'SKADEINFO VAORG'!G40","v":"Välj…"}]
[{"$f":"'BASINFO FÖRSÄKRING'!G41","v":0},{"$f":"'SKADEINFO FÖRSÄKRING'!C41","v":"00:00:00"},{"$f":"IF('BASINFO FÖRSÄKRING'!A41=0,'BASINFO VAORG'!A41,'BASINFO FÖRSÄKRING'!A41)","v":0},{"$f":"IF('BASINFO FÖRSÄKRING'!B41=0,'BASINFO VAORG'!B41,'BASINFO FÖRSÄKRING'!B41)","v":0},{"$f":"IF('BASINFO FÖRSÄKRING'!D41=0,'BASINFO VAORG'!C41,'BASINFO FÖRSÄKRING'!D41)","v":0},{"$f":"IF('BASINFO FÖRSÄKRING'!E41=0,'BASINFO VAORG'!D41,'BASINFO FÖRSÄKRING'!E41)","v":0},{"$f":"IF('BASINFO FÖRSÄKRING'!F41=0,'BASINFO VAORG'!E41,'BASINFO FÖRSÄKRING'!F41)","v":0},{"$f":"'SKADEINFO FÖRSÄKRING'!H41","v":0},{"$f":"'SKADEINFO FÖRSÄKRING'!N41","v":0},{"$f":"'SKADEINFO VAORG'!G41","v":"Välj…"}]
[{"$f":"'BASINFO FÖRSÄKRING'!G42","v":0},{"$f":"'SKADEINFO FÖRSÄKRING'!C42","v":"00:00:00"},{"$f":"IF('BASINFO FÖRSÄKRING'!A42=0,'BASINFO VAORG'!A42,'BASINFO FÖRSÄKRING'!A42)","v":0},{"$f":"IF('BASINFO FÖRSÄKRING'!B42=0,'BASINFO VAORG'!B42,'BASINFO FÖRSÄKRING'!B42)","v":0},{"$f":"IF('BASINFO FÖRSÄKRING'!D42=0,'BASINFO VAORG'!C42,'BASINFO FÖRSÄKRING'!D42)","v":0},{"$f":"IF('BASINFO FÖRSÄKRING'!E42=0,'BASINFO VAORG'!D42,'BASINFO FÖRSÄKRING'!E42)","v":0},{"$f":"IF('BASINFO FÖRSÄKRING'!F42=0,'BASINFO VAORG'!E42,'BASINFO FÖRSÄKRING'!F42)","v":0},{"$f":"'SKADEINFO FÖRSÄKRING'!H42","v":0},{"$f":"'SKADEINFO FÖRSÄKRING'!N42","v":0},{"$f":"'SKADEINFO VAORG'!G42","v":"Välj…"}]
[{"$f":"'BASINFO FÖRSÄKRING'!G43","v":0},{"$f":"'SKADEINFO FÖRSÄKRING'!C43","v":"00:00:00"},{"$f":"IF('BASINFO FÖRSÄKRING'!A43=0,'BASINFO VAORG'!A43,'BASINFO FÖRSÄKRING'!A43)","v":0},{"$f":"IF('BASINFO FÖRSÄKRING'!B43=0,'BASINFO VAORG'!B43,'BASINFO FÖRSÄKRING'!B43)","v":0},{"$f":"IF('BASINFO FÖRSÄKRING'!D43=0,'BASINFO VAORG'!C43,'BASINFO FÖRSÄKRING'!D43)","v":0},{"$f":"IF('BASINFO FÖRSÄKRING'!E43=0,'BASINFO VAORG'!D43,'BASINFO FÖRSÄKRING'!E43)","v":0},{"$f":"IF('BASINFO FÖRSÄKRING'!F43=0,'BASINFO VAORG'!E43,'BASINFO FÖRSÄKRING'!F43)","v":0},{"$f":"'SKADEINFO FÖRSÄKRING'!H43","v":0},{"$f":"'SKADEINFO FÖRSÄKRING'!N43","v":0},{"$f":"'SKADEINFO VAORG'!G43","v":"Välj…"}]
[{"$f":"'BASINFO FÖRSÄKRING'!G44","v":0},{"$f":"'SKADEINFO FÖRSÄKRING'!C44","v":"00:00:00"},{"$f":"IF('BASINFO FÖRSÄKRING'!A44=0,'BASINFO VAORG'!A44,'BASINFO FÖRSÄKRING'!A44)","v":0},{"$f":"IF('BASINFO FÖRSÄKRING'!B44=0,'BASINFO VAORG'!B44,'BASINFO FÖRSÄKRING'!B44)","v":0},{"$f":"IF('BASINFO FÖRSÄKRING'!D44=0,'BASINFO VAORG'!C44,'BASINFO FÖRSÄKRING'!D44)","v":0},{"$f":"IF('BASINFO FÖRSÄKRING'!E44=0,'BASINFO VAORG'!D44,'BASINFO FÖRSÄKRING'!E44)","v":0},{"$f":"IF('BASINFO FÖRSÄKRING'!F44=0,'BASINFO VAORG'!E44,'BASINFO FÖRSÄKRING'!F44)","v":0},{"$f":"'SKADEINFO FÖRSÄKRING'!H44","v":0},{"$f":"'SKADEINFO FÖRSÄKRING'!N44","v":0},{"$f":"'SKADEINFO VAORG'!G44","v":"Välj…"}]
[{"$f":"'BASINFO FÖRSÄKRING'!G45","v":0},{"$f":"'SKADEINFO FÖRSÄKRING'!C45","v":"00:00:00"},{"$f":"IF('BASINFO FÖRSÄKRING'!A45=0,'BASINFO VAORG'!A45,'BASINFO FÖRSÄKRING'!A45)","v":0},{"$f":"IF('BASINFO FÖRSÄKRING'!B45=0,'BASINFO VAORG'!B45,'BASINFO FÖRSÄKRING'!B45)","v":0},{"$f":"IF('BASINFO FÖRSÄKRING'!D45=0,'BASINFO VAORG'!C45,'BASINFO FÖRSÄKRING'!D45)","v":0},{"$f":"IF('BASINFO FÖRSÄKRING'!E45=0,'BASINFO VAORG'!D45,'BASINFO FÖRSÄKRING'!E45)","v":0},{"$f":"IF('BASINFO FÖRSÄKRING'!F45=0,'BASINFO VAORG'!E45,'BASINFO FÖRSÄKRING'!F45)","v":0},{"$f":"'SKADEINFO FÖRSÄKRING'!H45","v":0},{"$f":"'SKADEINFO FÖRSÄKRING'!N45","v":0},{"$f":"'SKADEINFO VAORG'!G45","v":"Välj…"}]
[{"$f":"'BASINFO FÖRSÄKRING'!G46","v":0},{"$f":"'SKADEINFO FÖRSÄKRING'!C46","v":"00:00:00"},{"$f":"IF('BASINFO FÖRSÄKRING'!A46=0,'BASINFO VAORG'!A46,'BASINFO FÖRSÄKRING'!A46)","v":0},{"$f":"IF('BASINFO FÖRSÄKRING'!B46=0,'BASINFO VAORG'!B46,'BASINFO FÖRSÄKRING'!B46)","v":0},{"$f":"IF('BASINFO FÖRSÄKRING'!D46=0,'BASINFO VAORG'!C46,'BASINFO FÖRSÄKRING'!D46)","v":0},{"$f":"IF('BASINFO FÖRSÄKRING'!E46=0,'BASINFO VAORG'!D46,'BASINFO FÖRSÄKRING'!E46)","v":0},{"$f":"IF('BASINFO FÖRSÄKRING'!F46=0,'BASINFO VAORG'!E46,'BASINFO FÖRSÄKRING'!F46)","v":0},{"$f":"'SKADEINFO FÖRSÄKRING'!H46","v":0},{"$f":"'SKADEINFO FÖRSÄKRING'!N46","v":0},{"$f":"'SKADEINFO VAORG'!G46","v":"Välj…"}]
[{"$f":"'BASINFO FÖRSÄKRING'!G47","v":0},{"$f":"'SKADEINFO FÖRSÄKRING'!C47","v":"00:00:00"},{"$f":"IF('BASINFO FÖRSÄKRING'!A47=0,'BASINFO VAORG'!A47,'BASINFO FÖRSÄKRING'!A47)","v":0},{"$f":"IF('BASINFO FÖRSÄKRING'!B47=0,'BASINFO VAORG'!B47,'BASINFO FÖRSÄKRING'!B47)","v":0},{"$f":"IF('BASINFO FÖRSÄKRING'!D47=0,'BASINFO VAORG'!C47,'BASINFO FÖRSÄKRING'!D47)","v":0},{"$f":"IF('BASINFO FÖRSÄKRING'!E47=0,'BASINFO VAORG'!D47,'BASINFO FÖRSÄKRING'!E47)","v":0},{"$f":"IF('BASINFO FÖRSÄKRING'!F47=0,'BASINFO VAORG'!E47,'BASINFO FÖRSÄKRING'!F47)","v":0},{"$f":"'SKADEINFO FÖRSÄKRING'!H47","v":0},{"$f":"'SKADEINFO FÖRSÄKRING'!N47","v":0},{"$f":"'SKADEINFO VAORG'!G47","v":"Välj…"}]
[{"$f":"'BASINFO FÖRSÄKRING'!G48","v":0},{"$f":"'SKADEINFO FÖRSÄKRING'!C48","v":"00:00:00"},{"$f":"IF('BASINFO FÖRSÄKRING'!A48=0,'BASINFO VAORG'!A48,'BASINFO FÖRSÄKRING'!A48)","v":0},{"$f":"IF('BASINFO FÖRSÄKRING'!B48=0,'BASINFO VAORG'!B48,'BASINFO FÖRSÄKRING'!B48)","v":0},{"$f":"IF('BASINFO FÖRSÄKRING'!D48=0,'BASINFO VAORG'!C48,'BASINFO FÖRSÄKRING'!D48)","v":0},{"$f":"IF('BASINFO FÖRSÄKRING'!E48=0,'BASINFO VAORG'!D48,'BASINFO FÖRSÄKRING'!E48)","v":0},{"$f":"IF('BASINFO FÖRSÄKRING'!F48=0,'BASINFO VAORG'!E48,'BASINFO FÖRSÄKRING'!F48)","v":0},{"$f":"'SKADEINFO FÖRSÄKRING'!H48","v":0},{"$f":"'SKADEINFO FÖRSÄKRING'!N48","v":0},{"$f":"'SKADEINFO VAORG'!G48","v":"Välj…"}]
[{"$f":"'BASINFO FÖRSÄKRING'!G49","v":0},{"$f":"'SKADEINFO FÖRSÄKRING'!C49","v":"00:00:00"},{"$f":"IF('BASINFO FÖRSÄKRING'!A49=0,'BASINFO VAORG'!A49,'BASINFO FÖRSÄKRING'!A49)","v":0},{"$f":"IF('BASINFO FÖRSÄKRING'!B49=0,'BASINFO VAORG'!B49,'BASINFO FÖRSÄKRING'!B49)","v":0},{"$f":"IF('BASINFO FÖRSÄKRING'!D49=0,'BASINFO VAORG'!C49,'BASINFO FÖRSÄKRING'!D49)","v":0},{"$f":"IF('BASINFO FÖRSÄKRING'!E49=0,'BASINFO VAORG'!D49,'BASINFO FÖRSÄKRING'!E49)","v":0},{"$f":"IF('BASINFO FÖRSÄKRING'!F49=0,'BASINFO VAORG'!E49,'BASINFO FÖRSÄKRING'!F49)","v":0},{"$f":"'SKADEINFO FÖRSÄKRING'!H49","v":0},{"$f":"'SKADEINFO FÖRSÄKRING'!N49","v":0},{"$f":"'SKADEINFO VAORG'!G49","v":"Välj…"}]
[{"$f":"'BASINFO FÖRSÄKRING'!G50","v":0},{"$f":"'SKADEINFO FÖRSÄKRING'!C50","v":"00:00:00"},{"$f":"IF('BASINFO FÖRSÄKRING'!A50=0,'BASINFO VAORG'!A50,'BASINFO FÖRSÄKRING'!A50)","v":0},{"$f":"IF('BASINFO FÖRSÄKRING'!B50=0,'BASINFO VAORG'!B50,'BASINFO FÖRSÄKRING'!B50)","v":0},{"$f":"IF('BASINFO FÖRSÄKRING'!D50=0,'BASINFO VAORG'!C50,'BASINFO FÖRSÄKRING'!D50)","v":0},{"$f":"IF('BASINFO FÖRSÄKRING'!E50=0,'BASINFO VAORG'!D50,'BASINFO FÖRSÄKRING'!E50)","v":0},{"$f":"IF('BASINFO FÖRSÄKRING'!F50=0,'BASINFO VAORG'!E50,'BASINFO FÖRSÄKRING'!F50)","v":0},{"$f":"'SKADEINFO FÖRSÄKRING'!H50","v":0},{"$f":"'SKADEINFO FÖRSÄKRING'!N50","v":0},{"$f":"'SKADEINFO VAORG'!G50","v":"Välj…"}]
[{"$f":"'BASINFO FÖRSÄKRING'!G51","v":0},{"$f":"'SKADEINFO FÖRSÄKRING'!C51","v":"00:00:00"},{"$f":"IF('BASINFO FÖRSÄKRING'!A51=0,'BASINFO VAORG'!A51,'BASINFO FÖRSÄKRING'!A51)","v":0},{"$f":"IF('BASINFO FÖRSÄKRING'!B51=0,'BASINFO VAORG'!B51,'BASINFO FÖRSÄKRING'!B51)","v":0},{"$f":"IF('BASINFO FÖRSÄKRING'!D51=0,'BASINFO VAORG'!C51,'BASINFO FÖRSÄKRING'!D51)","v":0},{"$f":"IF('BASINFO FÖRSÄKRING'!E51=0,'BASINFO VAORG'!D51,'BASINFO FÖRSÄKRING'!E51)","v":0},{"$f":"IF('BASINFO FÖRSÄKRING'!F51=0,'BASINFO VAORG'!E51,'BASINFO FÖRSÄKRING'!F51)","v":0},{"$f":"'SKADEINFO FÖRSÄKRING'!H51","v":0},{"$f":"'SKADEINFO FÖRSÄKRING'!N51","v":0},{"$f":"'SKADEINFO VAORG'!G51","v":"Välj…"}]
[{"$f":"'BASINFO FÖRSÄKRING'!G52","v":0},{"$f":"'SKADEINFO FÖRSÄKRING'!C52","v":"00:00:00"},{"$f":"IF('BASINFO FÖRSÄKRING'!A52=0,'BASINFO VAORG'!A52,'BASINFO FÖRSÄKRING'!A52)","v":0},{"$f":"IF('BASINFO FÖRSÄKRING'!B52=0,'BASINFO VAORG'!B52,'BASINFO FÖRSÄKRING'!B52)","v":0},{"$f":"IF('BASINFO FÖRSÄKRING'!D52=0,'BASINFO VAORG'!C52,'BASINFO FÖRSÄKRING'!D52)","v":0},{"$f":"IF('BASINFO FÖRSÄKRING'!E52=0,'BASINFO VAORG'!D52,'BASINFO FÖRSÄKRING'!E52)","v":0},{"$f":"IF('BASINFO FÖRSÄKRING'!F52=0,'BASINFO VAORG'!E52,'BASINFO FÖRSÄKRING'!F52)","v":0},{"$f":"'SKADEINFO FÖRSÄKRING'!H52","v":0},{"$f":"'SKADEINFO FÖRSÄKRING'!N52","v":0},{"$f":"'SKADEINFO VAORG'!G52","v":"Välj…"}]
[{"$f":"'BASINFO FÖRSÄKRING'!G53","v":0},{"$f":"'SKADEINFO FÖRSÄKRING'!C53","v":"00:00:00"},{"$f":"IF('BASINFO FÖRSÄKRING'!A53=0,'BASINFO VAORG'!A53,'BASINFO FÖRSÄKRING'!A53)","v":0},{"$f":"IF('BASINFO FÖRSÄKRING'!B53=0,'BASINFO VAORG'!B53,'BASINFO FÖRSÄKRING'!B53)","v":0},{"$f":"IF('BASINFO FÖRSÄKRING'!D53=0,'BASINFO VAORG'!C53,'BASINFO FÖRSÄKRING'!D53)","v":0},{"$f":"IF('BASINFO FÖRSÄKRING'!E53=0,'BASINFO VAORG'!D53,'BASINFO FÖRSÄKRING'!E53)","v":0},{"$f":"IF('BASINFO FÖRSÄKRING'!F53=0,'BASINFO VAORG'!E53,'BASINFO FÖRSÄKRING'!F53)","v":0},{"$f":"'SKADEINFO FÖRSÄKRING'!H53","v":0},{"$f":"'SKADEINFO FÖRSÄKRING'!N53","v":0},{"$f":"'SKADEINFO VAORG'!G53","v":"Välj…"}]
[{"$f":"'BASINFO FÖRSÄKRING'!G54","v":0},{"$f":"'SKADEINFO FÖRSÄKRING'!C54","v":"00:00:00"},{"$f":"IF('BASINFO FÖRSÄKRING'!A54=0,'BASINFO VAORG'!A54,'BASINFO FÖRSÄKRING'!A54)","v":0},{"$f":"IF('BASINFO FÖRSÄKRING'!B54=0,'BASINFO VAORG'!B54,'BASINFO FÖRSÄKRING'!B54)","v":0},{"$f":"IF('BASINFO FÖRSÄKRING'!D54=0,'BASINFO VAORG'!C54,'BASINFO FÖRSÄKRING'!D54)","v":0},{"$f":"IF('BASINFO FÖRSÄKRING'!E54=0,'BASINFO VAORG'!D54,'BASINFO FÖRSÄKRING'!E54)","v":0},{"$f":"IF('BASINFO FÖRSÄKRING'!F54=0,'BASINFO VAORG'!E54,'BASINFO FÖRSÄKRING'!F54)","v":0},{"$f":"'SKADEINFO FÖRSÄKRING'!H54","v":0},{"$f":"'SKADEINFO FÖRSÄKRING'!N54","v":0},{"$f":"'SKADEINFO VAORG'!G54","v":"Välj…"}]
[{"$f":"'BASINFO FÖRSÄKRING'!G55","v":0},{"$f":"'SKADEINFO FÖRSÄKRING'!C55","v":"00:00:00"},{"$f":"IF('BASINFO FÖRSÄKRING'!A55=0,'BASINFO VAORG'!A55,'BASINFO FÖRSÄKRING'!A55)","v":0},{"$f":"IF('BASINFO FÖRSÄKRING'!B55=0,'BASINFO VAORG'!B55,'BASINFO FÖRSÄKRING'!B55)","v":0},{"$f":"IF('BASINFO FÖRSÄKRING'!D55=0,'BASINFO VAORG'!C55,'BASINFO FÖRSÄKRING'!D55)","v":0},{"$f":"IF('BASINFO FÖRSÄKRING'!E55=0,'BASINFO VAORG'!D55,'BASINFO FÖRSÄKRING'!E55)","v":0},{"$f":"IF('BASINFO FÖRSÄKRING'!F55=0,'BASINFO VAORG'!E55,'BASINFO FÖRSÄKRING'!F55)","v":0},{"$f":"'SKADEINFO FÖRSÄKRING'!H55","v":0},{"$f":"'SKADEINFO FÖRSÄKRING'!N55","v":0},{"$f":"'SKADEINFO VAORG'!G55","v":"Välj…"}]
[{"$f":"'BASINFO FÖRSÄKRING'!G56","v":0},{"$f":"'SKADEINFO FÖRSÄKRING'!C56","v":"00:00:00"},{"$f":"IF('BASINFO FÖRSÄKRING'!A56=0,'BASINFO VAORG'!A56,'BASINFO FÖRSÄKRING'!A56)","v":0},{"$f":"IF('BASINFO FÖRSÄKRING'!B56=0,'BASINFO VAORG'!B56,'BASINFO FÖRSÄKRING'!B56)","v":0},{"$f":"IF('BASINFO FÖRSÄKRING'!D56=0,'BASINFO VAORG'!C56,'BASINFO FÖRSÄKRING'!D56)","v":0},{"$f":"IF('BASINFO FÖRSÄKRING'!E56=0,'BASINFO VAORG'!D56,'BASINFO FÖRSÄKRING'!E56)","v":0},{"$f":"IF('BASINFO FÖRSÄKRING'!F56=0,'BASINFO VAORG'!E56,'BASINFO FÖRSÄKRING'!F56)","v":0},{"$f":"'SKADEINFO FÖRSÄKRING'!H56","v":0},{"$f":"'SKADEINFO FÖRSÄKRING'!N56","v":0},{"$f":"'SKADEINFO VAORG'!G56","v":"Välj…"}]
[{"$f":"'BASINFO FÖRSÄKRING'!G57","v":0},{"$f":"'SKADEINFO FÖRSÄKRING'!C57","v":"00:00:00"},{"$f":"IF('BASINFO FÖRSÄKRING'!A57=0,'BASINFO VAORG'!A57,'BASINFO FÖRSÄKRING'!A57)","v":0},{"$f":"IF('BASINFO FÖRSÄKRING'!B57=0,'BASINFO VAORG'!B57,'BASINFO FÖRSÄKRING'!B57)","v":0},{"$f":"IF('BASINFO FÖRSÄKRING'!D57=0,'BASINFO VAORG'!C57,'BASINFO FÖRSÄKRING'!D57)","v":0},{"$f":"IF('BASINFO FÖRSÄKRING'!E57=0,'BASINFO VAORG'!D57,'BASINFO FÖRSÄKRING'!E57)","v":0},{"$f":"IF('BASINFO FÖRSÄKRING'!F57=0,'BASINFO VAORG'!E57,'BASINFO FÖRSÄKRING'!F57)","v":0},{"$f":"'SKADEINFO FÖRSÄKRING'!H57","v":0},{"$f":"'SKADEINFO FÖRSÄKRING'!N57","v":0},{"$f":"'SKADEINFO VAORG'!G57","v":"Välj…"}]
[{"$f":"'BASINFO FÖRSÄKRING'!G58","v":0},{"$f":"'SKADEINFO FÖRSÄKRING'!C58","v":"00:00:00"},{"$f":"IF('BASINFO FÖRSÄKRING'!A58=0,'BASINFO VAORG'!A58,'BASINFO FÖRSÄKRING'!A58)","v":0},{"$f":"IF('BASINFO FÖRSÄKRING'!B58=0,'BASINFO VAORG'!B58,'BASINFO FÖRSÄKRING'!B58)","v":0},{"$f":"IF('BASINFO FÖRSÄKRING'!D58=0,'BASINFO VAORG'!C58,'BASINFO FÖRSÄKRING'!D58)","v":0},{"$f":"IF('BASINFO FÖRSÄKRING'!E58=0,'BASINFO VAORG'!D58,'BASINFO FÖRSÄKRING'!E58)","v":0},{"$f":"IF('BASINFO FÖRSÄKRING'!F58=0,'BASINFO VAORG'!E58,'BASINFO FÖRSÄKRING'!F58)","v":0},{"$f":"'SKADEINFO FÖRSÄKRING'!H58","v":0},{"$f":"'SKADEINFO FÖRSÄKRING'!N58","v":0},{"$f":"'SKADEINFO VAORG'!G58","v":"Välj…"}]
[{"$f":"'BASINFO FÖRSÄKRING'!G59","v":0},{"$f":"'SKADEINFO FÖRSÄKRING'!C59","v":"00:00:00"},{"$f":"IF('BASINFO FÖRSÄKRING'!A59=0,'BASINFO VAORG'!A59,'BASINFO FÖRSÄKRING'!A59)","v":0},{"$f":"IF('BASINFO FÖRSÄKRING'!B59=0,'BASINFO VAORG'!B59,'BASINFO FÖRSÄKRING'!B59)","v":0},{"$f":"IF('BASINFO FÖRSÄKRING'!D59=0,'BASINFO VAORG'!C59,'BASINFO FÖRSÄKRING'!D59)","v":0},{"$f":"IF('BASINFO FÖRSÄKRING'!E59=0,'BASINFO VAORG'!D59,'BASINFO FÖRSÄKRING'!E59)","v":0},{"$f":"IF('BASINFO FÖRSÄKRING'!F59=0,'BASINFO VAORG'!E59,'BASINFO FÖRSÄKRING'!F59)","v":0},{"$f":"'SKADEINFO FÖRSÄKRING'!H59","v":0},{"$f":"'SKADEINFO FÖRSÄKRING'!N59","v":0},{"$f":"'SKADEINFO VAORG'!G59","v":"Välj…"}]
[{"$f":"'BASINFO FÖRSÄKRING'!G60","v":0},{"$f":"'SKADEINFO FÖRSÄKRING'!C60","v":"00:00:00"},{"$f":"IF('BASINFO FÖRSÄKRING'!A60=0,'BASINFO VAORG'!A60,'BASINFO FÖRSÄKRING'!A60)","v":0},{"$f":"IF('BASINFO FÖRSÄKRING'!B60=0,'BASINFO VAORG'!B60,'BASINFO FÖRSÄKRING'!B60)","v":0},{"$f":"IF('BASINFO FÖRSÄKRING'!D60=0,'BASINFO VAORG'!C60,'BASINFO FÖRSÄKRING'!D60)","v":0},{"$f":"IF('BASINFO FÖRSÄKRING'!E60=0,'BASINFO VAORG'!D60,'BASINFO FÖRSÄKRING'!E60)","v":0},{"$f":"IF('BASINFO FÖRSÄKRING'!F60=0,'BASINFO VAORG'!E60,'BASINFO FÖRSÄKRING'!F60)","v":0},{"$f":"'SKADEINFO FÖRSÄKRING'!H60","v":0},{"$f":"'SKADEINFO FÖRSÄKRING'!N60","v":0},{"$f":"'SKADEINFO VAORG'!G60","v":"Välj…"}]
[{"$f":"'BASINFO FÖRSÄKRING'!G61","v":0},{"$f":"'SKADEINFO FÖRSÄKRING'!C61","v":"00:00:00"},{"$f":"IF('BASINFO FÖRSÄKRING'!A61=0,'BASINFO VAORG'!A61,'BASINFO FÖRSÄKRING'!A61)","v":0},{"$f":"IF('BASINFO FÖRSÄKRING'!B61=0,'BASINFO VAORG'!B61,'BASINFO FÖRSÄKRING'!B61)","v":0},{"$f":"IF('BASINFO FÖRSÄKRING'!D61=0,'BASINFO VAORG'!C61,'BASINFO FÖRSÄKRING'!D61)","v":0},{"$f":"IF('BASINFO FÖRSÄKRING'!E61=0,'BASINFO VAORG'!D61,'BASINFO FÖRSÄKRING'!E61)","v":0},{"$f":"IF('BASINFO FÖRSÄKRING'!F61=0,'BASINFO VAORG'!E61,'BASINFO FÖRSÄKRING'!F61)","v":0},{"$f":"'SKADEINFO FÖRSÄKRING'!H61","v":0},{"$f":"'SKADEINFO FÖRSÄKRING'!N61","v":0},{"$f":"'SKADEINFO VAORG'!G61","v":"Välj…"}]
[{"$f":"'BASINFO FÖRSÄKRING'!G62","v":0},{"$f":"'SKADEINFO FÖRSÄKRING'!C62","v":"00:00:00"},{"$f":"IF('BASINFO FÖRSÄKRING'!A62=0,'BASINFO VAORG'!A62,'BASINFO FÖRSÄKRING'!A62)","v":0},{"$f":"IF('BASINFO FÖRSÄKRING'!B62=0,'BASINFO VAORG'!B62,'BASINFO FÖRSÄKRING'!B62)","v":0},{"$f":"IF('BASINFO FÖRSÄKRING'!D62=0,'BASINFO VAORG'!C62,'BASINFO FÖRSÄKRING'!D62)","v":0},{"$f":"IF('BASINFO FÖRSÄKRING'!E62=0,'BASINFO VAORG'!D62,'BASINFO FÖRSÄKRING'!E62)","v":0},{"$f":"IF('BASINFO FÖRSÄKRING'!F62=0,'BASINFO VAORG'!E62,'BASINFO FÖRSÄKRING'!F62)","v":0},{"$f":"'SKADEINFO FÖRSÄKRING'!H62","v":0},{"$f":"'SKADEINFO FÖRSÄKRING'!N62","v":0},{"$f":"'SKADEINFO VAORG'!G62","v":"Välj…"}]
[{"$f":"'BASINFO FÖRSÄKRING'!G63","v":0},{"$f":"'SKADEINFO FÖRSÄKRING'!C63","v":"00:00:00"},{"$f":"IF('BASINFO FÖRSÄKRING'!A63=0,'BASINFO VAORG'!A63,'BASINFO FÖRSÄKRING'!A63)","v":0},{"$f":"IF('BASINFO FÖRSÄKRING'!B63=0,'BASINFO VAORG'!B63,'BASINFO FÖRSÄKRING'!B63)","v":0},{"$f":"IF('BASINFO FÖRSÄKRING'!D63=0,'BASINFO VAORG'!C63,'BASINFO FÖRSÄKRING'!D63)","v":0},{"$f":"IF('BASINFO FÖRSÄKRING'!E63=0,'BASINFO VAORG'!D63,'BASINFO FÖRSÄKRING'!E63)","v":0},{"$f":"IF('BASINFO FÖRSÄKRING'!F63=0,'BASINFO VAORG'!E63,'BASINFO FÖRSÄKRING'!F63)","v":0},{"$f":"'SKADEINFO FÖRSÄKRING'!H63","v":0},{"$f":"'SKADEINFO FÖRSÄKRING'!N63","v":0},{"$f":"'SKADEINFO VAORG'!G63","v":"Välj…"}]
[{"$f":"'BASINFO FÖRSÄKRING'!G64","v":0},{"$f":"'SKADEINFO FÖRSÄKRING'!C64","v":"00:00:00"},{"$f":"IF('BASINFO FÖRSÄKRING'!A64=0,'BASINFO VAORG'!A64,'BASINFO FÖRSÄKRING'!A64)","v":0},{"$f":"IF('BASINFO FÖRSÄKRING'!B64=0,'BASINFO VAORG'!B64,'BASINFO FÖRSÄKRING'!B64)","v":0},{"$f":"IF('BASINFO FÖRSÄKRING'!D64=0,'BASINFO VAORG'!C64,'BASINFO FÖRSÄKRING'!D64)","v":0},{"$f":"IF('BASINFO FÖRSÄKRING'!E64=0,'BASINFO VAORG'!D64,'BASINFO FÖRSÄKRING'!E64)","v":0},{"$f":"IF('BASINFO FÖRSÄKRING'!F64=0,'BASINFO VAORG'!E64,'BASINFO FÖRSÄKRING'!F64)","v":0},{"$f":"'SKADEINFO FÖRSÄKRING'!H64","v":0},{"$f":"'SKADEINFO FÖRSÄKRING'!N64","v":0},{"$f":"'SKADEINFO VAORG'!G64","v":"Välj…"}]
[{"$f":"'BASINFO FÖRSÄKRING'!G65","v":0},{"$f":"'SKADEINFO FÖRSÄKRING'!C65","v":"00:00:00"},{"$f":"IF('BASINFO FÖRSÄKRING'!A65=0,'BASINFO VAORG'!A65,'BASINFO FÖRSÄKRING'!A65)","v":0},{"$f":"IF('BASINFO FÖRSÄKRING'!B65=0,'BASINFO VAORG'!B65,'BASINFO FÖRSÄKRING'!B65)","v":0},{"$f":"IF('BASINFO FÖRSÄKRING'!D65=0,'BASINFO VAORG'!C65,'BASINFO FÖRSÄKRING'!D65)","v":0},{"$f":"IF('BASINFO FÖRSÄKRING'!E65=0,'BASINFO VAORG'!D65,'BASINFO FÖRSÄKRING'!E65)","v":0},{"$f":"IF('BASINFO FÖRSÄKRING'!F65=0,'BASINFO VAORG'!E65,'BASINFO FÖRSÄKRING'!F65)","v":0},{"$f":"'SKADEINFO FÖRSÄKRING'!H65","v":0},{"$f":"'SKADEINFO FÖRSÄKRING'!N65","v":0},{"$f":"'SKADEINFO VAORG'!G65","v":"Välj…"}]
[{"$f":"'BASINFO FÖRSÄKRING'!G66","v":0},{"$f":"'SKADEINFO FÖRSÄKRING'!C66","v":"00:00:00"},{"$f":"IF('BASINFO FÖRSÄKRING'!A66=0,'BASINFO VAORG'!A66,'BASINFO FÖRSÄKRING'!A66)","v":0},{"$f":"IF('BASINFO FÖRSÄKRING'!B66=0,'BASINFO VAORG'!B66,'BASINFO FÖRSÄKRING'!B66)","v":0},{"$f":"IF('BASINFO FÖRSÄKRING'!D66=0,'BASINFO VAORG'!C66,'BASINFO FÖRSÄKRING'!D66)","v":0},{"$f":"IF('BASINFO FÖRSÄKRING'!E66=0,'BASINFO VAORG'!D66,'BASINFO FÖRSÄKRING'!E66)","v":0},{"$f":"IF('BASINFO FÖRSÄKRING'!F66=0,'BASINFO VAORG'!E66,'BASINFO FÖRSÄKRING'!F66)","v":0},{"$f":"'SKADEINFO FÖRSÄKRING'!H66","v":0},{"$f":"'SKADEINFO FÖRSÄKRING'!N66","v":0},{"$f":"'SKADEINFO VAORG'!G66","v":"Välj…"}]
[{"$f":"'BASINFO FÖRSÄKRING'!G67","v":0},{"$f":"'SKADEINFO FÖRSÄKRING'!C67","v":"00:00:00"},{"$f":"IF('BASINFO FÖRSÄKRING'!A67=0,'BASINFO VAORG'!A67,'BASINFO FÖRSÄKRING'!A67)","v":0},{"$f":"IF('BASINFO FÖRSÄKRING'!B67=0,'BASINFO VAORG'!B67,'BASINFO FÖRSÄKRING'!B67)","v":0},{"$f":"IF('BASINFO FÖRSÄKRING'!D67=0,'BASINFO VAORG'!C67,'BASINFO FÖRSÄKRING'!D67)","v":0},{"$f":"IF('BASINFO FÖRSÄKRING'!E67=0,'BASINFO VAORG'!D67,'BASINFO FÖRSÄKRING'!E67)","v":0},{"$f":"IF('BASINFO FÖRSÄKRING'!F67=0,'BASINFO VAORG'!E67,'BASINFO FÖRSÄKRING'!F67)","v":0},{"$f":"'SKADEINFO FÖRSÄKRING'!H67","v":0},{"$f":"'SKADEINFO FÖRSÄKRING'!N67","v":0},{"$f":"'SKADEINFO VAORG'!G67","v":"Välj…"}]
[{"$f":"'BASINFO FÖRSÄKRING'!G68","v":0},{"$f":"'SKADEINFO FÖRSÄKRING'!C68","v":"00:00:00"},{"$f":"IF('BASINFO FÖRSÄKRING'!A68=0,'BASINFO VAORG'!A68,'BASINFO FÖRSÄKRING'!A68)","v":0},{"$f":"IF('BASINFO FÖRSÄKRING'!B68=0,'BASINFO VAORG'!B68,'BASINFO FÖRSÄKRING'!B68)","v":0},{"$f":"IF('BASINFO FÖRSÄKRING'!D68=0,'BASINFO VAORG'!C68,'BASINFO FÖRSÄKRING'!D68)","v":0},{"$f":"IF('BASINFO FÖRSÄKRING'!E68=0,'BASINFO VAORG'!D68,'BASINFO FÖRSÄKRING'!E68)","v":0},{"$f":"IF('BASINFO FÖRSÄKRING'!F68=0,'BASINFO VAORG'!E68,'BASINFO FÖRSÄKRING'!F68)","v":0},{"$f":"'SKADEINFO FÖRSÄKRING'!H68","v":0},{"$f":"'SKADEINFO FÖRSÄKRING'!N68","v":0},{"$f":"'SKADEINFO VAORG'!G68","v":"Välj…"}]
[{"$f":"'BASINFO FÖRSÄKRING'!G69","v":0},{"$f":"'SKADEINFO FÖRSÄKRING'!C69","v":"00:00:00"},{"$f":"IF('BASINFO FÖRSÄKRING'!A69=0,'BASINFO VAORG'!A69,'BASINFO FÖRSÄKRING'!A69)","v":0},{"$f":"IF('BASINFO FÖRSÄKRING'!B69=0,'BASINFO VAORG'!B69,'BASINFO FÖRSÄKRING'!B69)","v":0},{"$f":"IF('BASINFO FÖRSÄKRING'!D69=0,'BASINFO VAORG'!C69,'BASINFO FÖRSÄKRING'!D69)","v":0},{"$f":"IF('BASINFO FÖRSÄKRING'!E69=0,'BASINFO VAORG'!D69,'BASINFO FÖRSÄKRING'!E69)","v":0},{"$f":"IF('BASINFO FÖRSÄKRING'!F69=0,'BASINFO VAORG'!E69,'BASINFO FÖRSÄKRING'!F69)","v":0},{"$f":"'SKADEINFO FÖRSÄKRING'!H69","v":0},{"$f":"'SKADEINFO FÖRSÄKRING'!N69","v":0},{"$f":"'SKADEINFO VAORG'!G69","v":"Välj…"}]
[{"$f":"'BASINFO FÖRSÄKRING'!G70","v":0},{"$f":"'SKADEINFO FÖRSÄKRING'!C70","v":"00:00:00"},{"$f":"IF('BASINFO FÖRSÄKRING'!A70=0,'BASINFO VAORG'!A70,'BASINFO FÖRSÄKRING'!A70)","v":0},{"$f":"IF('BASINFO FÖRSÄKRING'!B70=0,'BASINFO VAORG'!B70,'BASINFO FÖRSÄKRING'!B70)","v":0},{"$f":"IF('BASINFO FÖRSÄKRING'!D70=0,'BASINFO VAORG'!C70,'BASINFO FÖRSÄKRING'!D70)","v":0},{"$f":"IF('BASINFO FÖRSÄKRING'!E70=0,'BASINFO VAORG'!D70,'BASINFO FÖRSÄKRING'!E70)","v":0},{"$f":"IF('BASINFO FÖRSÄKRING'!F70=0,'BASINFO VAORG'!E70,'BASINFO FÖRSÄKRING'!F70)","v":0},{"$f":"'SKADEINFO FÖRSÄKRING'!H70","v":0},{"$f":"'SKADEINFO FÖRSÄKRING'!N70","v":0},{"$f":"'SKADEINFO VAORG'!G70","v":"Välj…"}]
[{"$f":"'BASINFO FÖRSÄKRING'!G71","v":0},{"$f":"'SKADEINFO FÖRSÄKRING'!C71","v":"00:00:00"},{"$f":"IF('BASINFO FÖRSÄKRING'!A71=0,'BASINFO VAORG'!A71,'BASINFO FÖRSÄKRING'!A71)","v":0},{"$f":"IF('BASINFO FÖRSÄKRING'!B71=0,'BASINFO VAORG'!B71,'BASINFO FÖRSÄKRING'!B71)","v":0},{"$f":"IF('BASINFO FÖRSÄKRING'!D71=0,'BASINFO VAORG'!C71,'BASINFO FÖRSÄKRING'!D71)","v":0},{"$f":"IF('BASINFO FÖRSÄKRING'!E71=0,'BASINFO VAORG'!D71,'BASINFO FÖRSÄKRING'!E71)","v":0},{"$f":"IF('BASINFO FÖRSÄKRING'!F71=0,'BASINFO VAORG'!E71,'BASINFO FÖRSÄKRING'!F71)","v":0},{"$f":"'SKADEINFO FÖRSÄKRING'!H71","v":0},{"$f":"'SKADEINFO FÖRSÄKRING'!N71","v":0},{"$f":"'SKADEINFO VAORG'!G71","v":"Välj…"}]
[{"$f":"'BASINFO FÖRSÄKRING'!G72","v":0},{"$f":"'SKADEINFO FÖRSÄKRING'!C72","v":"00:00:00"},{"$f":"IF('BASINFO FÖRSÄKRING'!A72=0,'BASINFO VAORG'!A72,'BASINFO FÖRSÄKRING'!A72)","v":0},{"$f":"IF('BASINFO FÖRSÄKRING'!B72=0,'BASINFO VAORG'!B72,'BASINFO FÖRSÄKRING'!B72)","v":0},{"$f":"IF('BASINFO FÖRSÄKRING'!D72=0,'BASINFO VAORG'!C72,'BASINFO FÖRSÄKRING'!D72)","v":0},{"$f":"IF('BASINFO FÖRSÄKRING'!E72=0,'BASINFO VAORG'!D72,'BASINFO FÖRSÄKRING'!E72)","v":0},{"$f":"IF('BASINFO FÖRSÄKRING'!F72=0,'BASINFO VAORG'!E72,'BASINFO FÖRSÄKRING'!F72)","v":0},{"$f":"'SKADEINFO FÖRSÄKRING'!H72","v":0},{"$f":"'SKADEINFO FÖRSÄKRING'!N72","v":0},{"$f":"'SKADEINFO VAORG'!G72","v":"Välj…"}]
[{"$f":"'BASINFO FÖRSÄKRING'!G73","v":0},{"$f":"'SKADEINFO FÖRSÄKRING'!C73","v":"00:00:00"},{"$f":"IF('BASINFO FÖRSÄKRING'!A73=0,'BASINFO VAORG'!A73,'BASINFO FÖRSÄKRING'!A73)","v":0},{"$f":"IF('BASINFO FÖRSÄKRING'!B73=0,'BASINFO VAORG'!B73,'BASINFO FÖRSÄKRING'!B73)","v":0},{"$f":"IF('BASINFO FÖRSÄKRING'!D73=0,'BASINFO VAORG'!C73,'BASINFO FÖRSÄKRING'!D73)","v":0},{"$f":"IF('BASINFO FÖRSÄKRING'!E73=0,'BASINFO VAORG'!D73,'BASINFO FÖRSÄKRING'!E73)","v":0},{"$f":"IF('BASINFO FÖRSÄKRING'!F73=0,'BASINFO VAORG'!E73,'BASINFO FÖRSÄKRING'!F73)","v":0},{"$f":"'SKADEINFO FÖRSÄKRING'!H73","v":0},{"$f":"'SKADEINFO FÖRSÄKRING'!N73","v":0},{"$f":"'SKADEINFO VAORG'!G73","v":"Välj…"}]
[{"$f":"'BASINFO FÖRSÄKRING'!G74","v":0},{"$f":"'SKADEINFO FÖRSÄKRING'!C74","v":"00:00:00"},{"$f":"IF('BASINFO FÖRSÄKRING'!A74=0,'BASINFO VAORG'!A74,'BASINFO FÖRSÄKRING'!A74)","v":0},{"$f":"IF('BASINFO FÖRSÄKRING'!B74=0,'BASINFO VAORG'!B74,'BASINFO FÖRSÄKRING'!B74)","v":0},{"$f":"IF('BASINFO FÖRSÄKRING'!D74=0,'BASINFO VAORG'!C74,'BASINFO FÖRSÄKRING'!D74)","v":0},{"$f":"IF('BASINFO FÖRSÄKRING'!E74=0,'BASINFO VAORG'!D74,'BASINFO FÖRSÄKRING'!E74)","v":0},{"$f":"IF('BASINFO FÖRSÄKRING'!F74=0,'BASINFO VAORG'!E74,'BASINFO FÖRSÄKRING'!F74)","v":0},{"$f":"'SKADEINFO FÖRSÄKRING'!H74","v":0},{"$f":"'SKADEINFO FÖRSÄKRING'!N74","v":0},{"$f":"'SKADEINFO VAORG'!G74","v":"Välj…"}]
[{"$f":"'BASINFO FÖRSÄKRING'!G75","v":0},{"$f":"'SKADEINFO FÖRSÄKRING'!C75","v":"00:00:00"},{"$f":"IF('BASINFO FÖRSÄKRING'!A75=0,'BASINFO VAORG'!A75,'BASINFO FÖRSÄKRING'!A75)","v":0},{"$f":"IF('BASINFO FÖRSÄKRING'!B75=0,'BASINFO VAORG'!B75,'BASINFO FÖRSÄKRING'!B75)","v":0},{"$f":"IF('BASINFO FÖRSÄKRING'!D75=0,'BASINFO VAORG'!C75,'BASINFO FÖRSÄKRING'!D75)","v":0},{"$f":"IF('BASINFO FÖRSÄKRING'!E75=0,'BASINFO VAORG'!D75,'BASINFO FÖRSÄKRING'!E75)","v":0},{"$f":"IF('BASINFO FÖRSÄKRING'!F75=0,'BASINFO VAORG'!E75,'BASINFO FÖRSÄKRING'!F75)","v":0},{"$f":"'SKADEINFO FÖRSÄKRING'!H75","v":0},{"$f":"'SKADEINFO FÖRSÄKRING'!N75","v":0},{"$f":"'SKADEINFO VAORG'!G75","v":"Välj…"}]
[{"$f":"'BASINFO FÖRSÄKRING'!G76","v":0},{"$f":"'SKADEINFO FÖRSÄKRING'!C76","v":"00:00:00"},{"$f":"IF('BASINFO FÖRSÄKRING'!A76=0,'BASINFO VAORG'!A76,'BASINFO FÖRSÄKRING'!A76)","v":0},{"$f":"IF('BASINFO FÖRSÄKRING'!B76=0,'BASINFO VAORG'!B76,'BASINFO FÖRSÄKRING'!B76)","v":0},{"$f":"IF('BASINFO FÖRSÄKRING'!D76=0,'BASINFO VAORG'!C76,'BASINFO FÖRSÄKRING'!D76)","v":0},{"$f":"IF('BASINFO FÖRSÄKRING'!E76=0,'BASINFO VAORG'!D76,'BASINFO FÖRSÄKRING'!E76)","v":0},{"$f":"IF('BASINFO FÖRSÄKRING'!F76=0,'BASINFO VAORG'!E76,'BASINFO FÖRSÄKRING'!F76)","v":0},{"$f":"'SKADEINFO FÖRSÄKRING'!H76","v":0},{"$f":"'SKADEINFO FÖRSÄKRING'!N76","v":0},{"$f":"'SKADEINFO VAORG'!G76","v":"Välj…"}]
[{"$f":"'BASINFO FÖRSÄKRING'!G77","v":0},{"$f":"'SKADEINFO FÖRSÄKRING'!C77","v":"00:00:00"},{"$f":"IF('BASINFO FÖRSÄKRING'!A77=0,'BASINFO VAORG'!A77,'BASINFO FÖRSÄKRING'!A77)","v":0},{"$f":"IF('BASINFO FÖRSÄKRING'!B77=0,'BASINFO VAORG'!B77,'BASINFO FÖRSÄKRING'!B77)","v":0},{"$f":"IF('BASINFO FÖRSÄKRING'!D77=0,'BASINFO VAORG'!C77,'BASINFO FÖRSÄKRING'!D77)","v":0},{"$f":"IF('BASINFO FÖRSÄKRING'!E77=0,'BASINFO VAORG'!D77,'BASINFO FÖRSÄKRING'!E77)","v":0},{"$f":"IF('BASINFO FÖRSÄKRING'!F77=0,'BASINFO VAORG'!E77,'BASINFO FÖRSÄKRING'!F77)","v":0},{"$f":"'SKADEINFO FÖRSÄKRING'!H77","v":0},{"$f":"'SKADEINFO FÖRSÄKRING'!N77","v":0},{"$f":"'SKADEINFO VAORG'!G77","v":"Välj…"}]
[{"$f":"'BASINFO FÖRSÄKRING'!G78","v":0},{"$f":"'SKADEINFO FÖRSÄKRING'!C78","v":"00:00:00"},{"$f":"IF('BASINFO FÖRSÄKRING'!A78=0,'BASINFO VAORG'!A78,'BASINFO FÖRSÄKRING'!A78)","v":0},{"$f":"IF('BASINFO FÖRSÄKRING'!B78=0,'BASINFO VAORG'!B78,'BASINFO FÖRSÄKRING'!B78)","v":0},{"$f":"IF('BASINFO FÖRSÄKRING'!D78=0,'BASINFO VAORG'!C78,'BASINFO FÖRSÄKRING'!D78)","v":0},{"$f":"IF('BASINFO FÖRSÄKRING'!E78=0,'BASINFO VAORG'!D78,'BASINFO FÖRSÄKRING'!E78)","v":0},{"$f":"IF('BASINFO FÖRSÄKRING'!F78=0,'BASINFO VAORG'!E78,'BASINFO FÖRSÄKRING'!F78)","v":0},{"$f":"'SKADEINFO FÖRSÄKRING'!H78","v":0},{"$f":"'SKADEINFO FÖRSÄKRING'!N78","v":0},{"$f":"'SKADEINFO VAORG'!G78","v":"Välj…"}]
[{"$f":"'BASINFO FÖRSÄKRING'!G79","v":0},{"$f":"'SKADEINFO FÖRSÄKRING'!C79","v":"00:00:00"},{"$f":"IF('BASINFO FÖRSÄKRING'!A79=0,'BASINFO VAORG'!A79,'BASINFO FÖRSÄKRING'!A79)","v":0},{"$f":"IF('BASINFO FÖRSÄKRING'!B79=0,'BASINFO VAORG'!B79,'BASINFO FÖRSÄKRING'!B79)","v":0},{"$f":"IF('BASINFO FÖRSÄKRING'!D79=0,'BASINFO VAORG'!C79,'BASINFO FÖRSÄKRING'!D79)","v":0},{"$f":"IF('BASINFO FÖRSÄKRING'!E79=0,'BASINFO VAORG'!D79,'BASINFO FÖRSÄKRING'!E79)","v":0},{"$f":"IF('BASINFO FÖRSÄKRING'!F79=0,'BASINFO VAORG'!E79,'BASINFO FÖRSÄKRING'!F79)","v":0},{"$f":"'SKADEINFO FÖRSÄKRING'!H79","v":0},{"$f":"'SKADEINFO FÖRSÄKRING'!N79","v":0},{"$f":"'SKADEINFO VAORG'!G79","v":"Välj…"}]
[{"$f":"'BASINFO FÖRSÄKRING'!G80","v":0},{"$f":"'SKADEINFO FÖRSÄKRING'!C80","v":"00:00:00"},{"$f":"IF('BASINFO FÖRSÄKRING'!A80=0,'BASINFO VAORG'!A80,'BASINFO FÖRSÄKRING'!A80)","v":0},{"$f":"IF('BASINFO FÖRSÄKRING'!B80=0,'BASINFO VAORG'!B80,'BASINFO FÖRSÄKRING'!B80)","v":0},{"$f":"IF('BASINFO FÖRSÄKRING'!D80=0,'BASINFO VAORG'!C80,'BASINFO FÖRSÄKRING'!D80)","v":0},{"$f":"IF('BASINFO FÖRSÄKRING'!E80=0,'BASINFO VAORG'!D80,'BASINFO FÖRSÄKRING'!E80)","v":0},{"$f":"IF('BASINFO FÖRSÄKRING'!F80=0,'BASINFO VAORG'!E80,'BASINFO FÖRSÄKRING'!F80)","v":0},{"$f":"'SKADEINFO FÖRSÄKRING'!H80","v":0},{"$f":"'SKADEINFO FÖRSÄKRING'!N80","v":0},{"$f":"'SKADEINFO VAORG'!G80","v":"Välj…"}]
[{"$f":"'BASINFO FÖRSÄKRING'!G81","v":0},{"$f":"'SKADEINFO FÖRSÄKRING'!C81","v":"00:00:00"},{"$f":"IF('BASINFO FÖRSÄKRING'!A81=0,'BASINFO VAORG'!A81,'BASINFO FÖRSÄKRING'!A81)","v":0},{"$f":"IF('BASINFO FÖRSÄKRING'!B81=0,'BASINFO VAORG'!B81,'BASINFO FÖRSÄKRING'!B81)","v":0},{"$f":"IF('BASINFO FÖRSÄKRING'!D81=0,'BASINFO VAORG'!C81,'BASINFO FÖRSÄKRING'!D81)","v":0},{"$f":"IF('BASINFO FÖRSÄKRING'!E81=0,'BASINFO VAORG'!D81,'BASINFO FÖRSÄKRING'!E81)","v":0},{"$f":"IF('BASINFO FÖRSÄKRING'!F81=0,'BASINFO VAORG'!E81,'BASINFO FÖRSÄKRING'!F81)","v":0},{"$f":"'SKADEINFO FÖRSÄKRING'!H81","v":0},{"$f":"'SKADEINFO FÖRSÄKRING'!N81","v":0},{"$f":"'SKADEINFO VAORG'!G81","v":"Välj…"}]
[{"$f":"'BASINFO FÖRSÄKRING'!G82","v":0},{"$f":"'SKADEINFO FÖRSÄKRING'!C82","v":"00:00:00"},{"$f":"IF('BASINFO FÖRSÄKRING'!A82=0,'BASINFO VAORG'!A82,'BASINFO FÖRSÄKRING'!A82)","v":0},{"$f":"IF('BASINFO FÖRSÄKRING'!B82=0,'BASINFO VAORG'!B82,'BASINFO FÖRSÄKRING'!B82)","v":0},{"$f":"IF('BASINFO FÖRSÄKRING'!D82=0,'BASINFO VAORG'!C82,'BASINFO FÖRSÄKRING'!D82)","v":0},{"$f":"IF('BASINFO FÖRSÄKRING'!E82=0,'BASINFO VAORG'!D82,'BASINFO FÖRSÄKRING'!E82)","v":0},{"$f":"IF('BASINFO FÖRSÄKRING'!F82=0,'BASINFO VAORG'!E82,'BASINFO FÖRSÄKRING'!F82)","v":0},{"$f":"'SKADEINFO FÖRSÄKRING'!H82","v":0},{"$f":"'SKADEINFO FÖRSÄKRING'!N82","v":0},{"$f":"'SKADEINFO VAORG'!G82","v":"Välj…"}]
[{"$f":"'BASINFO FÖRSÄKRING'!G83","v":0},{"$f":"'SKADEINFO FÖRSÄKRING'!C83","v":"00:00:00"},{"$f":"IF('BASINFO FÖRSÄKRING'!A83=0,'BASINFO VAORG'!A83,'BASINFO FÖRSÄKRING'!A83)","v":0},{"$f":"IF('BASINFO FÖRSÄKRING'!B83=0,'BASINFO VAORG'!B83,'BASINFO FÖRSÄKRING'!B83)","v":0},{"$f":"IF('BASINFO FÖRSÄKRING'!D83=0,'BASINFO VAORG'!C83,'BASINFO FÖRSÄKRING'!D83)","v":0},{"$f":"IF('BASINFO FÖRSÄKRING'!E83=0,'BASINFO VAORG'!D83,'BASINFO FÖRSÄKRING'!E83)","v":0},{"$f":"IF('BASINFO FÖRSÄKRING'!F83=0,'BASINFO VAORG'!E83,'BASINFO FÖRSÄKRING'!F83)","v":0},{"$f":"'SKADEINFO FÖRSÄKRING'!H83","v":0},{"$f":"'SKADEINFO FÖRSÄKRING'!N83","v":0},{"$f":"'SKADEINFO VAORG'!G83","v":"Välj…"}]
[{"$f":"'BASINFO FÖRSÄKRING'!G84","v":0},{"$f":"'SKADEINFO FÖRSÄKRING'!C84","v":"00:00:00"},{"$f":"IF('BASINFO FÖRSÄKRING'!A84=0,'BASINFO VAORG'!A84,'BASINFO FÖRSÄKRING'!A84)","v":0},{"$f":"IF('BASINFO FÖRSÄKRING'!B84=0,'BASINFO VAORG'!B84,'BASINFO FÖRSÄKRING'!B84)","v":0},{"$f":"IF('BASINFO FÖRSÄKRING'!D84=0,'BASINFO VAORG'!C84,'BASINFO FÖRSÄKRING'!D84)","v":0},{"$f":"IF('BASINFO FÖRSÄKRING'!E84=0,'BASINFO VAORG'!D84,'BASINFO FÖRSÄKRING'!E84)","v":0},{"$f":"IF('BASINFO FÖRSÄKRING'!F84=0,'BASINFO VAORG'!E84,'BASINFO FÖRSÄKRING'!F84)","v":0},{"$f":"'SKADEINFO FÖRSÄKRING'!H84","v":0},{"$f":"'SKADEINFO FÖRSÄKRING'!N84","v":0},{"$f":"'SKADEINFO VAORG'!G84","v":"Välj…"}]
[{"$f":"'BASINFO FÖRSÄKRING'!G85","v":0},{"$f":"'SKADEINFO FÖRSÄKRING'!C85","v":"00:00:00"},{"$f":"IF('BASINFO FÖRSÄKRING'!A85=0,'BASINFO VAORG'!A85,'BASINFO FÖRSÄKRING'!A85)","v":0},{"$f":"IF('BASINFO FÖRSÄKRING'!B85=0,'BASINFO VAORG'!B85,'BASINFO FÖRSÄKRING'!B85)","v":0},{"$f":"IF('BASINFO FÖRSÄKRING'!D85=0,'BASINFO VAORG'!C85,'BASINFO FÖRSÄKRING'!D85)","v":0},{"$f":"IF('BASINFO FÖRSÄKRING'!E85=0,'BASINFO VAORG'!D85,'BASINFO FÖRSÄKRING'!E85)","v":0},{"$f":"IF('BASINFO FÖRSÄKRING'!F85=0,'BASINFO VAORG'!E85,'BASINFO FÖRSÄKRING'!F85)","v":0},{"$f":"'SKADEINFO FÖRSÄKRING'!H85","v":0},{"$f":"'SKADEINFO FÖRSÄKRING'!N85","v":0},{"$f":"'SKADEINFO VAORG'!G85","v":"Välj…"}]
[{"$f":"'BASINFO FÖRSÄKRING'!G86","v":0},{"$f":"'SKADEINFO FÖRSÄKRING'!C86","v":"00:00:00"},{"$f":"IF('BASINFO FÖRSÄKRING'!A86=0,'BASINFO VAORG'!A86,'BASINFO FÖRSÄKRING'!A86)","v":0},{"$f":"IF('BASINFO FÖRSÄKRING'!B86=0,'BASINFO VAORG'!B86,'BASINFO FÖRSÄKRING'!B86)","v":0},{"$f":"IF('BASINFO FÖRSÄKRING'!D86=0,'BASINFO VAORG'!C86,'BASINFO FÖRSÄKRING'!D86)","v":0},{"$f":"IF('BASINFO FÖRSÄKRING'!E86=0,'BASINFO VAORG'!D86,'BASINFO FÖRSÄKRING'!E86)","v":0},{"$f":"IF('BASINFO FÖRSÄKRING'!F86=0,'BASINFO VAORG'!E86,'BASINFO FÖRSÄKRING'!F86)","v":0},{"$f":"'SKADEINFO FÖRSÄKRING'!H86","v":0},{"$f":"'SKADEINFO FÖRSÄKRING'!N86","v":0},{"$f":"'SKADEINFO VAORG'!G86","v":"Välj…"}]
[{"$f":"'BASINFO FÖRSÄKRING'!G87","v":0},{"$f":"'SKADEINFO FÖRSÄKRING'!C87","v":"00:00:00"},{"$f":"IF('BASINFO FÖRSÄKRING'!A87=0,'BASINFO VAORG'!A87,'BASINFO FÖRSÄKRING'!A87)","v":0},{"$f":"IF('BASINFO FÖRSÄKRING'!B87=0,'BASINFO VAORG'!B87,'BASINFO FÖRSÄKRING'!B87)","v":0},{"$f":"IF('BASINFO FÖRSÄKRING'!D87=0,'BASINFO VAORG'!C87,'BASINFO FÖRSÄKRING'!D87)","v":0},{"$f":"IF('BASINFO FÖRSÄKRING'!E87=0,'BASINFO VAORG'!D87,'BASINFO FÖRSÄKRING'!E87)","v":0},{"$f":"IF('BASINFO FÖRSÄKRING'!F87=0,'BASINFO VAORG'!E87,'BASINFO FÖRSÄKRING'!F87)","v":0},{"$f":"'SKADEINFO FÖRSÄKRING'!H87","v":0},{"$f":"'SKADEINFO FÖRSÄKRING'!N87","v":0},{"$f":"'SKADEINFO VAORG'!G87","v":"Välj…"}]
[{"$f":"'BASINFO FÖRSÄKRING'!G88","v":0},{"$f":"'SKADEINFO FÖRSÄKRING'!C88","v":"00:00:00"},{"$f":"IF('BASINFO FÖRSÄKRING'!A88=0,'BASINFO VAORG'!A88,'BASINFO FÖRSÄKRING'!A88)","v":0},{"$f":"IF('BASINFO FÖRSÄKRING'!B88=0,'BASINFO VAORG'!B88,'BASINFO FÖRSÄKRING'!B88)","v":0},{"$f":"IF('BASINFO FÖRSÄKRING'!D88=0,'BASINFO VAORG'!C88,'BASINFO FÖRSÄKRING'!D88)","v":0},{"$f":"IF('BASINFO FÖRSÄKRING'!E88=0,'BASINFO VAORG'!D88,'BASINFO FÖRSÄKRING'!E88)","v":0},{"$f":"IF('BASINFO FÖRSÄKRING'!F88=0,'BASINFO VAORG'!E88,'BASINFO FÖRSÄKRING'!F88)","v":0},{"$f":"'SKADEINFO FÖRSÄKRING'!H88","v":0},{"$f":"'SKADEINFO FÖRSÄKRING'!N88","v":0},{"$f":"'SKADEINFO VAORG'!G88","v":"Välj…"}]
[{"$f":"'BASINFO FÖRSÄKRING'!G89","v":0},{"$f":"'SKADEINFO FÖRSÄKRING'!C89","v":"00:00:00"},{"$f":"IF('BASINFO FÖRSÄKRING'!A89=0,'BASINFO VAORG'!A89,'BASINFO FÖRSÄKRING'!A89)","v":0},{"$f":"IF('BASINFO FÖRSÄKRING'!B89=0,'BASINFO VAORG'!B89,'BASINFO FÖRSÄKRING'!B89)","v":0},{"$f":"IF('BASINFO FÖRSÄKRING'!D89=0,'BASINFO VAORG'!C89,'BASINFO FÖRSÄKRING'!D89)","v":0},{"$f":"IF('BASINFO FÖRSÄKRING'!E89=0,'BASINFO VAORG'!D89,'BASINFO FÖRSÄKRING'!E89)","v":0},{"$f":"IF('BASINFO FÖRSÄKRING'!F89=0,'BASINFO VAORG'!E89,'BASINFO FÖRSÄKRING'!F89)","v":0},{"$f":"'SKADEINFO FÖRSÄKRING'!H89","v":0},{"$f":"'SKADEINFO FÖRSÄKRING'!N89","v":0},{"$f":"'SKADEINFO VAORG'!G89","v":"Välj…"}]
[{"$f":"'BASINFO FÖRSÄKRING'!G90","v":0},{"$f":"'SKADEINFO FÖRSÄKRING'!C90","v":"00:00:00"},{"$f":"IF('BASINFO FÖRSÄKRING'!A90=0,'BASINFO VAORG'!A90,'BASINFO FÖRSÄKRING'!A90)","v":0},{"$f":"IF('BASINFO FÖRSÄKRING'!B90=0,'BASINFO VAORG'!B90,'BASINFO FÖRSÄKRING'!B90)","v":0},{"$f":"IF('BASINFO FÖRSÄKRING'!D90=0,'BASINFO VAORG'!C90,'BASINFO FÖRSÄKRING'!D90)","v":0},{"$f":"IF('BASINFO FÖRSÄKRING'!E90=0,'BASINFO VAORG'!D90,'BASINFO FÖRSÄKRING'!E90)","v":0},{"$f":"IF('BASINFO FÖRSÄKRING'!F90=0,'BASINFO VAORG'!E90,'BASINFO FÖRSÄKRING'!F90)","v":0},{"$f":"'SKADEINFO FÖRSÄKRING'!H90","v":0},{"$f":"'SKADEINFO FÖRSÄKRING'!N90","v":0},{"$f":"'SKADEINFO VAORG'!G90","v":"Välj…"}]
[{"$f":"'BASINFO FÖRSÄKRING'!G91","v":0},{"$f":"'SKADEINFO FÖRSÄKRING'!C91","v":"00:00:00"},{"$f":"IF('BASINFO FÖRSÄKRING'!A91=0,'BASINFO VAORG'!A91,'BASINFO FÖRSÄKRING'!A91)","v":0},{"$f":"IF('BASINFO FÖRSÄKRING'!B91=0,'BASINFO VAORG'!B91,'BASINFO FÖRSÄKRING'!B91)","v":0},{"$f":"IF('BASINFO FÖRSÄKRING'!D91=0,'BASINFO VAORG'!C91,'BASINFO FÖRSÄKRING'!D91)","v":0},{"$f":"IF('BASINFO FÖRSÄKRING'!E91=0,'BASINFO VAORG'!D91,'BASINFO FÖRSÄKRING'!E91)","v":0},{"$f":"IF('BASINFO FÖRSÄKRING'!F91=0,'BASINFO VAORG'!E91,'BASINFO FÖRSÄKRING'!F91)","v":0},{"$f":"'SKADEINFO FÖRSÄKRING'!H91","v":0},{"$f":"'SKADEINFO FÖRSÄKRING'!N91","v":0},{"$f":"'SKADEINFO VAORG'!G91","v":"Välj…"}]
[{"$f":"'BASINFO FÖRSÄKRING'!G92","v":0},{"$f":"'SKADEINFO FÖRSÄKRING'!C92","v":"00:00:00"},{"$f":"IF('BASINFO FÖRSÄKRING'!A92=0,'BASINFO VAORG'!A92,'BASINFO FÖRSÄKRING'!A92)","v":0},{"$f":"IF('BASINFO FÖRSÄKRING'!B92=0,'BASINFO VAORG'!B92,'BASINFO FÖRSÄKRING'!B92)","v":0},{"$f":"IF('BASINFO FÖRSÄKRING'!D92=0,'BASINFO VAORG'!C92,'BASINFO FÖRSÄKRING'!D92)","v":0},{"$f":"IF('BASINFO FÖRSÄKRING'!E92=0,'BASINFO VAORG'!D92,'BASINFO FÖRSÄKRING'!E92)","v":0},{"$f":"IF('BASINFO FÖRSÄKRING'!F92=0,'BASINFO VAORG'!E92,'BASINFO FÖRSÄKRING'!F92)","v":0},{"$f":"'SKADEINFO FÖRSÄKRING'!H92","v":0},{"$f":"'SKADEINFO FÖRSÄKRING'!N92","v":0},{"$f":"'SKADEINFO VAORG'!G92","v":"Välj…"}]
[{"$f":"'BASINFO FÖRSÄKRING'!G93","v":0},{"$f":"'SKADEINFO FÖRSÄKRING'!C93","v":"00:00:00"},{"$f":"IF('BASINFO FÖRSÄKRING'!A93=0,'BASINFO VAORG'!A93,'BASINFO FÖRSÄKRING'!A93)","v":0},{"$f":"IF('BASINFO FÖRSÄKRING'!B93=0,'BASINFO VAORG'!B93,'BASINFO FÖRSÄKRING'!B93)","v":0},{"$f":"IF('BASINFO FÖRSÄKRING'!D93=0,'BASINFO VAORG'!C93,'BASINFO FÖRSÄKRING'!D93)","v":0},{"$f":"IF('BASINFO FÖRSÄKRING'!E93=0,'BASINFO VAORG'!D93,'BASINFO FÖRSÄKRING'!E93)","v":0},{"$f":"IF('BASINFO FÖRSÄKRING'!F93=0,'BASINFO VAORG'!E93,'BASINFO FÖRSÄKRING'!F93)","v":0},{"$f":"'SKADEINFO FÖRSÄKRING'!H93","v":0},{"$f":"'SKADEINFO FÖRSÄKRING'!N93","v":0},{"$f":"'SKADEINFO VAORG'!G93","v":"Välj…"}]
[{"$f":"'BASINFO FÖRSÄKRING'!G94","v":0},{"$f":"'SKADEINFO FÖRSÄKRING'!C94","v":"00:00:00"},{"$f":"IF('BASINFO FÖRSÄKRING'!A94=0,'BASINFO VAORG'!A94,'BASINFO FÖRSÄKRING'!A94)","v":0},{"$f":"IF('BASINFO FÖRSÄKRING'!B94=0,'BASINFO VAORG'!B94,'BASINFO FÖRSÄKRING'!B94)","v":0},{"$f":"IF('BASINFO FÖRSÄKRING'!D94=0,'BASINFO VAORG'!C94,'BASINFO FÖRSÄKRING'!D94)","v":0},{"$f":"IF('BASINFO FÖRSÄKRING'!E94=0,'BASINFO VAORG'!D94,'BASINFO FÖRSÄKRING'!E94)","v":0},{"$f":"IF('BASINFO FÖRSÄKRING'!F94=0,'BASINFO VAORG'!E94,'BASINFO FÖRSÄKRING'!F94)","v":0},{"$f":"'SKADEINFO FÖRSÄKRING'!H94","v":0},{"$f":"'SKADEINFO FÖRSÄKRING'!N94","v":0},{"$f":"'SKADEINFO VAORG'!G94","v":"Välj…"}]
[{"$f":"'BASINFO FÖRSÄKRING'!G95","v":0},{"$f":"'SKADEINFO FÖRSÄKRING'!C95","v":"00:00:00"},{"$f":"IF('BASINFO FÖRSÄKRING'!A95=0,'BASINFO VAORG'!A95,'BASINFO FÖRSÄKRING'!A95)","v":0},{"$f":"IF('BASINFO FÖRSÄKRING'!B95=0,'BASINFO VAORG'!B95,'BASINFO FÖRSÄKRING'!B95)","v":0},{"$f":"IF('BASINFO FÖRSÄKRING'!D95=0,'BASINFO VAORG'!C95,'BASINFO FÖRSÄKRING'!D95)","v":0},{"$f":"IF('BASINFO FÖRSÄKRING'!E95=0,'BASINFO VAORG'!D95,'BASINFO FÖRSÄKRING'!E95)","v":0},{"$f":"IF('BASINFO FÖRSÄKRING'!F95=0,'BASINFO VAORG'!E95,'BASINFO FÖRSÄKRING'!F95)","v":0},{"$f":"'SKADEINFO FÖRSÄKRING'!H95","v":0},{"$f":"'SKADEINFO FÖRSÄKRING'!N95","v":0},{"$f":"'SKADEINFO VAORG'!G95","v":"Välj…"}]
[{"$f":"'BASINFO FÖRSÄKRING'!G96","v":0},{"$f":"'SKADEINFO FÖRSÄKRING'!C96","v":"00:00:00"},{"$f":"IF('BASINFO FÖRSÄKRING'!A96=0,'BASINFO VAORG'!A96,'BASINFO FÖRSÄKRING'!A96)","v":0},{"$f":"IF('BASINFO FÖRSÄKRING'!B96=0,'BASINFO VAORG'!B96,'BASINFO FÖRSÄKRING'!B96)","v":0},{"$f":"IF('BASINFO FÖRSÄKRING'!D96=0,'BASINFO VAORG'!C96,'BASINFO FÖRSÄKRING'!D96)","v":0},{"$f":"IF('BASINFO FÖRSÄKRING'!E96=0,'BASINFO VAORG'!D96,'BASINFO FÖRSÄKRING'!E96)","v":0},{"$f":"IF('BASINFO FÖRSÄKRING'!F96=0,'BASINFO VAORG'!E96,'BASINFO FÖRSÄKRING'!F96)","v":0},{"$f":"'SKADEINFO FÖRSÄKRING'!H96","v":0},{"$f":"'SKADEINFO FÖRSÄKRING'!N96","v":0},{"$f":"'SKADEINFO VAORG'!G96","v":"Välj…"}]
[{"$f":"'BASINFO FÖRSÄKRING'!G97","v":0},{"$f":"'SKADEINFO FÖRSÄKRING'!C97","v":"00:00:00"},{"$f":"IF('BASINFO FÖRSÄKRING'!A97=0,'BASINFO VAORG'!A97,'BASINFO FÖRSÄKRING'!A97)","v":0},{"$f":"IF('BASINFO FÖRSÄKRING'!B97=0,'BASINFO VAORG'!B97,'BASINFO FÖRSÄKRING'!B97)","v":0},{"$f":"IF('BASINFO FÖRSÄKRING'!D97=0,'BASINFO VAORG'!C97,'BASINFO FÖRSÄKRING'!D97)","v":0},{"$f":"IF('BASINFO FÖRSÄKRING'!E97=0,'BASINFO VAORG'!D97,'BASINFO FÖRSÄKRING'!E97)","v":0},{"$f":"IF('BASINFO FÖRSÄKRING'!F97=0,'BASINFO VAORG'!E97,'BASINFO FÖRSÄKRING'!F97)","v":0},{"$f":"'SKADEINFO FÖRSÄKRING'!H97","v":0},{"$f":"'SKADEINFO FÖRSÄKRING'!N97","v":0},{"$f":"'SKADEINFO VAORG'!G97","v":"Välj…"}]
[{"$f":"'BASINFO FÖRSÄKRING'!G98","v":0},{"$f":"'SKADEINFO FÖRSÄKRING'!C98","v":"00:00:00"},{"$f":"IF('BASINFO FÖRSÄKRING'!A98=0,'BASINFO VAORG'!A98,'BASINFO FÖRSÄKRING'!A98)","v":0},{"$f":"IF('BASINFO FÖRSÄKRING'!B98=0,'BASINFO VAORG'!B98,'BASINFO FÖRSÄKRING'!B98)","v":0},{"$f":"IF('BASINFO FÖRSÄKRING'!D98=0,'BASINFO VAORG'!C98,'BASINFO FÖRSÄKRING'!D98)","v":0},{"$f":"IF('BASINFO FÖRSÄKRING'!E98=0,'BASINFO VAORG'!D98,'BASINFO FÖRSÄKRING'!E98)","v":0},{"$f":"IF('BASINFO FÖRSÄKRING'!F98=0,'BASINFO VAORG'!E98,'BASINFO FÖRSÄKRING'!F98)","v":0},{"$f":"'SKADEINFO FÖRSÄKRING'!H98","v":0},{"$f":"'SKADEINFO FÖRSÄKRING'!N98","v":0},{"$f":"'SKADEINFO VAORG'!G98","v":"Välj…"}]
[{"$f":"'BASINFO FÖRSÄKRING'!G99","v":0},{"$f":"'SKADEINFO FÖRSÄKRING'!C99","v":"00:00:00"},{"$f":"IF('BASINFO FÖRSÄKRING'!A99=0,'BASINFO VAORG'!A99,'BASINFO FÖRSÄKRING'!A99)","v":0},{"$f":"IF('BASINFO FÖRSÄKRING'!B99=0,'BASINFO VAORG'!B99,'BASINFO FÖRSÄKRING'!B99)","v":0},{"$f":"IF('BASINFO FÖRSÄKRING'!D99=0,'BASINFO VAORG'!C99,'BASINFO FÖRSÄKRING'!D99)","v":0},{"$f":"IF('BASINFO FÖRSÄKRING'!E99=0,'BASINFO VAORG'!D99,'BASINFO FÖRSÄKRING'!E99)","v":0},{"$f":"IF('BASINFO FÖRSÄKRING'!F99=0,'BASINFO VAORG'!E99,'BASINFO FÖRSÄKRING'!F99)","v":0},{"$f":"'SKADEINFO FÖRSÄKRING'!H99","v":0},{"$f":"'SKADEINFO FÖRSÄKRING'!N99","v":0},{"$f":"'SKADEINFO VAORG'!G99","v":"Välj…"}]
[{"$f":"'BASINFO FÖRSÄKRING'!G100","v":0},{"$f":"'SKADEINFO FÖRSÄKRING'!C100","v":"00:00:00"},{"$f":"IF('BASINFO FÖRSÄKRING'!A100=0,'BASINFO VAORG'!A100,'BASINFO FÖRSÄKRING'!A100)","v":0},{"$f":"IF('BASINFO FÖRSÄKRING'!B100=0,'BASINFO VAORG'!B100,'BASINFO FÖRSÄKRING'!B100)","v":0},{"$f":"IF('BASINFO FÖRSÄKRING'!D100=0,'BASINFO VAORG'!C100,'BASINFO FÖRSÄKRING'!D100)","v":0},{"$f":"IF('BASINFO FÖRSÄKRING'!E100=0,'BASINFO VAORG'!D100,'BASINFO FÖRSÄKRING'!E100)","v":0},{"$f":"IF('BASINFO FÖRSÄKRING'!F100=0,'BASINFO VAORG'!E100,'BASINFO FÖRSÄKRING'!F100)","v":0},{"$f":"'SKADEINFO FÖRSÄKRING'!H100","v":0},{"$f":"'SKADEINFO FÖRSÄKRING'!N100","v":0},{"$f":"'SKADEINFO VAORG'!G100","v":"Välj…"}]
[{"$f":"'BASINFO FÖRSÄKRING'!G101","v":0},{"$f":"'SKADEINFO FÖRSÄKRING'!C101","v":"00:00:00"},{"$f":"IF('BASINFO FÖRSÄKRING'!A101=0,'BASINFO VAORG'!A101,'BASINFO FÖRSÄKRING'!A101)","v":0},{"$f":"IF('BASINFO FÖRSÄKRING'!B101=0,'BASINFO VAORG'!B101,'BASINFO FÖRSÄKRING'!B101)","v":0},{"$f":"IF('BASINFO FÖRSÄKRING'!D101=0,'BASINFO VAORG'!C101,'BASINFO FÖRSÄKRING'!D101)","v":0},{"$f":"IF('BASINFO FÖRSÄKRING'!E101=0,'BASINFO VAORG'!D101,'BASINFO FÖRSÄKRING'!E101)","v":0},{"$f":"IF('BASINFO FÖRSÄKRING'!F101=0,'BASINFO VAORG'!E101,'BASINFO FÖRSÄKRING'!F101)","v":0},{"$f":"'SKADEINFO FÖRSÄKRING'!H101","v":0},{"$f":"'SKADEINFO FÖRSÄKRING'!N101","v":0},{"$f":"'SKADEINFO VAORG'!G101","v":"Välj…"}]
[{"$f":"'BASINFO FÖRSÄKRING'!G102","v":0},{"$f":"'SKADEINFO FÖRSÄKRING'!C102","v":"00:00:00"},{"$f":"IF('BASINFO FÖRSÄKRING'!A102=0,'BASINFO VAORG'!A102,'BASINFO FÖRSÄKRING'!A102)","v":0},{"$f":"IF('BASINFO FÖRSÄKRING'!B102=0,'BASINFO VAORG'!B102,'BASINFO FÖRSÄKRING'!B102)","v":0},{"$f":"IF('BASINFO FÖRSÄKRING'!D102=0,'BASINFO VAORG'!C102,'BASINFO FÖRSÄKRING'!D102)","v":0},{"$f":"IF('BASINFO FÖRSÄKRING'!E102=0,'BASINFO VAORG'!D102,'BASINFO FÖRSÄKRING'!E102)","v":0},{"$f":"IF('BASINFO FÖRSÄKRING'!F102=0,'BASINFO VAORG'!E102,'BASINFO FÖRSÄKRING'!F102)","v":0},{"$f":"'SKADEINFO FÖRSÄKRING'!H102","v":0},{"$f":"'SKADEINFO FÖRSÄKRING'!N102","v":0},{"$f":"'SKADEINFO VAORG'!G102","v":"Välj…"}]
[{"$f":"'BASINFO FÖRSÄKRING'!G103","v":0},{"$f":"'SKADEINFO FÖRSÄKRING'!C103","v":"00:00:00"},{"$f":"IF('BASINFO FÖRSÄKRING'!A103=0,'BASINFO VAORG'!A103,'BASINFO FÖRSÄKRING'!A103)","v":0},{"$f":"IF('BASINFO FÖRSÄKRING'!B103=0,'BASINFO VAORG'!B103,'BASINFO FÖRSÄKRING'!B103)","v":0},{"$f":"IF('BASINFO FÖRSÄKRING'!D103=0,'BASINFO VAORG'!C103,'BASINFO FÖRSÄKRING'!D103)","v":0},{"$f":"IF('BASINFO FÖRSÄKRING'!E103=0,'BASINFO VAORG'!D103,'BASINFO FÖRSÄKRING'!E103)","v":0},{"$f":"IF('BASINFO FÖRSÄKRING'!F103=0,'BASINFO VAORG'!E103,'BASINFO FÖRSÄKRING'!F103)","v":0},{"$f":"'SKADEINFO FÖRSÄKRING'!H103","v":0},{"$f":"'SKADEINFO FÖRSÄKRING'!N103","v":0},{"$f":"'SKADEINFO VAORG'!G103","v":"Välj…"}]
[{"$f":"'BASINFO FÖRSÄKRING'!G104","v":0},{"$f":"'SKADEINFO FÖRSÄKRING'!C104","v":"00:00:00"},{"$f":"IF('BASINFO FÖRSÄKRING'!A104=0,'BASINFO VAORG'!A104,'BASINFO FÖRSÄKRING'!A104)","v":0},{"$f":"IF('BASINFO FÖRSÄKRING'!B104=0,'BASINFO VAORG'!B104,'BASINFO FÖRSÄKRING'!B104)","v":0},{"$f":"IF('BASINFO FÖRSÄKRING'!D104=0,'BASINFO VAORG'!C104,'BASINFO FÖRSÄKRING'!D104)","v":0},{"$f":"IF('BASINFO FÖRSÄKRING'!E104=0,'BASINFO VAORG'!D104,'BASINFO FÖRSÄKRING'!E104)","v":0},{"$f":"IF('BASINFO FÖRSÄKRING'!F104=0,'BASINFO VAORG'!E104,'BASINFO FÖRSÄKRING'!F104)","v":0},{"$f":"'SKADEINFO FÖRSÄKRING'!H104","v":0},{"$f":"'SKADEINFO FÖRSÄKRING'!N104","v":0},{"$f":"'SKADEINFO VAORG'!G104","v":"Välj…"}]
[{"$f":"'BASINFO FÖRSÄKRING'!G105","v":0},{"$f":"'SKADEINFO FÖRSÄKRING'!C105","v":"00:00:00"},{"$f":"IF('BASINFO FÖRSÄKRING'!A105=0,'BASINFO VAORG'!A105,'BASINFO FÖRSÄKRING'!A105)","v":0},{"$f":"IF('BASINFO FÖRSÄKRING'!B105=0,'BASINFO VAORG'!B105,'BASINFO FÖRSÄKRING'!B105)","v":0},{"$f":"IF('BASINFO FÖRSÄKRING'!D105=0,'BASINFO VAORG'!C105,'BASINFO FÖRSÄKRING'!D105)","v":0},{"$f":"IF('BASINFO FÖRSÄKRING'!E105=0,'BASINFO VAORG'!D105,'BASINFO FÖRSÄKRING'!E105)","v":0},{"$f":"IF('BASINFO FÖRSÄKRING'!F105=0,'BASINFO VAORG'!E105,'BASINFO FÖRSÄKRING'!F105)","v":0},{"$f":"'SKADEINFO FÖRSÄKRING'!H105","v":0},{"$f":"'SKADEINFO FÖRSÄKRING'!N105","v":0},{"$f":"'SKADEINFO VAORG'!G105","v":"Välj…"}]
[{"$f":"'BASINFO FÖRSÄKRING'!G106","v":0},{"$f":"'SKADEINFO FÖRSÄKRING'!C106","v":"00:00:00"},{"$f":"IF('BASINFO FÖRSÄKRING'!A106=0,'BASINFO VAORG'!A106,'BASINFO FÖRSÄKRING'!A106)","v":0},{"$f":"IF('BASINFO FÖRSÄKRING'!B106=0,'BASINFO VAORG'!B106,'BASINFO FÖRSÄKRING'!B106)","v":0},{"$f":"IF('BASINFO FÖRSÄKRING'!D106=0,'BASINFO VAORG'!C106,'BASINFO FÖRSÄKRING'!D106)","v":0},{"$f":"IF('BASINFO FÖRSÄKRING'!E106=0,'BASINFO VAORG'!D106,'BASINFO FÖRSÄKRING'!E106)","v":0},{"$f":"IF('BASINFO FÖRSÄKRING'!F106=0,'BASINFO VAORG'!E106,'BASINFO FÖRSÄKRING'!F106)","v":0},{"$f":"'SKADEINFO FÖRSÄKRING'!H106","v":0},{"$f":"'SKADEINFO FÖRSÄKRING'!N106","v":0},{"$f":"'SKADEINFO VAORG'!G106","v":"Välj…"}]
[{"$f":"'BASINFO FÖRSÄKRING'!G107","v":0},{"$f":"'SKADEINFO FÖRSÄKRING'!C107","v":"00:00:00"},{"$f":"IF('BASINFO FÖRSÄKRING'!A107=0,'BASINFO VAORG'!A107,'BASINFO FÖRSÄKRING'!A107)","v":0},{"$f":"IF('BASINFO FÖRSÄKRING'!B107=0,'BASINFO VAORG'!B107,'BASINFO FÖRSÄKRING'!B107)","v":0},{"$f":"IF('BASINFO FÖRSÄKRING'!D107=0,'BASINFO VAORG'!C107,'BASINFO FÖRSÄKRING'!D107)","v":0},{"$f":"IF('BASINFO FÖRSÄKRING'!E107=0,'BASINFO VAORG'!D107,'BASINFO FÖRSÄKRING'!E107)","v":0},{"$f":"IF('BASINFO FÖRSÄKRING'!F107=0,'BASINFO VAORG'!E107,'BASINFO FÖRSÄKRING'!F107)","v":0},{"$f":"'SKADEINFO FÖRSÄKRING'!H107","v":0},{"$f":"'SKADEINFO FÖRSÄKRING'!N107","v":0},{"$f":"'SKADEINFO VAORG'!G107","v":"Välj…"}]
[{"$f":"'BASINFO FÖRSÄKRING'!G108","v":0},{"$f":"'SKADEINFO FÖRSÄKRING'!C108","v":"00:00:00"},{"$f":"IF('BASINFO FÖRSÄKRING'!A108=0,'BASINFO VAORG'!A108,'BASINFO FÖRSÄKRING'!A108)","v":0},{"$f":"IF('BASINFO FÖRSÄKRING'!B108=0,'BASINFO VAORG'!B108,'BASINFO FÖRSÄKRING'!B108)","v":0},{"$f":"IF('BASINFO FÖRSÄKRING'!D108=0,'BASINFO VAORG'!C108,'BASINFO FÖRSÄKRING'!D108)","v":0},{"$f":"IF('BASINFO FÖRSÄKRING'!E108=0,'BASINFO VAORG'!D108,'BASINFO FÖRSÄKRING'!E108)","v":0},{"$f":"IF('BASINFO FÖRSÄKRING'!F108=0,'BASINFO VAORG'!E108,'BASINFO FÖRSÄKRING'!F108)","v":0},{"$f":"'SKADEINFO FÖRSÄKRING'!H108","v":0},{"$f":"'SKADEINFO FÖRSÄKRING'!N108","v":0},{"$f":"'SKADEINFO VAORG'!G108","v":"Välj…"}]
[{"$f":"'BASINFO FÖRSÄKRING'!G109","v":0},{"$f":"'SKADEINFO FÖRSÄKRING'!C109","v":"00:00:00"},{"$f":"IF('BASINFO FÖRSÄKRING'!A109=0,'BASINFO VAORG'!A109,'BASINFO FÖRSÄKRING'!A109)","v":0},{"$f":"IF('BASINFO FÖRSÄKRING'!B109=0,'BASINFO VAORG'!B109,'BASINFO FÖRSÄKRING'!B109)","v":0},{"$f":"IF('BASINFO FÖRSÄKRING'!D109=0,'BASINFO VAORG'!C109,'BASINFO FÖRSÄKRING'!D109)","v":0},{"$f":"IF('BASINFO FÖRSÄKRING'!E109=0,'BASINFO VAORG'!D109,'BASINFO FÖRSÄKRING'!E109)","v":0},{"$f":"IF('BASINFO FÖRSÄKRING'!F109=0,'BASINFO VAORG'!E109,'BASINFO FÖRSÄKRING'!F109)","v":0},{"$f":"'SKADEINFO FÖRSÄKRING'!H109","v":0},{"$f":"'SKADEINFO FÖRSÄKRING'!N109","v":0},{"$f":"'SKADEINFO VAORG'!G109","v":"Välj…"}]
[{"$f":"'BASINFO FÖRSÄKRING'!G110","v":0},{"$f":"'SKADEINFO FÖRSÄKRING'!C110","v":"00:00:00"},{"$f":"IF('BASINFO FÖRSÄKRING'!A110=0,'BASINFO VAORG'!A110,'BASINFO FÖRSÄKRING'!A110)","v":0},{"$f":"IF('BASINFO FÖRSÄKRING'!B110=0,'BASINFO VAORG'!B110,'BASINFO FÖRSÄKRING'!B110)","v":0},{"$f":"IF('BASINFO FÖRSÄKRING'!D110=0,'BASINFO VAORG'!C110,'BASINFO FÖRSÄKRING'!D110)","v":0},{"$f":"IF('BASINFO FÖRSÄKRING'!E110=0,'BASINFO VAORG'!D110,'BASINFO FÖRSÄKRING'!E110)","v":0},{"$f":"IF('BASINFO FÖRSÄKRING'!F110=0,'BASINFO VAORG'!E110,'BASINFO FÖRSÄKRING'!F110)","v":0},{"$f":"'SKADEINFO FÖRSÄKRING'!H110","v":0},{"$f":"'SKADEINFO FÖRSÄKRING'!N110","v":0},{"$f":"'SKADEINFO VAORG'!G110","v":"Välj…"}]
[{"$f":"'BASINFO FÖRSÄKRING'!G111","v":0},{"$f":"'SKADEINFO FÖRSÄKRING'!C111","v":"00:00:00"},{"$f":"IF('BASINFO FÖRSÄKRING'!A111=0,'BASINFO VAORG'!A111,'BASINFO FÖRSÄKRING'!A111)","v":0},{"$f":"IF('BASINFO FÖRSÄKRING'!B111=0,'BASINFO VAORG'!B111,'BASINFO FÖRSÄKRING'!B111)","v":0},{"$f":"IF('BASINFO FÖRSÄKRING'!D111=0,'BASINFO VAORG'!C111,'BASINFO FÖRSÄKRING'!D111)","v":0},{"$f":"IF('BASINFO FÖRSÄKRING'!E111=0,'BASINFO VAORG'!D111,'BASINFO FÖRSÄKRING'!E111)","v":0},{"$f":"IF('BASINFO FÖRSÄKRING'!F111=0,'BASINFO VAORG'!E111,'BASINFO FÖRSÄKRING'!F111)","v":0},{"$f":"'SKADEINFO FÖRSÄKRING'!H111","v":0},{"$f":"'SKADEINFO FÖRSÄKRING'!N111","v":0},{"$f":"'SKADEINFO VAORG'!G111","v":"Välj…"}]
[{"$f":"'BASINFO FÖRSÄKRING'!G112","v":0},{"$f":"'SKADEINFO FÖRSÄKRING'!C112","v":"00:00:00"},{"$f":"IF('BASINFO FÖRSÄKRING'!A112=0,'BASINFO VAORG'!A112,'BASINFO FÖRSÄKRING'!A112)","v":0},{"$f":"IF('BASINFO FÖRSÄKRING'!B112=0,'BASINFO VAORG'!B112,'BASINFO FÖRSÄKRING'!B112)","v":0},{"$f":"IF('BASINFO FÖRSÄKRING'!D112=0,'BASINFO VAORG'!C112,'BASINFO FÖRSÄKRING'!D112)","v":0},{"$f":"IF('BASINFO FÖRSÄKRING'!E112=0,'BASINFO VAORG'!D112,'BASINFO FÖRSÄKRING'!E112)","v":0},{"$f":"IF('BASINFO FÖRSÄKRING'!F112=0,'BASINFO VAORG'!E112,'BASINFO FÖRSÄKRING'!F112)","v":0},{"$f":"'SKADEINFO FÖRSÄKRING'!H112","v":0},{"$f":"'SKADEINFO FÖRSÄKRING'!N112","v":0},{"$f":"'SKADEINFO VAORG'!G112","v":"Välj…"}]
[{"$f":"'BASINFO FÖRSÄKRING'!G113","v":0},{"$f":"'SKADEINFO FÖRSÄKRING'!C113","v":"00:00:00"},{"$f":"IF('BASINFO FÖRSÄKRING'!A113=0,'BASINFO VAORG'!A113,'BASINFO FÖRSÄKRING'!A113)","v":0},{"$f":"IF('BASINFO FÖRSÄKRING'!B113=0,'BASINFO VAORG'!B113,'BASINFO FÖRSÄKRING'!B113)","v":0},{"$f":"IF('BASINFO FÖRSÄKRING'!D113=0,'BASINFO VAORG'!C113,'BASINFO FÖRSÄKRING'!D113)","v":0},{"$f":"IF('BASINFO FÖRSÄKRING'!E113=0,'BASINFO VAORG'!D113,'BASINFO FÖRSÄKRING'!E113)","v":0},{"$f":"IF('BASINFO FÖRSÄKRING'!F113=0,'BASINFO VAORG'!E113,'BASINFO FÖRSÄKRING'!F113)","v":0},{"$f":"'SKADEINFO FÖRSÄKRING'!H113","v":0},{"$f":"'SKADEINFO FÖRSÄKRING'!N113","v":0},{"$f":"'SKADEINFO VAORG'!G113","v":"Välj…"}]
[{"$f":"'BASINFO FÖRSÄKRING'!G114","v":0},{"$f":"'SKADEINFO FÖRSÄKRING'!C114","v":"00:00:00"},{"$f":"IF('BASINFO FÖRSÄKRING'!A114=0,'BASINFO VAORG'!A114,'BASINFO FÖRSÄKRING'!A114)","v":0},{"$f":"IF('BASINFO FÖRSÄKRING'!B114=0,'BASINFO VAORG'!B114,'BASINFO FÖRSÄKRING'!B114)","v":0},{"$f":"IF('BASINFO FÖRSÄKRING'!D114=0,'BASINFO VAORG'!C114,'BASINFO FÖRSÄKRING'!D114)","v":0},{"$f":"IF('BASINFO FÖRSÄKRING'!E114=0,'BASINFO VAORG'!D114,'BASINFO FÖRSÄKRING'!E114)","v":0},{"$f":"IF('BASINFO FÖRSÄKRING'!F114=0,'BASINFO VAORG'!E114,'BASINFO FÖRSÄKRING'!F114)","v":0},{"$f":"'SKADEINFO FÖRSÄKRING'!H114","v":0},{"$f":"'SKADEINFO FÖRSÄKRING'!N114","v":0},{"$f":"'SKADEINFO VAORG'!G114","v":"Välj…"}]

{"sheet":"RAPPORT","index":6,"n_rows":48,"n_cols":3,"rows_kept":48,"cut":false,"hidden":true,"merged":[[29,0,29,1],[24,0,24,1],[25,0,25,1],[26,0,26,1],[27,0,27,1],[28,0,28,1],[23,0,23,1],[12,0,12,1],[13,0,13,1],[14,0,14,1],[15,0,15,1],[16,0,16,1],[17,0,17,1],[18,0,18,1],[19,0,19,1],[20,0,20,1],[21,0,21,1],[22,0,22,1]]}
["Rapport översvämningsärende",null,"Sidan 1"]
[]
["SKADENUMMER",null,"ÄRENDENR VA-ORG"]
[null,null,{"$f":"IF(A4=0,\"\",VLOOKUP(RAPPORT!$A$4,'SAMMANSTÄLLNING ALL INFO'!$B$14:$AS$114,6,FALSE))","v":""}]
[]
["FÖRSÄKRINGSBOLAG, KONTAKTUPPGIFTER",null,"VA-ORGANISATION, KONTAKTUPPGIFTER"]
[{"$f":"IF($A$4=0,\"\",\"If Skadeförsäkring\")","v":""},null,{"$f":"IF($A$4=0,\"\",VLOOKUP(RAPPORT!$A$4,'SAMMANSTÄLLNING ALL INFO'!$B$14:$AS$114,5,FALSE))","v":""}]
[{"$f":"IF($A$4=0,\"\",VLOOKUP(RAPPORT!$A$4,'SAMMANSTÄLLNING ALL INFO'!$B$14:$AS$114,2,FALSE))","v":""},null,{"$f":"IF($A$4=0,\"\",VLOOKUP(RAPPORT!$A$4,'SAMMANSTÄLLNING ALL INFO'!$B$14:$AS$114,6,FALSE))","v":""}]
[{"$f":"IF($A$4=0,\"\",VLOOKUP(RAPPORT!$A$4,'SAMMANSTÄLLNING ALL INFO'!$B$14:$AS$114,3,FALSE))","v":""},null,{"$f":"IF($A$4=0,\"\",VLOOKUP(RAPPORT!$A$4,'SAMMANSTÄLLNING ALL INFO'!$B$14:$AS$114,7,FALSE))","v":""}]
[{"$f":"IF($A$4=0,\"\",VLOOKUP(RAPPORT!$A$4,'SAMMANSTÄLLNING ALL INFO'!$B$14:$AS$114,4,FALSE))","v":""},null,{"$f":"IF($A$4=0,\"\",VLOOKUP(RAPPORT!$A$4,'SAMMANSTÄLLNING ALL INFO'!$B$14:$AS$114,8,FALSE))","v":""}]
[]
["FÖRSÄKRINGSBOLAGETS SKADEUPPGIFTER"]
["Län:",null,{"$f":"IF($A$4=0,\"\",VLOOKUP(RAPPORT!$A$4,'SAMMANSTÄLLNING ALL INFO'!$B$14:$AS$114,10,FALSE))","v":""}]
["Kommun: ",null,{"$f":"IF($A$4=0,\"\",VLOOKUP(RAPPORT!$A$4,'SAMMANSTÄLLNING ALL INFO'!$B$14:$AS$114,11,FALSE))","v":""}]
["Adress:",null,{"$f":"IF($A$4=0,\"\",VLOOKUP(RAPPORT!$A$4,'SAMMANSTÄLLNING ALL INFO'!$B$14:$AS$114,12,FALSE))","v":""}]
["Fastighetsbeteckning:",null,{"$f":"IF($A$4=0,\"\",VLOOKUP(RAPPORT!$A$4,'SAMMANSTÄLLNING ALL INFO'!$B$14:$AS$114,13,FALSE))","v":""}]
["Kund:",null,{"$f":"IF($A$4=0,\"\",VLOOKUP(RAPPORT!$A$4,'SAMMANSTÄLLNING ALL INFO'!$B$14:$AS$114,14,FALSE))","v":""}]
["Skadad byggnad:",null,{"$f":"IF($A$4=0,\"\",VLOOKUP(RAPPORT!$A$4,'SAMMANSTÄLLNING ALL INFO'!$B$14:$AS$114,15,FALSE))","v":""}]
["Skadedatum:",null,{"$f":"IF($A$4=0,\"\",VLOOKUP(RAPPORT!$A$4,'SAMMANSTÄLLNING ALL INFO'!$B$14:$AS$114,16,FALSE))","v":""}]
["Tidpunkt:",null,{"$f":"IF($A$4=0,\"\",VLOOKUP(RAPPORT!$A$4,'SAMMANSTÄLLNING ALL INFO'!$B$14:$AS$114,17,FALSE))","v":""}]
["Upptäckt skada direkt:",null,{"$f":"IF($A$4=0,\"\",VLOOKUP(RAPPORT!$A$4,'SAMMANSTÄLLNING ALL INFO'!$B$14:$AS$114,18,FALSE))","v":""}]
["Inträffat tidigare:",null,{"$f":"IF($A$4=0,\"\",VLOOKUP(RAPPORT!$A$4,'SAMMANSTÄLLNING ALL INFO'!$B$14:$AS$114,19,FALSE))","v":""}]
["Vattnets väg in:",null,{"$f":"IF($A$4=0,\"\",VLOOKUP(RAPPORT!$A$4,'SAMMANSTÄLLNING ALL INFO'!$B$14:$AS$114,20,FALSE))","v":""}]
["Samband med nederbörd:",null,{"$f":"IF($A$4=0,\"\",VLOOKUP(RAPPORT!$A$4,'SAMMANSTÄLLNING ALL INFO'!$B$14:$AS$114,21,FALSE))","v":""}]
["Avloppslukt:",null,{"$f":"IF($A$4=0,\"\",VLOOKUP(RAPPORT!$A$4,'SAMMANSTÄLLNING ALL INFO'!$B$14:$AS$114,22,FALSE))","v":""}]
["Vattennivå:",null,{"$f":"IF($A$4=0,\"\",VLOOKUP(RAPPORT!$A$4,'SAMMANSTÄLLNING ALL INFO'!$B$14:$AS$114,23,FALSE))","v":""}]
["Foton:",null,{"$f":"IF($A$4=0,\"\",VLOOKUP(RAPPORT!$A$4,'SAMMANSTÄLLNING ALL INFO'!$B$14:$AS$114,24,FALSE))","v":""}]
["Anmäld till VA-org:",null,{"$f":"IF($A$4=0,\"\",VLOOKUP(RAPPORT!$A$4,'SAMMANSTÄLLNING ALL INFO'!$B$14:$AS$114,25,FALSE))","v":""}]
["Uppskattad skadekostnad:",null,{"$f":"IF($A$4=0,\"\",VLOOKUP(RAPPORT!$A$4,'SAMMANSTÄLLNING ALL INFO'!$B$14:$AS$114,26,FALSE))","v":""}]
["Fritext:",null,{"$f":"IF($A$4=0,\"\",VLOOKUP(RAPPORT!$A$4,'SAMMANSTÄLLNING ALL INFO'!$B$14:$AS$114,27,FALSE))","v":""}]
["VA-ORGANISATIONENS SKADEUPPGIFTER",null,"Sidan 2"]
["Registrerat skadedatum:",null,{"$f":"IF($A$4=0,\"\",VLOOKUP(RAPPORT!$A$4,'SAMMANSTÄLLNING ALL INFO'!$B$14:$AS$114,28,FALSE))","v":""}]
["Klockslag:",null,{"$f":"IF($A$4=0,\"\",VLOOKUP(RAPPORT!$A$4,'SAMMANSTÄLLNING ALL INFO'!$B$14:$AS$114,29,FALSE))","v":""}]
["Skadan upptäckt direkt:",null,{"$f":"IF($A$4=0,\"\",VLOOKUP(RAPPORT!$A$4,'SAMMANSTÄLLNING ALL INFO'!$B$14:$AS$114,30,FALSE))","v":""}]
["Översvämning inträffat tidigare:",null,{"$f":"IF($A$4=0,\"\",VLOOKUP(RAPPORT!$A$4,'SAMMANSTÄLLNING ALL INFO'!$B$14:$AS$114,31,FALSE))","v":""}]
["Hur kom vattnet till byggnaden:",null,{"$f":"IF($A$4=0,\"\",VLOOKUP(RAPPORT!$A$4,'SAMMANSTÄLLNING ALL INFO'!$B$14:$AS$114,32,FALSE))","v":""}]
["Hur kom vattnet in:",null,{"$f":"IF($A$4=0,\"\",VLOOKUP(RAPPORT!$A$4,'SAMMANSTÄLLNING ALL INFO'!$B$14:$AS$114,33,FALSE))","v":""}]
["Samband med nederbörd:",null,{"$f":"IF($A$4=0,\"\",VLOOKUP(RAPPORT!$A$4,'SAMMANSTÄLLNING ALL INFO'!$B$14:$AS$114,34,FALSE))","v":""}]
["Avloppslukt:",null,{"$f":"IF($A$4=0,\"\",VLOOKUP(RAPPORT!$A$4,'SAMMANSTÄLLNING ALL INFO'!$B$14:$AS$114,35,FALSE))","v":""}]
["Vattennivå:",null,{"$f":"IF($A$4=0,\"\",VLOOKUP(RAPPORT!$A$4,'SAMMANSTÄLLNING ALL INFO'!$B$14:$AS$114,36,FALSE))","v":""}]
["Finns foton:",null,{"$f":"IF($A$4=0,\"\",VLOOKUP(RAPPORT!$A$4,'SAMMANSTÄLLNING ALL INFO'!$B$14:$AS$114,37,FALSE))","v":""}]
["Typ av ledning:",null,{"$f":"IF($A$4=0,\"\",VLOOKUP(RAPPORT!$A$4,'SAMMANSTÄLLNING ALL INFO'!$B$14:$AS$114,38,FALSE))","v":""}]
["Bedömd orsak:",null,{"$f":"IF($A$4=0,\"\",VLOOKUP(RAPPORT!$A$4,'SAMMANSTÄLLNING ALL INFO'!$B$14:$AS$114,39,FALSE))","v":""}]
["Skadan hanteras enligt följande:",null,{"$f":"IF($A$4=0,\"\",VLOOKUP(RAPPORT!$A$4,'SAMMANSTÄLLNING ALL INFO'!$B$14:$AS$114,40,FALSE))","v":""}]
["Återkopplingstid:",null,{"$f":"IF($A$4=0,\"\",VLOOKUP(RAPPORT!$A$4,'SAMMANSTÄLLNING ALL INFO'!$B$14:$AS$114,41,FALSE))","v":""}]
["Har huvudmannen försäkringsskydd.",null,{"$f":"IF($A$4=0,\"\",VLOOKUP(RAPPORT!$A$4,'SAMMANSTÄLLNING ALL INFO'!$B$14:$AS$114,42,FALSE))","v":""}]
["Bolag:",null,{"$f":"IF($A$4=0,\"\",VLOOKUP(RAPPORT!$A$4,'SAMMANSTÄLLNING ALL INFO'!$B$14:$AS$114,43,FALSE))","v":""}]
["Övrig info:",null,{"$f":"IF($A$4=0,\"\",VLOOKUP(RAPPORT!$A$4,'SAMMANSTÄLLNING ALL INFO'!$B$14:$AS$114,44,FALSE))","v":""}]

{"sheet":"MANUAL","index":7,"n_rows":22,"n_cols":2,"rows_kept":22,"cut":false,"hidden":false,"merged":[[18,1,18,13]]}
[]
[null,"Rapporteringsfil - manual"]
[null,"Försäkringsbolag »» VA-organisation »» Försäkringsbolag"]
[null,"Svenskt Vattens och Svensk Försäkrings projekt för enklare handläggning av regressärenden i samband med översvämningsskador vid skyfall."]
[null,"Denna excelfil innehåller ett antal flikar för informationsutbyte mellan försäkringsbolag och va-organisation. Informationen från respektive "]
[null,"part kan sedan enkelt jämföras."]
[]
[]
[null,"GRÖNA FLIKAR, två stycken"]
[null,"Försäkringsbolaget fyller i uppgifter i dessa två flikar så noggrant som möjligt och skickar därefter filen till aktuell VA-organisation."]
[]
[null,"GULA FLIKAR, två stycken"]
[null,"VA-organisationen fyller i dessa två flikar så noggrant de kan, och returnerar sedan filen till handläggaren hos aktuellt försäkringsbolag."]
[]
[null,"RÖD FLIK (dold initialt, tas fram med knapp till höger)"]
[null,"Sammanställning av alla data i tabellform (användbart för sammanställning med hjälp av t.ex. register)."]
[]
[null,"BLÅA FLIKAR (dolda initialt, tas fram med knapp till höger)"]
[null,"- Snabbinfo - ett urval av data från gröna och gula flikar som visas i en mer hanterbar storlek. Försäkringsbolag och VA-organisation kan komma överens om vilka data som ska visas här så kan fliken sedan modifieras i en kommande version. \n- Rapport -  Alla data sammanställda i utskrivbart format (två st A4-sidor). Användbart om man t.ex. behöver skriva ut alla data och använda i en fysisk akt."]
[]
[null,"LILA FLIK"]
[null,"Manual, uppdaterad december 2017"]

{"sheet":"DATA LISTRUTOR","index":8,"n_rows":3656,"n_cols":35,"rows_kept":3656,"cut":false,"hidden":true,"merged":[]}
["BASINFORMATION",null,null,null,"RAPPORT FÖRSÄKRINGSBOLAG",null,"01:00:00",null,null,null,null,null,null,null,null,null,null,"RAPPORT VA-HUVUDMAN"]
["VA-organisation","Försäkringsbolag","Län","Kommun","Var uppkom skada","Skadedatum","Tid","Skada upptäckt direkt?","Översvämn inträffat tidigare","Hur kom vattnet in","Samband med nederbörd","Avloppslukt","Vattennivå inne i cm","Finns foton","Skada anmäld till VA-org?","Uppskattad skadekostnad","Övrigt (fritext)","Skadedatum","Klockslag","Skada upptäckt direkt","Översvämn inträffat tidigare","Hur kom vattnet till byggnaden","Hur kom vattnet in",null,"Samband med nederbörd","Avloppslukt","Vattennivå inne i cm","Finns foton","Typ av ledning","Bedömd orsak","Skadan kommer hanteras enl följande","Återkopplingstid (månader)","Har huvudmannen försäkringsskydd","Bolag","Övrigt (fritext)"]
[null,null,"Stockholms","Ale","Källare","Vet ej","Vet ej","Ja","Vet ej","Vet ej","Vet ej","Vet ej","Vet ej","Vet ej","Vet ej","Vet ej",null,"Vet ej","Vet ej","Ja","Vet ej","Vet ej","Vet ej",null,"Vet ej","Vet ej","Vet ej","Vet ej","Vet ej i nuläget",null,null,"Vet ej","Vet ej"]
[null,null,"Uppsala","Alingsås","Markplan",{"$f":"TODAY()","v":"2019-06-11"},"00:00:00","Nej, senare","Ja (se Övrigt)","Via golvbrunn/wc","Ja","Ja",1,"Ja","Ja","< 10 000 kr",null,{"$f":"TODAY()","v":"2019-06-11"},"00:00:00","Nej, senare","Ja (se Övrigt)","Via ledning","Via golvbrunn/wc",null,"Ja","Ja",1,"Ja","Spillvatten",null,null,1,"Ja"]
[null,null,"Södermanlands","Alvesta","Garage",{"$f":"F4-1","v":"2019-06-10"},{"$f":"G4+$G$1","v":"01:00:00"},"Vet ej","Nej","Via källardörr/garageport","Nej","Nej",5,"Nej","Nej","<> 10-50 000 kr",null,{"$f":"R4-1","v":"2019-06-10"},{"$f":"S4+$G$1","v":"01:00:00"},"Vet ej","Nej","Via ytan - mark","Via källardörr/garageport",null,"Nej","Nej",5,"Nej","Dagvatten",null,null,{"$f":"AF4+1","v":2},"Nej"]
[null,null,"Östergötlands","Aneby","Annat (se not övrigt)",{"$f":"F5-1","v":"2019-06-09"},{"$f":"G5+$G$1","v":"02:00:00"},null,null,"Via dörr/fönster/ventil i markplan",null,null,10,null,null,"<> 50-100 000 kr",null,{"$f":"R5-1","v":"2019-06-09"},{"$f":"S5+$G$1","v":"02:00:00"},null,null,"Via ytan - dike","Via dörr/fönster/ventil i markplan",null,null,null,10,null,"Kombinerad spill-/dagvatten",null,null,{"$f":"AF5+1","v":3}]
[null,null,"Jönköpings","Arboga",null,"2019-06-08",{"$f":"G6+$G$1","v":"03:00:00"},null,null,"Genom vägg/mur/golv",null,null,{"$f":"M6+5","v":15},null,null,"<> 100-200 000 kr",null,"2019-06-08",{"$f":"S6+$G$1","v":"03:00:00"},null,null,"Annat (se övrigt)","Genom vägg/mur/golv",null,null,null,{"$f":"AA6+5","v":15},null,"Huvudledning",null,null,4]
[null,null,"Kronobergs","Arjeplog",null,"2019-06-07","04:00:00",null,null,"Annat (se övrigt)",null,null,{"$f":"M7+5","v":20},null,null,"<> 200-300 000 kr",null,"2019-06-07","04:00:00",null,null,null,"Annat (se övrigt)",null,null,null,{"$f":"AA7+5","v":20},null,"Servis privat",null,null,5]
[null,null,"Kalmar","Arvidsjaur",null,"2019-06-06","05:00:00",null,null,null,null,null,25,null,null,"<> 300-400 000 kr",null,"2019-06-06","05:00:00",null,null,null,null,null,null,null,25,null,"Servis allmän",null,null,6]
[null,null,"Gotlands","Arvika",null,"2019-06-05","06:00:00",null,null,null,null,null,30,null,null,"<> 400-500 000 kr",null,"2019-06-05","06:00:00",null,null,null,null,null,null,null,30,null,null,null,null,7]
[null,null,"Blekinge","Askersund",null,"2019-06-04","07:00:00",null,null,null,null,null,35,null,null,"<> 500-1 000 000 kr",null,"2019-06-04","07:00:00",null,null,null,null,null,null,null,35,null,null,null,null,8]
[null,null,"Skåne","Avesta",null,"2019-06-03","08:00:00",null,null,null,null,null,40,null,null,"<> 1-2 msek",null,"2019-06-03","08:00:00",null,null,null,null,null,null,null,40,null,null,null,null,9]
[null,null,"Hallands","Bengtsfors",null,"2019-06-02","09:00:00",null,null,null,null,null,45,null,null,"<> 2-5 msek",null,"2019-06-02","09:00:00",null,null,null,null,null,null,null,45,null,null,null,null,10]
[null,null,"VästraGötalands","Berg",null,"2019-06-01","10:00:00",null,null,null,null,null,50,null,null,"<> 5-10 msek",null,"2019-06-01","10:00:00",null,null,null,null,null,null,null,50,null,null,null,null,11]
[null,null,"Värmlands","Bjurholm",null,"2019-05-31","11:00:00",null,null,null,null,null,55,null,null,null,null,"2019-05-31","11:00:00",null,null,null,null,null,null,null,55,null,null,null,null,12]
[null,null,"Örebro","Bjuv",null,"2019-05-30","12:00:00",null,null,null,null,null,60,null,null,null,null,"2019-05-30","12:00:00",null,null,null,null,null,null,null,60,null,null,null,null,13]
[null,null,"Västmanlands","Boden",null,"2019-05-29","13:00:00",null,null,null,null,null,65,null,null,null,null,"2019-05-29","13:00:00",null,null,null,null,null,null,null,65,null,null,null,null,14]
[null,null,"Dalarnas","Bollebygd",null,"2019-05-28","14:00:00",null,null,null,null,null,70,null,null,null,null,"2019-05-28","14:00:00",null,null,null,null,null,null,null,70,null,null,null,null,15]
[null,null,"Gävleborgs","Bollnäs",null,"2019-05-27","15:00:00",null,null,null,null,null,75,null,null,null,null,"2019-05-27","15:00:00",null,null,null,null,null,null,null,75,null,null,null,null,16]
[null,null,"Västernorrlands","Borgholm",null,"2019-05-26","16:00:00",null,null,null,null,null,80,null,null,null,null,"2019-05-26","16:00:00",null,null,null,null,null,null,null,80,null,null,null,null,17]
[null,null,"Jämtlands","Borlänge",null,"2019-05-25","17:00:00",null,null,null,null,null,85,null,null,null,null,"2019-05-25","17:00:00",null,null,null,null,null,null,null,85,null,null,null,null,18]
[null,null,"Västerbottens","Borås",null,"2019-05-24","18:00:00",null,null,null,null,null,90,null,null,null,null,"2019-05-24","18:00:00",null,null,null,null,null,null,null,90,null,null,null,null,19]
[null,null,"Norrbottens","Botkyrka",null,"2019-05-23","19:00:00",null,null,null,null,null,95,null,null,null,null,"2019-05-23","19:00:00",null,null,null,null,null,null,null,95,null,null,null,null,20]
[null,null,null,"Boxholm",null,"2019-05-22","20:00:00",null,null,null,null,null,100,null,null,null,null,"2019-05-22","20:00:00",null,null,null,null,null,null,null,100,null,null,null,null,21]
[null,null,null,"Bromölla",null,"2019-05-21","21:00:00",null,null,null,null,null,105,null,null,null,null,"2019-05-21","21:00:00",null,null,null,null,null,null,null,105,null,null,null,null,22]
[null,null,null,"Bräcke",null,"2019-05-20","22:00:00",null,null,null,null,null,110,null,null,null,null,"2019-05-20","22:00:00",null,null,null,null,null,null,null,110,null,null,null,null,23]
[null,null,null,"Burlöv",null,"2019-05-19","23:00:00",null,null,null,null,null,115,null,null,null,null,"2019-05-19","23:00:00",null,null,null,null,null,null,null,115,null,null,null,null,24]
[null,null,null,"Båstad",null,"2019-05-18",null,null,null,null,null,null,120,null,null,null,null,"2019-05-18",null,null,null,null,null,null,null,null,120]
[null,null,null,"Dals-Ed ",null,"2019-05-17",null,null,null,null,null,null,125,null,null,null,null,"2019-05-17",null,null,null,null,null,null,null,null,125]
[null,null,null,"Danderyd ",null,"2019-05-16",null,null,null,null,null,null,130,null,null,null,null,"2019-05-16",null,null,null,null,null,null,null,null,130]
[null,null,null,"Degerfors ",null,"2019-05-15",null,null,null,null,null,null,135,null,null,null,null,"2019-05-15",null,null,null,null,null,null,null,null,135]
[null,null,null,"Dorotea ",null,"2019-05-14",null,null,null,null,null,null,140,null,null,null,null,"2019-05-14",null,null,null,null,null,null,null,null,140]
[null,null,null,"Eda ",null,"2019-05-13",null,null,null,null,null,null,145,null,null,null,null,"2019-05-13",null,null,null,null,null,null,null,null,145]
[null,null,null,"Ekerö ",null,"2019-05-12",null,null,null,null,null,null,150,null,null,null,null,"2019-05-12",null,null,null,null,null,null,null,null,150]
[null,null,null,"Eksjö ",null,"2019-05-11",null,null,null,null,null,null,null,null,null,null,null,"2019-05-11"]
[null,null,null,"Emmaboda ",null,"2019-05-10",null,null,null,null,null,null,null,null,null,null,null,"2019-05-10"]
[null,null,null,"Enköping ",null,"2019-05-09",null,null,null,null,null,null,null,null,null,null,null,"2019-05-09"]
[null,null,null,"Eskilstuna ",null,"2019-05-08",null,null,null,null,null,null,null,null,null,null,null,"2019-05-08"]
[null,null,null,"Eslöv ",null,"2019-05-07",null,null,null,null,null,null,null,null,null,null,null,"2019-05-07"]
[null,null,null,"Essunga ",null,"2019-05-06",null,null,null,null,null,null,null,null,null,null,null,"2019-05-06"]
[null,null,null,"Fagersta ",null,"2019-05-05",null,null,null,null,null,null,null,null,null,null,null,"2019-05-05"]
[null,null,null,"Falkenberg ",null,"2019-05-04",null,null,null,null,null,null,null,null,null,null,null,"2019-05-04"]
[null,null,null,"Falköping ",null,"2019-05-03",null,null,null,null,null,null,null,null,null,null,null,"2019-05-03"]
[null,null,null,"Falun ",null,"2019-05-02",null,null,null,null,null,null,null,null,null,null,null,"2019-05-02"]
[null,null,null,"Filipstad ",null,"2019-05-01",null,null,null,null,null,null,null,null,null,null,null,"2019-05-01"]
[null,null,null,"Finspång ",null,"2019-04-30",null,null,null,null,null,null,null,null,null,null,null,"2019-04-30"]
[null,null,null,"Flen ",null,"2019-04-29",null,null,null,null,null,null,null,null,null,null,null,"2019-04-29"]
[null,null,null,"Forshaga ",null,"2019-04-28",null,null,null,null,null,null,null,null,null,null,null,"2019-04-28"]
[null,null,null,"Färgelanda ",null,"2019-04-27",null,null,null,null,null,null,null,null,null,null,null,"2019-04-27"]
[null,null,null,"Gagnef ",null,"2019-04-26",null,null,null,null,null,null,null,null,null,null,null,"2019-04-26"]
[null,null,null,"Gislaved ",null,"2019-04-25",null,null,null,null,null,null,null,null,null,null,null,"2019-04-25"]
[null,null,null,"Gnesta ",null,"2019-04-24",null,null,null,null,null,null,null,null,null,null,null,"2019-04-24"]
[null,null,null,"Gnosjö ",null,"2019-04-23",null,null,null,null,null,null,null,null,null,null,null,"2019-04-23"]
[null,null,null,"Gotland ",null,"2019-04-22",null,null,null,null,null,null,null,null,null,null,null,"2019-04-22"]
[null,null,null,"Grums ",null,"2019-04-21",null,null,null,null,null,null,null,null,null,null,null,"2019-04-21"]
[null,null,null,"Grästorp ",null,"2019-04-20",null,null,null,null,null,null,null,null,null,null,null,"2019-04-20"]
[null,null,null,"Gullspång ",null,"2019-04-19",null,null,null,null,null,null,null,null,null,null,null,"2019-04-19"]
[null,null,null,"Gällivare ",null,"2019-04-18",null,null,null,null,null,null,null,null,null,null,null,"2019-04-18"]
[null,null,null,"Gävle ",null,"2019-04-17",null,null,null,null,null,null,null,null,null,null,null,"2019-04-17"]
[null,null,null,"Göteborg ",null,"2019-04-16",null,null,null,null,null,null,null,null,null,null,null,"2019-04-16"]
[null,null,null,"Götene ",null,"2019-04-15",null,null,null,null,null,null,null,null,null,null,null,"2019-04-15"]
[null,null,null,"Habo ",null,"2019-04-14",null,null,null,null,null,null,null,null,null,null,null,"2019-04-14"]
[null,null,null,"Hagfors ",null,"2019-04-13",null,null,null,null,null,null,null,null,null,null,null,"2019-04-13"]
[null,null,null,"Hallsberg ",null,"2019-04-12",null,null,null,null,null,null,null,null,null,null,null,"2019-04-12"]
[null,null,null,"Hallstahammar ",null,"2019-04-11",null,null,null,null,null,null,null,null,null,null,null,"2019-04-11"]
[null,null,null,"Halmstad ",null,"2019-04-10",null,null,null,null,null,null,null,null,null,null,null,"2019-04-10"]
[null,null,null,"Hammarö ",null,"2019-04-09",null,null,null,null,null,null,null,null,null,null,null,"2019-04-09"]
[null,null,null,"Haninge ",null,"2019-04-08",null,null,null,null,null,null,null,null,null,null,null,"2019-04-08"]
[null,null,null,"Haparanda ",null,"2019-04-07",null,null,null,null,null,null,null,null,null,null,null,"2019-04-07"]
[null,null,null,"Heby ",null,{"$f":"F69-1","v":"2019-04-06"},null,null,null,null,null,null,null,null,null,null,null,{"$f":"R69-1","v":"2019-04-06"}]
[null,null,null,"Hedemora ",null,"2019-04-05",null,null,null,null,null,null,null,null,null,null,null,"2019-04-05"]
[null,null,null,"Helsingborg ",null,"2019-04-04",null,null,null,null,null,null,null,null,null,null,null,"2019-04-04"]
[null,null,null,"Herrljunga ",null,"2019-04-03",null,null,null,null,null,null,null,null,null,null,null,"2019-04-03"]
[null,null,null,"Hjo ",null,"2019-04-02",null,null,null,null,null,null,null,null,null,null,null,"2019-04-02"]
[null,null,null,"Hofors ",null,"2019-04-01",null,null,null,null,null,null,null,null,null,null,null,"2019-04-01"]
[null,null,null,"Huddinge ",null,"2019-03-31",null,null,null,null,null,null,null,null,null,null,null,"2019-03-31"]
[null,null,null,"Hudiksvall ",null,"2019-03-30",null,null,null,null,null,null,null,null,null,null,null,"2019-03-30"]
[null,null,null,"Hultsfred ",null,"2019-03-29",null,null,null,null,null,null,null,null,null,null,null,"2019-03-29"]
[null,null,null,"Hylte ",null,"2019-03-28",null,null,null,null,null,null,null,null,null,null,null,"2019-03-28"]
[null,null,null,"Håbo ",null,"2019-03-27",null,null,null,null,null,null,null,null,null,null,null,"2019-03-27"]
[null,null,null,"Hällefors ",null,"2019-03-26",null,null,null,null,null,null,null,null,null,null,null,"2019-03-26"]
[null,null,null,"Härjedalen ",null,"2019-03-25",null,null,null,null,null,null,null,null,null,null,null,"2019-03-25"]
[null,null,null,"Härnösand ",null,"2019-03-24",null,null,null,null,null,null,null,null,null,null,null,"2019-03-24"]
[null,null,null,"Härryda ",null,"2019-03-23",null,null,null,null,null,null,null,null,null,null,null,"2019-03-23"]
[null,null,null,"Hässleholm ",null,"2019-03-22",null,null,null,null,null,null,null,null,null,null,null,"2019-03-22"]
[null,null,null,"Höganäs ",null,"2019-03-21",null,null,null,null,null,null,null,null,null,null,null,"2019-03-21"]
[null,null,null,"Högsby ",null,"2019-03-20",null,null,null,null,null,null,null,null,null,null,null,"2019-03-20"]
[null,null,null,"Hörby ",null,"2019-03-19",null,null,null,null,null,null,null,null,null,null,null,"2019-03-19"]
[null,null,null,"Höör ",null,"2019-03-18",null,null,null,null,null,null,null,null,null,null,null,"2019-03-18"]
[null,null,null,"Jokkmokk ",null,"2019-03-17",null,null,null,null,null,null,null,null,null,null,null,"2019-03-17"]
[null,null,null,"Järfälla ",null,"2019-03-16",null,null,null,null,null,null,null,null,null,null,null,"2019-03-16"]
[null,null,null,"Jönköping ",null,"2019-03-15",null,null,null,null,null,null,null,null,null,null,null,"2019-03-15"]
[null,null,null,"Kalix ",null,"2019-03-14",null,null,null,null,null,null,null,null,null,null,null,"2019-03-14"]
[null,null,null,"Kalmar ",null,"2019-03-13",null,null,null,null,null,null,null,null,null,null,null,"2019-03-13"]
[null,null,null,"Karlsborg ",null,"2019-03-12",null,null,null,null,null,null,null,null,null,null,null,"2019-03-12"]
[null,null,null,"Karlshamn ",null,"2019-03-11",null,null,null,null,null,null,null,null,null,null,null,"2019-03-11"]
[null,null,null,"Karlskoga ",null,"2019-03-10",null,null,null,null,null,null,null,null,null,null,null,"2019-03-10"]
[null,null,null,"Karlskrona ",null,"2019-03-09",null,null,null,null,null,null,null,null,null,null,null,"2019-03-09"]
[null,null,null,"Karlstad ",null,"2019-03-08",null,null,null,null,null,null,null,null,null,null,null,"2019-03-08"]
[null,null,null,"Katrineholm ",null,"2019-03-07",null,null,null,null,null,null,null,null,null,null,null,"2019-03-07"]
[null,null,null,"Kil ",null,"2019-03-06",null,null,null,null,null,null,null,null,null,null,null,"2019-03-06"]
[null,null,null,"Kinda ",null,"2019-03-05",null,null,null,null,null,null,null,null,null,null,null,"2019-03-05"]
[null,null,null,"Kiruna ",null,"2019-03-04",null,null,null,null,null,null,null,null,null,null,null,"2019-03-04"]
[null,null,null,"Klippan ",null,"2019-03-03",null,null,null,null,null,null,null,null,null,null,null,"2019-03-03"]
[null,null,null,"Knivsta ",null,"2019-03-02",null,null,null,null,null,null,null,null,null,null,null,"2019-03-02"]
[null,null,null,"Kramfors ",null,"2019-03-01",null,null,null,null,null,null,null,null,null,null,null,"2019-03-01"]
[null,null,null,"Kristianstad ",null,"2019-02-28",null,null,null,null,null,null,null,null,null,null,null,"2019-02-28"]
[null,null,null,"Kristinehamn ",null,"2019-02-27",null,null,null,null,null,null,null,null,null,null,null,"2019-02-27"]
[null,null,null,"Krokom ",null,"2019-02-26",null,null,null,null,null,null,null,null,null,null,null,"2019-02-26"]
[null,null,null,"Kumla ",null,"2019-02-25",null,null,null,null,null,null,null,null,null,null,null,"2019-02-25"]
[null,null,null,"Kungsbacka ",null,"2019-02-24",null,null,null,null,null,null,null,null,null,null,null,"2019-02-24"]
[null,null,null,"Kungsör ",null,"2019-02-23",null,null,null,null,null,null,null,null,null,null,null,"2019-02-23"]
[null,null,null,"Kungälv ",null,"2019-02-22",null,null,null,null,null,null,null,null,null,null,null,"2019-02-22"]
[null,null,null,"Kävlinge ",null,"2019-02-21",null,null,null,null,null,null,null,null,null,null,null,"2019-02-21"]
[null,null,null,"Köping ",null,"2019-02-20",null,null,null,null,null,null,null,null,null,null,null,"2019-02-20"]
[null,null,null,"Laholm ",null,"2019-02-19",null,null,null,null,null,null,null,null,null,null,null,"2019-02-19"]
[null,null,null,"Landskrona ",null,"2019-02-18",null,null,null,null,null,null,null,null,null,null,null,"2019-02-18"]
[null,null,null,"Laxå ",null,"2019-02-17",null,null,null,null,null,null,null,null,null,null,null,"2019-02-17"]
[null,null,null,"Lekeberg ",null,"2019-02-16",null,null,null,null,null,null,null,null,null,null,null,"2019-02-16"]
[null,null,null,"Leksand ",null,"2019-02-15",null,null,null,null,null,null,null,null,null,null,null,"2019-02-15"]
[null,null,null,"Lerum ",null,"2019-02-14",null,null,null,null,null,null,null,null,null,null,null,"2019-02-14"]
[null,null,null,"Lessebo ",null,"2019-02-13",null,null,null,null,null,null,null,null,null,null,null,"2019-02-13"]
[null,null,null,"Lidingö ",null,"2019-02-12",null,null,null,null,null,null,null,null,null,null,null,"2019-02-12"]
[null,null,null,"Lidköping ",null,"2019-02-11",null,null,null,null,null,null,null,null,null,null,null,"2019-02-11"]
[null,null,null,"Lilla Edet ",null,"2019-02-10",null,null,null,null,null,null,null,null,null,null,null,"2019-02-10"]
[null,null,null,"Lindesberg ",null,"2019-02-09",null,null,null,null,null,null,null,null,null,null,null,"2019-02-09"]
[null,null,null,"Linköping ",null,"2019-02-08",null,null,null,null,null,null,null,null,null,null,null,"2019-02-08"]
[null,null,null,"Ljungby ",null,"2019-02-07",null,null,null,null,null,null,null,null,null,null,null,"2019-02-07"]
[null,null,null,"Ljusdal ",null,"2019-02-06",null,null,null,null,null,null,null,null,null,null,null,"2019-02-06"]
[null,null,null,"Ljusnarsberg ",null,"2019-02-05",null,null,null,null,null,null,null,null,null,null,null,"2019-02-05"]
[null,null,null,"Lomma ",null,"2019-02-04",null,null,null,null,null,null,null,null,null,null,null,"2019-02-04"]
[null,null,null,"Ludvika ",null,"2019-02-03",null,null,null,null,null,null,null,null,null,null,null,"2019-02-03"]
[null,null,null,"Luleå ",null,"2019-02-02",null,null,null,null,null,null,null,null,null,null,null,"2019-02-02"]
[null,null,null,"Lund ",null,{"$f":"F133-1","v":"2019-02-01"},null,null,null,null,null,null,null,null,null,null,null,{"$f":"R133-1","v":"2019-02-01"}]
[null,null,null,"Lycksele ",null,"2019-01-31",null,null,null,null,null,null,null,null,null,null,null,"2019-01-31"]
[null,null,null,"Lysekil ",null,"2019-01-30",null,null,null,null,null,null,null,null,null,null,null,"2019-01-30"]
[null,null,null,"Malmö ",null,"2019-01-29",null,null,null,null,null,null,null,null,null,null,null,"2019-01-29"]
[null,null,null,"Malung-Sälen ",null,"2019-01-28",null,null,null,null,null,null,null,null,null,null,null,"2019-01-28"]
[null,null,null,"Malå ",null,"2019-01-27",null,null,null,null,null,null,null,null,null,null,null,"2019-01-27"]
[null,null,null,"Mariestad ",null,"2019-01-26",null,null,null,null,null,null,null,null,null,null,null,"2019-01-26"]
[null,null,null,"Mark ",null,"2019-01-25",null,null,null,null,null,null,null,null,null,null,null,"2019-01-25"]
[null,null,null,"Markaryd ",null,"2019-01-24",null,null,null,null,null,null,null,null,null,null,null,"2019-01-24"]
[null,null,null,"Mellerud ",null,"2019-01-23",null,null,null,null,null,null,null,null,null,null,null,"2019-01-23"]
[null,null,null,"Mjölby ",null,"2019-01-22",null,null,null,null,null,null,null,null,null,null,null,"2019-01-22"]
[null,null,null,"Mora ",null,"2019-01-21",null,null,null,null,null,null,null,null,null,null,null,"2019-01-21"]
[null,null,null,"Motala ",null,"2019-01-20",null,null,null,null,null,null,null,null,null,null,null,"2019-01-20"]
[null,null,null,"Mullsjö ",null,"2019-01-19",null,null,null,null,null,null,null,null,null,null,null,"2019-01-19"]
[null,null,null,"Munkedal ",null,"2019-01-18",null,null,null,null,null,null,null,null,null,null,null,"2019-01-18"]
[null,null,null,"Munkfors ",null,"2019-01-17",null,null,null,null,null,null,null,null,null,null,null,"2019-01-17"]
[null,null,null,"Mölndal ",null,"2019-01-16",null,null,null,null,null,null,null,null,null,null,null,"2019-01-16"]
[null,null,null,"Mönsterås ",null,"2019-01-15",null,null,null,null,null,null,null,null,null,null,null,"2019-01-15"]
[null,null,null,"Mörbylånga ",null,"2019-01-14",null,null,null,null,null,null,null,null,null,null,null,"2019-01-14"]
[null,null,null,"Nacka ",null,"2019-01-13",null,null,null,null,null,null,null,null,null,null,null,"2019-01-13"]
[null,null,null,"Nora ",null,"2019-01-12",null,null,null,null,null,null,null,null,null,null,null,"2019-01-12"]
[null,null,null,"Norberg ",null,"2019-01-11",null,null,null,null,null,null,null,null,null,null,null,"2019-01-11"]
[null,null,null,"Nordanstig ",null,"2019-01-10",null,null,null,null,null,null,null,null,null,null,null,"2019-01-10"]
[null,null,null,"Nordmaling ",null,"2019-01-09",null,null,null,null,null,null,null,null,null,null,null,"2019-01-09"]
[null,null,null,"Norrköping ",null,"2019-01-08",null,null,null,null,null,null,null,null,null,null,null,"2019-01-08"]
[null,null,null,"Norrtälje ",null,"2019-01-07",null,null,null,null,null,null,null,null,null,null,null,"2019-01-07"]
[null,null,null,"Norsjö ",null,"2019-01-06",null,null,null,null,null,null,null,null,null,null,null,"2019-01-06"]
[null,null,null,"Nybro ",null,"2019-01-05",null,null,null,null,null,null,null,null,null,null,null,"2019-01-05"]
[null,null,null,"Nykvarn ",null,"2019-01-04",null,null,null,null,null,null,null,null,null,null,null,"2019-01-04"]
[null,null,null,"Nyköping ",null,"2019-01-03",null,null,null,null,null,null,null,null,null,null,null,"2019-01-03"]
[null,null,null,"Nynäshamn ",null,"2019-01-02",null,null,null,null,null,null,null,null,null,null,null,"2019-01-02"]
[null,null,null,"Nässjö ",null,"2019-01-01",null,null,null,null,null,null,null,null,null,null,null,"2019-01-01"]
[null,null,null,"Ockelbo ",null,"2018-12-31",null,null,null,null,null,null,null,null,null,null,null,"2018-12-31"]
[null,null,null,"Olofström ",null,"2018-12-30",null,null,null,null,null,null,null,null,null,null,null,"2018-12-30"]
[null,null,null,"Orsa ",null,"2018-12-29",null,null,null,null,null,null,null,null,null,null,null,"2018-12-29"]
[null,null,null,"Orust ",null,"2018-12-28",null,null,null,null,null,null,null,null,null,null,null,"2018-12-28"]
[null,null,null,"Osby ",null,"2018-12-27",null,null,null,null,null,null,null,null,null,null,null,"2018-12-27"]
[null,null,null,"Oskarshamn ",null,"2018-12-26",null,null,null,null,null,null,null,null,null,null,null,"2018-12-26"]
[null,null,null,"Ovanåker ",null,"2018-12-25",null,null,null,null,null,null,null,null,null,null,null,"2018-12-25"]
[null,null,null,"Oxelösund ",null,"2018-12-24",null,null,null,null,null,null,null,null,null,null,null,"2018-12-24"]
[null,null,null,"Pajala ",null,"2018-12-23",null,null,null,null,null,null,null,null,null,null,null,"2018-12-23"]
[null,null,null,"Partille ",null,"2018-12-22",null,null,null,null,null,null,null,null,null,null,null,"2018-12-22"]
[null,null,null,"Perstorp ",null,"2018-12-21",null,null,null,null,null,null,null,null,null,null,null,"2018-12-21"]
[null,null,null,"Piteå ",null,"2018-12-20",null,null,null,null,null,null,null,null,null,null,null,"2018-12-20"]
[null,null,null,"Ragunda ",null,"2018-12-19",null,null,null,null,null,null,null,null,null,null,null,"2018-12-19"]
[null,null,null,"Robertsfors ",null,"2018-12-18",null,null,null,null,null,null,null,null,null,null,null,"2018-12-18"]
[null,null,null,"Ronneby ",null,"2018-12-17",null,null,null,null,null,null,null,null,null,null,null,"2018-12-17"]
[null,null,null,"Rättvik ",null,"2018-12-16",null,null,null,null,null,null,null,null,null,null,null,"2018-12-16"]
[null,null,null,"Sala ",null,"2018-12-15",null,null,null,null,null,null,null,null,null,null,null,"2018-12-15"]
[null,null,null,"Salem ",null,"2018-12-14",null,null,null,null,null,null,null,null,null,null,null,"2018-12-14"]
[null,null,null,"Sandviken ",null,"2018-12-13",null,null,null,null,null,null,null,null,null,null,null,"2018-12-13"]
[null,null,null,"Sigtuna ",null,"2018-12-12",null,null,null,null,null,null,null,null,null,null,null,"2018-12-12"]
[null,null,null,"Simrishamn ",null,"2018-12-11",null,null,null,null,null,null,null,null,null,null,null,"2018-12-11"]
[null,null,null,"Sjöbo ",null,"2018-12-10",null,null,null,null,null,null,null,null,null,null,null,"2018-12-10"]
[null,null,null,"Skara ",null,"2018-12-09",null,null,null,null,null,null,null,null,null,null,null,"2018-12-09"]
[null,null,null,"Skellefteå ",null,"2018-12-08",null,null,null,null,null,null,null,null,null,null,null,"2018-12-08"]
[null,null,null,"Skinnskatteberg ",null,"2018-12-07",null,null,null,null,null,null,null,null,null,null,null,"2018-12-07"]
[null,null,null,"Skurup ",null,"2018-12-06",null,null,null,null,null,null,null,null,null,null,null,"2018-12-06"]
[null,null,null,"Skövde ",null,"2018-12-05",null,null,null,null,null,null,null,null,null,null,null,"2018-12-05"]
[null,null,null,"Smedjebacken ",null,"2018-12-04",null,null,null,null,null,null,null,null,null,null,null,"2018-12-04"]
[null,null,null,"Sollefteå ",null,"2018-12-03",null,null,null,null,null,null,null,null,null,null,null,"2018-12-03"]
[null,null,null,"Sollentuna ",null,"2018-12-02",null,null,null,null,null,null,null,null,null,null,null,"2018-12-02"]
[null,null,null,"Solna ",null,"2018-12-01",null,null,null,null,null,null,null,null,null,null,null,"2018-12-01"]
[null,null,null,"Sorsele ",null,"2018-11-30",null,null,null,null,null,null,null,null,null,null,null,"2018-11-30"]
[null,null,null,"Sotenäs ",null,{"$f":"F197-1","v":"2018-11-29"},null,null,null,null,null,null,null,null,null,null,null,{"$f":"R197-1","v":"2018-11-29"}]
[null,null,null,"Staffanstorp ",null,"2018-11-28",null,null,null,null,null,null,null,null,null,null,null,"2018-11-28"]
[null,null,null,"Stenungsund ",null,"2018-11-27",null,null,null,null,null,null,null,null,null,null,null,"2018-11-27"]
[null,null,null,"Stockholm ",null,"2018-11-26",null,null,null,null,null,null,null,null,null,null,null,"2018-11-26"]
[null,null,null,"Storfors ",null,"2018-11-25",null,null,null,null,null,null,null,null,null,null,null,"2018-11-25"]
[null,null,null,"Storuman ",null,"2018-11-24",null,null,null,null,null,null,null,null,null,null,null,"2018-11-24"]
[null,null,null,"Strängnäs ",null,"2018-11-23",null,null,null,null,null,null,null,null,null,null,null,"2018-11-23"]
[null,null,null,"Strömstad ",null,"2018-11-22",null,null,null,null,null,null,null,null,null,null,null,"2018-11-22"]
[null,null,null,"Strömsund ",null,"2018-11-21",null,null,null,null,null,null,null,null,null,null,null,"2018-11-21"]
[null,null,null,"Sundbyberg ",null,"2018-11-20",null,null,null,null,null,null,null,null,null,null,null,"2018-11-20"]
[null,null,null,"Sundsvall ",null,"2018-11-19",null,null,null,null,null,null,null,null,null,null,null,"2018-11-19"]
[null,null,null,"Sunne ",null,"2018-11-18",null,null,null,null,null,null,null,null,null,null,null,"2018-11-18"]
[null,null,null,"Surahammar ",null,"2018-11-17",null,null,null,null,null,null,null,null,null,null,null,"2018-11-17"]
[null,null,null,"Svalöv ",null,"2018-11-16",null,null,null,null,null,null,null,null,null,null,null,"2018-11-16"]
[null,null,null,"Svedala ",null,"2018-11-15",null,null,null,null,null,null,null,null,null,null,null,"2018-11-15"]
[null,null,null,"Svenljunga ",null,"2018-11-14",null,null,null,null,null,null,null,null,null,null,null,"2018-11-14"]
[null,null,null,"Säffle ",null,"2018-11-13",null,null,null,null,null,null,null,null,null,null,null,"2018-11-13"]
[null,null,null,"Säter ",null,"2018-11-12",null,null,null,null,null,null,null,null,null,null,null,"2018-11-12"]
[null,null,null,"Sävsjö ",null,"2018-11-11",null,null,null,null,null,null,null,null,null,null,null,"2018-11-11"]
[null,null,null,"Söderhamn ",null,"2018-11-10",null,null,null,null,null,null,null,null,null,null,null,"2018-11-10"]
[null,null,null,"Söderköping ",null,"2018-11-09",null,null,null,null,null,null,null,null,null,null,null,"2018-11-09"]
[null,null,null,"Södertälje ",null,"2018-11-08",null,null,null,null,null,null,null,null,null,null,null,"2018-11-08"]
[null,null,null,"Sölvesborg ",null,"2018-11-07",null,null,null,null,null,null,null,null,null,null,null,"2018-11-07"]
[null,null,null,"Tanum ",null,"2018-11-06",null,null,null,null,null,null,null,null,null,null,null,"2018-11-06"]
[null,null,null,"Tibro ",null,"2018-11-05",null,null,null,null,null,null,null,null,null,null,null,"2018-11-05"]
[null,null,null,"Tidaholm ",null,"2018-11-04",null,null,null,null,null,null,null,null,null,null,null,"2018-11-04"]
[null,null,null,"Tierp ",null,"2018-11-03",null,null,null,null,null,null,null,null,null,null,null,"2018-11-03"]
[null,null,null,"Timrå ",null,"2018-11-02",null,null,null,null,null,null,null,null,null,null,null,"2018-11-02"]
[null,null,null,"Tingsryd ",null,"2018-11-01",null,null,null,null,null,null,null,null,null,null,null,"2018-11-01"]
[null,null,null,"Tjörn ",null,"2018-10-31",null,null,null,null,null,null,null,null,null,null,null,"2018-10-31"]
[null,null,null,"Tomelilla ",null,"2018-10-30",null,null,null,null,null,null,null,null,null,null,null,"2018-10-30"]
[null,null,null,"Torsby ",null,"2018-10-29",null,null,null,null,null,null,null,null,null,null,null,"2018-10-29"]
[null,null,null,"Torsås ",null,"2018-10-28",null,null,null,null,null,null,null,null,null,null,null,"2018-10-28"]
[null,null,null,"Tranemo ",null,"2018-10-27",null,null,null,null,null,null,null,null,null,null,null,"2018-10-27"]
[null,null,null,"Tranås ",null,"2018-10-26",null,null,null,null,null,null,null,null,null,null,null,"2018-10-26"]
[null,null,null,"Trelleborg ",null,"2018-10-25",null,null,null,null,null,null,null,null,null,null,null,"2018-10-25"]
[null,null,null,"Trollhättan ",null,"2018-10-24",null,null,null,null,null,null,null,null,null,null,null,"2018-10-24"]
[null,null,null,"Trosa ",null,"2018-10-23",null,null,null,null,null,null,null,null,null,null,null,"2018-10-23"]
[null,null,null,"Tyresö ",null,"2018-10-22",null,null,null,null,null,null,null,null,null,null,null,"2018-10-22"]
[null,null,null,"Täby ",null,"2018-10-21",null,null,null,null,null,null,null,null,null,null,null,"2018-10-21"]
[null,null,null,"Töreboda ",null,"2018-10-20",null,null,null,null,null,null,null,null,null,null,null,"2018-10-20"]
[null,null,null,"Uddevalla ",null,"2018-10-19",null,null,null,null,null,null,null,null,null,null,null,"2018-10-19"]
[null,null,null,"Ulricehamn ",null,"2018-10-18",null,null,null,null,null,null,null,null,null,null,null,"2018-10-18"]
[null,null,null,"Umeå ",null,"2018-10-17",null,null,null,null,null,null,null,null,null,null,null,"2018-10-17"]
[null,null,null,"Upplands Väsby ",null,"2018-10-16",null,null,null,null,null,null,null,null,null,null,null,"2018-10-16"]
[null,null,null,"Upplands-Bro ",null,"2018-10-15",null,null,null,null,null,null,null,null,null,null,null,"2018-10-15"]
[null,null,null,"Uppsala ",null,"2018-10-14",null,null,null,null,null,null,null,null,null,null,null,"2018-10-14"]
[null,null,null,"Uppvidinge ",null,"2018-10-13",null,null,null,null,null,null,null,null,null,null,null,"2018-10-13"]
[null,null,null,"Vadstena ",null,"2018-10-12",null,null,null,null,null,null,null,null,null,null,null,"2018-10-12"]
[null,null,null,"Vaggeryd ",null,"2018-10-11",null,null,null,null,null,null,null,null,null,null,null,"2018-10-11"]
[null,null,null,"Valdemarsvik ",null,"2018-10-10",null,null,null,null,null,null,null,null,null,null,null,"2018-10-10"]
[null,null,null,"Vallentuna ",null,"2018-10-09",null,null,null,null,null,null,null,null,null,null,null,"2018-10-09"]
[null,null,null,"Vansbro ",null,"2018-10-08",null,null,null,null,null,null,null,null,null,null,null,"2018-10-08"]
[null,null,null,"Vara ",null,"2018-10-07",null,null,null,null,null,null,null,null,null,null,null,"2018-10-07"]
[null,null,null,"Varberg ",null,"2018-10-06",null,null,null,null,null,null,null,null,null,null,null,"2018-10-06"]
[null,null,null,"Vaxholm ",null,"2018-10-05",null,null,null,null,null,null,null,null,null,null,null,"2018-10-05"]
[null,null,null,"Vellinge ",null,"2018-10-04",null,null,null,null,null,null,null,null,null,null,null,"2018-10-04"]
[null,null,null,"Vetlanda ",null,"2018-10-03",null,null,null,null,null,null,null,null,null,null,null,"2018-10-03"]
[null,null,null,"Vilhelmina ",null,"2018-10-02",null,null,null,null,null,null,null,null,null,null,null,"2018-10-02"]
[null,null,null,"Vimmerby ",null,"2018-10-01",null,null,null,null,null,null,null,null,null,null,null,"2018-10-01"]
[null,null,null,"Vindeln ",null,"2018-09-30",null,null,null,null,null,null,null,null,null,null,null,"2018-09-30"]
[null,null,null,"Vingåker ",null,"2018-09-29",null,null,null,null,null,null,null,null,null,null,null,"2018-09-29"]
[null,null,null,"Vårgårda ",null,"2018-09-28",null,null,null,null,null,null,null,null,null,null,null,"2018-09-28"]
[null,null,null,"Vänersborg ",null,"2018-09-27",null,null,null,null,null,null,null,null,null,null,null,"2018-09-27"]
[null,null,null,"Vännäs ",null,{"$f":"F261-1","v":"2018-09-26"},null,null,null,null,null,null,null,null,null,null,null,{"$f":"R261-1","v":"2018-09-26"}]
[null,null,null,"Värmdö ",null,"2018-09-25",null,null,null,null,null,null,null,null,null,null,null,"2018-09-25"]
[null,null,null,"Värnamo ",null,"2018-09-24",null,null,null,null,null,null,null,null,null,null,null,"2018-09-24"]
[null,null,null,"Västervik ",null,"2018-09-23",null,null,null,null,null,null,null,null,null,null,null,"2018-09-23"]
[null,null,null,"Västerås ",null,"2018-09-22",null,null,null,null,null,null,null,null,null,null,null,"2018-09-22"]
[null,null,null,"Växjö ",null,"2018-09-21",null,null,null,null,null,null,null,null,null,null,null,"2018-09-21"]
[null,null,null,"Ydre ",null,"2018-09-20",null,null,null,null,null,null,null,null,null,null,null,"2018-09-20"]
[null,null,null,"Ystad ",null,"2018-09-19",null,null,null,null,null,null,null,null,null,null,null,"2018-09-19"]
[null,null,null,"Åmål ",null,"2018-09-18",null,null,null,null,null,null,null,null,null,null,null,"2018-09-18"]
[null,null,null,"Ånge ",null,"2018-09-17",null,null,null,null,null,null,null,null,null,null,null,"2018-09-17"]
[null,null,null,"Åre ",null,"2018-09-16",null,null,null,null,null,null,null,null,null,null,null,"2018-09-16"]
[null,null,null,"Årjäng ",null,"2018-09-15",null,null,null,null,null,null,null,null,null,null,null,"2018-09-15"]
[null,null,null,"Åsele ",null,"2018-09-14",null,null,null,null,null,null,null,null,null,null,null,"2018-09-14"]
[null,null,null,"Åstorp ",null,"2018-09-13",null,null,null,null,null,null,null,null,null,null,null,"2018-09-13"]
[null,null,null,"Åtvidaberg ",null,"2018-09-12",null,null,null,null,null,null,null,null,null,null,null,"2018-09-12"]
[null,null,null,"Älmhult ",null,"2018-09-11",null,null,null,null,null,null,null,null,null,null,null,"2018-09-11"]
[null,null,null,"Älvdalen ",null,"2018-09-10",null,null,null,null,null,null,null,null,null,null,null,"2018-09-10"]
[null,null,null,"Älvkarleby ",null,"2018-09-09",null,null,null,null,null,null,null,null,null,null,null,"2018-09-09"]
[null,null,null,"Älvsbyn ",null,"2018-09-08",null,null,null,null,null,null,null,null,null,null,null,"2018-09-08"]
[null,null,null,"Ängelholm ",null,"2018-09-07",null,null,null,null,null,null,null,null,null,null,null,"2018-09-07"]
[null,null,null,"Öckerö ",null,"2018-09-06",null,null,null,null,null,null,null,null,null,null,null,"2018-09-06"]
[null,null,null,"Ödeshög ",null,"2018-09-05",null,null,null,null,null,null,null,null,null,null,null,"2018-09-05"]
[null,null,null,"Örebro ",null,"2018-09-04",null,null,null,null,null,null,null,null,null,null,null,"2018-09-04"]
[null,null,null,"Örkelljunga ",null,"2018-09-03",null,null,null,null,null,null,null,null,null,null,null,"2018-09-03"]
[null,null,null,"Örnsköldsvik ",null,"2018-09-02",null,null,null,null,null,null,null,null,null,null,null,"2018-09-02"]
[null,null,null,"Östersund ",null,"2018-09-01",null,null,null,null,null,null,null,null,null,null,null,"2018-09-01"]
[null,null,null,"Österåker ",null,"2018-08-31",null,null,null,null,null,null,null,null,null,null,null,"2018-08-31"]
[null,null,null,"Östhammar ",null,"2018-08-30",null,null,null,null,null,null,null,null,null,null,null,"2018-08-30"]
[null,null,null,"Östra Göinge ",null,"2018-08-29",null,null,null,null,null,null,null,null,null,null,null,"2018-08-29"]
[null,null,null,"Överkalix ",null,"2018-08-28",null,null,null,null,null,null,null,null,null,null,null,"2018-08-28"]
[null,null,null,"Övertorneå ",null,"2018-08-27",null,null,null,null,null,null,null,null,null,null,null,"2018-08-27"]
[null,null,null,null,null,"2018-08-26",null,null,null,null,null,null,null,null,null,null,null,"2018-08-26"]
[null,null,null,null,null,"2018-08-25",null,null,null,null,null,null,null,null,null,null,null,"2018-08-25"]
[null,null,null,null,null,"2018-08-24",null,null,null,null,null,null,null,null,null,null,null,"2018-08-24"]
[null,null,null,null,null,"2018-08-23",null,null,null,null,null,null,null,null,null,null,null,"2018-08-23"]
[null,null,null,null,null,"2018-08-22",null,null,null,null,null,null,null,null,null,null,null,"2018-08-22"]
[null,null,null,null,null,"2018-08-21",null,null,null,null,null,null,null,null,null,null,null,"2018-08-21"]
[null,null,null,null,null,"2018-08-20",null,null,null,null,null,null,null,null,null,null,null,"2018-08-20"]
[null,null,null,null,null,"2018-08-19",null,null,null,null,null,null,null,null,null,null,null,"2018-08-19"]
[null,null,null,null,null,"2018-08-18",null,null,null,null,null,null,null,null,null,null,null,"2018-08-18"]
[null,null,null,null,null,"2018-08-17",null,null,null,null,null,null,null,null,null,null,null,"2018-08-17"]
[null,null,null,null,null,"2018-08-16",null,null,null,null,null,null,null,null,null,null,null,"2018-08-16"]
[null,null,null,null,null,"2018-08-15",null,null,null,null,null,null,null,null,null,null,null,"2018-08-15"]
[null,null,null,null,null,"2018-08-14",null,null,null,null,null,null,null,null,null,null,null,"2018-08-14"]
[null,null,null,null,null,"2018-08-13",null,null,null,null,null,null,null,null,null,null,null,"2018-08-13"]
[null,null,null,null,null,"2018-08-12",null,null,null,null,null,null,null,null,null,null,null,"2018-08-12"]
[null,null,null,null,null,"2018-08-11",null,null,null,null,null,null,null,null,null,null,null,"2018-08-11"]
[null,null,null,null,null,"2018-08-10",null,null,null,null,null,null,null,null,null,null,null,"2018-08-10"]
[null,null,null,null,null,"2018-08-09",null,null,null,null,null,null,null,null,null,null,null,"2018-08-09"]
[null,null,null,null,null,"2018-08-08",null,null,null,null,null,null,null,null,null,null,null,"2018-08-08"]
[null,null,null,null,null,"2018-08-07",null,null,null,null,null,null,null,null,null,null,null,"2018-08-07"]
[null,null,null,null,null,"2018-08-06",null,null,null,null,null,null,null,null,null,null,null,"2018-08-06"]
[null,null,null,null,null,"2018-08-05",null,null,null,null,null,null,null,null,null,null,null,"2018-08-05"]
[null,null,null,null,null,"2018-08-04",null,null,null,null,null,null,null,null,null,null,null,"2018-08-04"]
[null,null,null,null,null,"2018-08-03",null,null,null,null,null,null,null,null,null,null,null,"2018-08-03"]
[null,null,null,null,null,"2018-08-02",null,null,null,null,null,null,null,null,null,null,null,"2018-08-02"]
[null,null,null,null,null,"2018-08-01",null,null,null,null,null,null,null,null,null,null,null,"2018-08-01"]
[null,null,null,null,null,"2018-07-31",null,null,null,null,null,null,null,null,null,null,null,"2018-07-31"]
[null,null,null,null,null,"2018-07-30",null,null,null,null,null,null,null,null,null,null,null,"2018-07-30"]
[null,null,null,null,null,"2018-07-29",null,null,null,null,null,null,null,null,null,null,null,"2018-07-29"]
[null,null,null,null,null,"2018-07-28",null,null,null,null,null,null,null,null,null,null,null,"2018-07-28"]
[null,null,null,null,null,"2018-07-27",null,null,null,null,null,null,null,null,null,null,null,"2018-07-27"]
[null,null,null,null,null,"2018-07-26",null,null,null,null,null,null,null,null,null,null,null,"2018-07-26"]
[null,null,null,null,null,"2018-07-25",null,null,null,null,null,null,null,null,null,null,null,"2018-07-25"]
[null,null,null,null,null,{"$f":"F325-1","v":"2018-07-24"},null,null,null,null,null,null,null,null,null,null,null,{"$f":"R325-1","v":"2018-07-24"}]
[null,null,null,null,null,"2018-07-23",null,null,null,null,null,null,null,null,null,null,null,"2018-07-23"]
[null,null,null,null,null,"2018-07-22",null,null,null,null,null,null,null,null,null,null,null,"2018-07-22"]
[null,null,null,null,null,"2018-07-21",null,null,null,null,null,null,null,null,null,null,null,"2018-07-21"]
[null,null,null,null,null,"2018-07-20",null,null,null,null,null,null,null,null,null,null,null,"2018-07-20"]
[null,null,null,null,null,"2018-07-19",null,null,null,null,null,null,null,null,null,null,null,"2018-07-19"]
[null,null,null,null,null,"2018-07-18",null,null,null,null,null,null,null,null,null,null,null,"2018-07-18"]
[null,null,null,null,null,"2018-07-17",null,null,null,null,null,null,null,null,null,null,null,"2018-07-17"]
[null,null,null,null,null,"2018-07-16",null,null,null,null,null,null,null,null,null,null,null,"2018-07-16"]
[null,null,null,null,null,"2018-07-15",null,null,null,null,null,null,null,null,null,null,null,"2018-07-15"]
[null,null,null,null,null,"2018-07-14",null,null,null,null,null,null,null,null,null,null,null,"2018-07-14"]
[null,null,null,null,null,"2018-07-13",null,null,null,null,null,null,null,null,null,null,null,"2018-07-13"]
[null,null,null,null,null,"2018-07-12",null,null,null,null,null,null,null,null,null,null,null,"2018-07-12"]
[null,null,null,null,null,"2018-07-11",null,null,null,null,null,null,null,null,null,null,null,"2018-07-11"]
[null,null,null,null,null,"2018-07-10",null,null,null,null,null,null,null,null,null,null,null,"2018-07-10"]
[null,null,null,null,null,"2018-07-09",null,null,null,null,null,null,null,null,null,null,null,"2018-07-09"]
[null,null,null,null,null,"2018-07-08",null,null,null,null,null,null,null,null,null,null,null,"2018-07-08"]
[null,null,null,null,null,"2018-07-07",null,null,null,null,null,null,null,null,null,null,null,"2018-07-07"]
[null,null,null,null,null,"2018-07-06",null,null,null,null,null,null,null,null,null,null,null,"2018-07-06"]
[null,null,null,null,null,"2018-07-05",null,null,null,null,null,null,null,null,null,null,null,"2018-07-05"]
[null,null,null,null,null,"2018-07-04",null,null,null,null,null,null,null,null,null,null,null,"2018-07-04"]
[null,null,null,null,null,"2018-07-03",null,null,null,null,null,null,null,null,null,null,null,"2018-07-03"]
[null,null,null,null,null,"2018-07-02",null,null,null,null,null,null,null,null,null,null,null,"2018-07-02"]
[null,null,null,null,null,"2018-07-01",null,null,null,null,null,null,null,null,null,null,null,"2018-07-01"]
[null,null,null,null,null,"2018-06-30",null,null,null,null,null,null,null,null,null,null,null,"2018-06-30"]
[null,null,null,null,null,"2018-06-29",null,null,null,null,null,null,null,null,null,null,null,"2018-06-29"]
[null,null,null,null,null,"2018-06-28",null,null,null,null,null,null,null,null,null,null,null,"2018-06-28"]
[null,null,null,null,null,"2018-06-27",null,null,null,null,null,null,null,null,null,null,null,"2018-06-27"]
[null,null,null,null,null,"2018-06-26",null,null,null,null,null,null,null,null,null,null,null,"2018-06-26"]
[null,null,null,null,null,"2018-06-25",null,null,null,null,null,null,null,null,null,null,null,"2018-06-25"]
[null,null,null,null,null,"2018-06-24",null,null,null,null,null,null,null,null,null,null,null,"2018-06-24"]
[null,null,null,null,null,"2018-06-23",null,null,null,null,null,null,null,null,null,null,null,"2018-06-23"]
[null,null,null,null,null,"2018-06-22",null,null,null,null,null,null,null,null,null,null,null,"2018-06-22"]
[null,null,null,null,null,"2018-06-21",null,null,null,null,null,null,null,null,null,null,null,"2018-06-21"]
[null,null,null,null,null,"2018-06-20",null,null,null,null,null,null,null,null,null,null,null,"2018-06-20"]
[null,null,null,null,null,"2018-06-19",null,null,null,null,null,null,null,null,null,null,null,"2018-06-19"]
[null,null,null,null,null,"2018-06-18",null,null,null,null,null,null,null,null,null,null,null,"2018-06-18"]
[null,null,null,null,null,"2018-06-17",null,null,null,null,null,null,null,null,null,null,null,"2018-06-17"]
[null,null,null,null,null,"2018-06-16",null,null,null,null,null,null,null,null,null,null,null,"2018-06-16"]
[null,null,null,null,null,"2018-06-15",null,null,null,null,null,null,null,null,null,null,null,"2018-06-15"]
[null,null,null,null,null,"2018-06-14",null,null,null,null,null,null,null,null,null,null,null,"2018-06-14"]
[null,null,null,null,null,"2018-06-13",null,null,null,null,null,null,null,null,null,null,null,"2018-06-13"]
[null,null,null,null,null,"2018-06-12",null,null,null,null,null,null,null,null,null,null,null,"2018-06-12"]
[null,null,null,null,null,"2018-06-11",null,null,null,null,null,null,null,null,null,null,null,"2018-06-11"]
[null,null,null,null,null,"2018-06-10"]
[null,null,null,null,null,"2018-06-09"]
[null,null,null,null,null,"2018-06-08"]
[null,null,null,null,null,"2018-06-07"]
[null,null,null,null,null,"2018-06-06"]
[null,null,null,null,null,"2018-06-05"]
[null,null,null,null,null,"2018-06-04"]
[null,null,null,null,null,"2018-06-03"]
[null,null,null,null,null,"2018-06-02"]
[null,null,null,null,null,"2018-06-01"]
[null,null,null,null,null,"2018-05-31"]
[null,null,null,null,null,"2018-05-30"]
[null,null,null,null,null,"2018-05-29"]
[null,null,null,null,null,"2018-05-28"]
[null,null,null,null,null,"2018-05-27"]
[null,null,null,null,null,"2018-05-26"]
[null,null,null,null,null,"2018-05-25"]
[null,null,null,null,null,"2018-05-24"]
[null,null,null,null,null,"2018-05-23"]
[null,null,null,null,null,"2018-05-22"]
[null,null,null,null,null,{"$f":"F389-1","v":"2018-05-21"}]
[null,null,null,null,null,"2018-05-20"]
[null,null,null,null,null,"2018-05-19"]
[null,null,null,null,null,"2018-05-18"]
[null,null,null,null,null,"2018-05-17"]
[null,null,null,null,null,"2018-05-16"]
[null,null,null,null,null,"2018-05-15"]
[null,null,null,null,null,"2018-05-14"]
[null,null,null,null,null,"2018-05-13"]
[null,null,null,null,null,"2018-05-12"]
[null,null,null,null,null,"2018-05-11"]
[null,null,null,null,null,"2018-05-10"]
[null,null,null,null,null,"2018-05-09"]
[null,null,null,null,null,"2018-05-08"]
[null,null,null,null,null,"2018-05-07"]
[null,null,null,null,null,"2018-05-06"]
[null,null,null,null,null,"2018-05-05"]
[null,null,null,null,null,"2018-05-04"]
[null,null,null,null,null,"2018-05-03"]
[null,null,null,null,null,"2018-05-02"]
[null,null,null,null,null,"2018-05-01"]
[null,null,null,null,null,"2018-04-30"]
[null,null,null,null,null,"2018-04-29"]
[null,null,null,null,null,"2018-04-28"]
[null,null,null,null,null,"2018-04-27"]
[null,null,null,null,null,"2018-04-26"]
[null,null,null,null,null,"2018-04-25"]
[null,null,null,null,null,"2018-04-24"]
[null,null,null,null,null,"2018-04-23"]
[null,null,null,null,null,"2018-04-22"]
[null,null,null,null,null,"2018-04-21"]
[null,null,null,null,null,"2018-04-20"]
[null,null,null,null,null,"2018-04-19"]
[null,null,null,null,null,"2018-04-18"]
[null,null,null,null,null,"2018-04-17"]
[null,null,null,null,null,"2018-04-16"]
[null,null,null,null,null,"2018-04-15"]
[null,null,null,null,null,"2018-04-14"]
[null,null,null,null,null,"2018-04-13"]
[null,null,null,null,null,"2018-04-12"]
[null,null,null,null,null,"2018-04-11"]
[null,null,null,null,null,"2018-04-10"]
[null,null,null,null,null,"2018-04-09"]
[null,null,null,null,null,"2018-04-08"]
[null,null,null,null,null,"2018-04-07"]
[null,null,null,null,null,"2018-04-06"]
[null,null,null,null,null,"2018-04-05"]
[null,null,null,null,null,"2018-04-04"]
[null,null,null,null,null,"2018-04-03"]
[null,null,null,null,null,"2018-04-02"]
[null,null,null,null,null,"2018-04-01"]
[null,null,null,null,null,"2018-03-31"]
[null,null,null,null,null,"2018-03-30"]
[null,null,null,null,null,"2018-03-29"]
[null,null,null,null,null,"2018-03-28"]
[null,null,null,null,null,"2018-03-27"]
[null,null,null,null,null,"2018-03-26"]
[null,null,null,null,null,"2018-03-25"]
[null,null,null,null,null,"2018-03-24"]
[null,null,null,null,null,"2018-03-23"]
[null,null,null,null,null,"2018-03-22"]
[null,null,null,null,null,"2018-03-21"]
[null,null,null,null,null,"2018-03-20"]
[null,null,null,null,null,"2018-03-19"]
[null,null,null,null,null,{"$f":"F453-1","v":"2018-03-18"}]
[null,null,null,null,null,"2018-03-17"]
[null,null,null,null,null,"2018-03-16"]
[null,null,null,null,null,"2018-03-15"]
[null,null,null,null,null,"2018-03-14"]
[null,null,null,null,null,"2018-03-13"]
[null,null,null,null,null,"2018-03-12"]
[null,null,null,null,null,"2018-03-11"]
[null,null,null,null,null,"2018-03-10"]
[null,null,null,null,null,"2018-03-09"]
[null,null,null,null,null,"2018-03-08"]
[null,null,null,null,null,"2018-03-07"]
[null,null,null,null,null,"2018-03-06"]
[null,null,null,null,null,"2018-03-05"]
[null,null,null,null,null,"2018-03-04"]
[null,null,null,null,null,"2018-03-03"]
[null,null,null,null,null,"2018-03-02"]
[null,null,null,null,null,"2018-03-01"]
[null,null,null,null,null,"2018-02-28"]
[null,null,null,null,null,"2018-02-27"]
[null,null,null,null,null,"2018-02-26"]
[null,null,null,null,null,"2018-02-25"]
[null,null,null,null,null,"2018-02-24"]
[null,null,null,null,null,"2018-02-23"]
[null,null,null,null,null,"2018-02-22"]
[null,null,null,null,null,"2018-02-21"]
[null,null,null,null,null,"2018-02-20"]
[null,null,null,null,null,"2018-02-19"]
[null,null,null,null,null,"2018-02-18"]
[null,null,null,null,null,"2018-02-17"]
[null,null,null,null,null,"2018-02-16"]
[null,null,null,null,null,"2018-02-15"]
[null,null,null,null,null,"2018-02-14"]
[null,null,null,null,null,"2018-02-13"]
[null,null,null,null,null,"2018-02-12"]
[null,null,null,null,null,"2018-02-11"]
[null,null,null,null,null,"2018-02-10"]
[null,null,null,null,null,"2018-02-09"]
[null,null,null,null,null,"2018-02-08"]
[null,null,null,null,null,"2018-02-07"]
[null,null,null,null,null,"2018-02-06"]
[null,null,null,null,null,"2018-02-05"]
[null,null,null,null,null,"2018-02-04"]
[null,null,null,null,null,"2018-02-03"]
[null,null,null,null,null,"2018-02-02"]
[null,null,null,null,null,"2018-02-01"]
[null,null,null,null,null,"2018-01-31"]
[null,null,null,null,null,"2018-01-30"]
[null,null,null,null,null,"2018-01-29"]
[null,null,null,null,null,"2018-01-28"]
[null,null,null,null,null,"2018-01-27"]
[null,null,null,null,null,"2018-01-26"]
[null,null,null,null,null,"2018-01-25"]
[null,null,null,null,null,"2018-01-24"]
[null,null,null,null,null,"2018-01-23"]
[null,null,null,null,null,"2018-01-22"]
[null,null,null,null,null,"2018-01-21"]
[null,null,null,null,null,"2018-01-20"]
[null,null,null,null,null,"2018-01-19"]
[null,null,null,null,null,"2018-01-18"]
[null,null,null,null,null,"2018-01-17"]
[null,null,null,null,null,"2018-01-16"]
[null,null,null,null,null,"2018-01-15"]
[null,null,null,null,null,"2018-01-14"]
[null,null,null,null,null,{"$f":"F517-1","v":"2018-01-13"}]
[null,null,null,null,null,"2018-01-12"]
[null,null,null,null,null,"2018-01-11"]
[null,null,null,null,null,"2018-01-10"]
[null,null,null,null,null,"2018-01-09"]
[null,null,null,null,null,"2018-01-08"]
[null,null,null,null,null,"2018-01-07"]
[null,null,null,null,null,"2018-01-06"]
[null,null,null,null,null,"2018-01-05"]
[null,null,null,null,null,"2018-01-04"]
[null,null,null,null,null,"2018-01-03"]
[null,null,null,null,null,"2018-01-02"]
[null,null,null,null,null,"2018-01-01"]
[null,null,null,null,null,"2017-12-31"]
[null,null,null,null,null,"2017-12-30"]
[null,null,null,null,null,"2017-12-29"]
[null,null,null,null,null,"2017-12-28"]
[null,null,null,null,null,"2017-12-27"]
[null,null,null,null,null,"2017-12-26"]
[null,null,null,null,null,"2017-12-25"]
[null,null,null,null,null,"2017-12-24"]
[null,null,null,null,null,"2017-12-23"]
[null,null,null,null,null,"2017-12-22"]
[null,null,null,null,null,"2017-12-21"]
[null,null,null,null,null,"2017-12-20"]
[null,null,null,null,null,"2017-12-19"]
[null,null,null,null,null,"2017-12-18"]
[null,null,null,null,null,"2017-12-17"]
[null,null,null,null,null,"2017-12-16"]
[null,null,null,null,null,"2017-12-15"]
[null,null,null,null,null,"2017-12-14"]
[null,null,null,null,null,"2017-12-13"]
[null,null,null,null,null,"2017-12-12"]
[null,null,null,null,null,"2017-12-11"]
[null,null,null,null,null,"2017-12-10"]
[null,null,null,null,null,"2017-12-09"]
[null,null,null,null,null,"2017-12-08"]
[null,null,null,null,null,"2017-12-07"]
[null,null,null,null,null,"2017-12-06"]
[null,null,null,null,null,"2017-12-05"]
[null,null,null,null,null,"2017-12-04"]
[null,null,null,null,null,"2017-12-03"]
[null,null,null,null,null,"2017-12-02"]
[null,null,null,null,null,"2017-12-01"]
[null,null,null,null,null,"2017-11-30"]
[null,null,null,null,null,"2017-11-29"]
[null,null,null,null,null,"2017-11-28"]
[null,null,null,null,null,"2017-11-27"]
[null,null,null,null,null,"2017-11-26"]
[null,null,null,null,null,"2017-11-25"]
[null,null,null,null,null,"2017-11-24"]
[null,null,null,null,null,"2017-11-23"]
[null,null,null,null,null,"2017-11-22"]
[null,null,null,null,null,"2017-11-21"]
[null,null,null,null,null,"2017-11-20"]
[null,null,null,null,null,"2017-11-19"]
[null,null,null,null,null,"2017-11-18"]
[null,null,null,null,null,"2017-11-17"]
[null,null,null,null,null,"2017-11-16"]
[null,null,null,null,null,"2017-11-15"]
[null,null,null,null,null,"2017-11-14"]
[null,null,null,null,null,"2017-11-13"]
[null,null,null,null,null,"2017-11-12"]
[null,null,null,null,null,"2017-11-11"]
[null,null,null,null,null,{"$f":"F581-1","v":"2017-11-10"}]
[null,null,null,null,null,"2017-11-09"]
[null,null,null,null,null,"2017-11-08"]
[null,null,null,null,null,"2017-11-07"]
[null,null,null,null,null,"2017-11-06"]
[null,null,null,null,null,"2017-11-05"]
[null,null,null,null,null,"2017-11-04"]
[null,null,null,null,null,"2017-11-03"]
[null,null,null,null,null,"2017-11-02"]
[null,null,null,null,null,"2017-11-01"]
[null,null,null,null,null,"2017-10-31"]
[null,null,null,null,null,"2017-10-30"]
[null,null,null,null,null,"2017-10-29"]
[null,null,null,null,null,"2017-10-28"]
[null,null,null,null,null,"2017-10-27"]
[null,null,null,null,null,"2017-10-26"]
[null,null,null,null,null,"2017-10-25"]
[null,null,null,null,null,"2017-10-24"]
[null,null,null,null,null,"2017-10-23"]
[null,null,null,null,null,"2017-10-22"]
[null,null,null,null,null,"2017-10-21"]
[null,null,null,null,null,"2017-10-20"]
[null,null,null,null,null,"2017-10-19"]
[null,null,null,null,null,"2017-10-18"]
[null,null,null,null,null,"2017-10-17"]
[null,null,null,null,null,"2017-10-16"]
[null,null,null,null,null,"2017-10-15"]
[null,null,null,null,null,"2017-10-14"]
[null,null,null,null,null,"2017-10-13"]
[null,null,null,null,null,"2017-10-12"]
[null,null,null,null,null,"2017-10-11"]
[null,null,null,null,null,"2017-10-10"]
[null,null,null,null,null,"2017-10-09"]
[null,null,null,null,null,"2017-10-08"]
[null,null,null,null,null,"2017-10-07"]
[null,null,null,null,null,"2017-10-06"]
[null,null,null,null,null,"2017-10-05"]
[null,null,null,null,null,"2017-10-04"]
[null,null,null,null,null,"2017-10-03"]
[null,null,null,null,null,"2017-10-02"]
[null,null,null,null,null,"2017-10-01"]
[null,null,null,null,null,"2017-09-30"]
[null,null,null,null,null,"2017-09-29"]
[null,null,null,null,null,"2017-09-28"]
[null,null,null,null,null,"2017-09-27"]
[null,null,null,null,null,"2017-09-26"]
[null,null,null,null,null,"2017-09-25"]
[null,null,null,null,null,"2017-09-24"]
[null,null,null,null,null,"2017-09-23"]
[null,null,null,null,null,"2017-09-22"]
[null,null,null,null,null,"2017-09-21"]
[null,null,null,null,null,"2017-09-20"]
[null,null,null,null,null,"2017-09-19"]
[null,null,null,null,null,"2017-09-18"]
[null,null,null,null,null,"2017-09-17"]
[null,null,null,null,null,"2017-09-16"]
[null,null,null,null,null,"2017-09-15"]
[null,null,null,null,null,"2017-09-14"]
[null,null,null,null,null,"2017-09-13"]
[null,null,null,null,null,"2017-09-12"]
[null,null,null,null,null,"2017-09-11"]
[null,null,null,null,null,"2017-09-10"]
[null,null,null,null,null,"2017-09-09"]
[null,null,null,null,null,"2017-09-08"]
[null,null,null,null,null,{"$f":"F645-1","v":"2017-09-07"}]
[null,null,null,null,null,"2017-09-06"]
[null,null,null,null,null,"2017-09-05"]
[null,null,null,null,null,"2017-09-04"]
[null,null,null,null,null,"2017-09-03"]
[null,null,null,null,null,"2017-09-02"]
[null,null,null,null,null,"2017-09-01"]
[null,null,null,null,null,"2017-08-31"]
[null,null,null,null,null,"2017-08-30"]
[null,null,null,null,null,"2017-08-29"]
[null,null,null,null,null,"2017-08-28"]
[null,null,null,null,null,"2017-08-27"]
[null,null,null,null,null,"2017-08-26"]
[null,null,null,null,null,"2017-08-25"]
[null,null,null,null,null,"2017-08-24"]
[null,null,null,null,null,"2017-08-23"]
[null,null,null,null,null,"2017-08-22"]
[null,null,null,null,null,"2017-08-21"]
[null,null,null,null,null,"2017-08-20"]
[null,null,null,null,null,"2017-08-19"]
[null,null,null,null,null,"2017-08-18"]
[null,null,null,null,null,"2017-08-17"]
[null,null,null,null,null,"2017-08-16"]
[null,null,null,null,null,"2017-08-15"]
[null,null,null,null,null,"2017-08-14"]
[null,null,null,null,null,"2017-08-13"]
[null,null,null,null,null,"2017-08-12"]
[null,null,null,null,null,"2017-08-11"]
[null,null,null,null,null,"2017-08-10"]
[null,null,null,null,null,"2017-08-09"]
[null,null,null,null,null,"2017-08-08"]
[null,null,null,null,null,"2017-08-07"]
[null,null,null,null,null,"2017-08-06"]
[null,null,null,null,null,"2017-08-05"]
[null,null,null,null,null,"2017-08-04"]
[null,null,null,null,null,"2017-08-03"]
[null,null,null,null,null,"2017-08-02"]
[null,null,null,null,null,"2017-08-01"]
[null,null,null,null,null,"2017-07-31"]
[null,null,null,null,null,"2017-07-30"]
[null,null,null,null,null,"2017-07-29"]
[null,null,null,null,null,"2017-07-28"]
[null,null,null,null,null,"2017-07-27"]
[null,null,null,null,null,"2017-07-26"]
[null,null,null,null,null,"2017-07-25"]
[null,null,null,null,null,"2017-07-24"]
[null,null,null,null,null,"2017-07-23"]
[null,null,null,null,null,"2017-07-22"]
[null,null,null,null,null,"2017-07-21"]
[null,null,null,null,null,"2017-07-20"]
[null,null,null,null,null,"2017-07-19"]
[null,null,null,null,null,"2017-07-18"]
[null,null,null,null,null,"2017-07-17"]
[null,null,null,null,null,"2017-07-16"]
[null,null,null,null,null,"2017-07-15"]
[null,null,null,null,null,"2017-07-14"]
[null,null,null,null,null,"2017-07-13"]
[null,null,null,null,null,"2017-07-12"]
[null,null,null,null,null,"2017-07-11"]
[null,null,null,null,null,"2017-07-10"]
[null,null,null,null,null,"2017-07-09"]
[null,null,null,null,null,"2017-07-08"]
[null,null,null,null,null,"2017-07-07"]
[null,null,null,null,null,"2017-07-06"]
[null,null,null,null,null,{"$f":"F709-1","v":"2017-07-05"}]
[null,null,null,null,null,"2017-07-04"]
[null,null,null,null,null,"2017-07-03"]
[null,null,null,null,null,"2017-07-02"]
[null,null,null,null,null,"2017-07-01"]
[null,null,null,null,null,"2017-06-30"]
[null,null,null,null,null,"2017-06-29"]
[null,null,null,null,null,"2017-06-28"]
[null,null,null,null,null,"2017-06-27"]
[null,null,null,null,null,"2017-06-26"]
[null,null,null,null,null,"2017-06-25"]
[null,null,null,null,null,"2017-06-24"]
[null,null,null,null,null,"2017-06-23"]
[null,null,null,null,null,"2017-06-22"]
[null,null,null,null,null,"2017-06-21"]
[null,null,null,null,null,"2017-06-20"]
[null,null,null,null,null,"2017-06-19"]
[null,null,null,null,null,"2017-06-18"]
[null,null,null,null,null,"2017-06-17"]
[null,null,null,null,null,"2017-06-16"]
[null,null,null,null,null,"2017-06-15"]
[null,null,null,null,null,"2017-06-14"]
[null,null,null,null,null,"2017-06-13"]
[null,null,null,null,null,"2017-06-12"]
[null,null,null,null,null,"2017-06-11"]
[null,null,null,null,null,"2017-06-10"]
[null,null,null,null,null,"2017-06-09"]
[null,null,null,null,null,"2017-06-08"]
[null,null,null,null,null,"2017-06-07"]
[null,null,null,null,null,"2017-06-06"]
[null,null,null,null,null,"2017-06-05"]
[null,null,null,null,null,"2017-06-04"]
[null,null,null,null,null,"2017-06-03"]
[null,null,null,null,null,"2017-06-02"]
[null,null,null,null,null,"2017-06-01"]
[null,null,null,null,null,"2017-05-31"]
[null,null,null,null,null,"2017-05-30"]
[null,null,null,null,null,"2017-05-29"]
[null,null,null,null,null,"2017-05-28"]
[null,null,null,null,null,"2017-05-27"]
[null,null,null,null,null,"2017-05-26"]
[null,null,null,null,null,"2017-05-25"]
[null,null,null,null,null,"2017-05-24"]
[null,null,null,null,null,"2017-05-23"]
[null,null,null,null,null,"2017-05-22"]
[null,null,null,null,null,"2017-05-21"]
[null,null,null,null,null,"2017-05-20"]
[null,null,null,null,null,"2017-05-19"]
[null,null,null,null,null,"2017-05-18"]
[null,null,null,null,null,"2017-05-17"]
[null,null,null,null,null,"2017-05-16"]
[null,null,null,null,null,"2017-05-15"]
[null,null,null,null,null,"2017-05-14"]
[null,null,null,null,null,"2017-05-13"]
[null,null,null,null,null,"2017-05-12"]
[null,null,null,null,null,"2017-05-11"]
[null,null,null,null,null,"2017-05-10"]
[null,null,null,null,null,"2017-05-09"]
[null,null,null,null,null,"2017-05-08"]
[null,null,null,null,null,"2017-05-07"]
[null,null,null,null,null,"2017-05-06"]
[null,null,null,null,null,"2017-05-05"]
[null,null,null,null,null,"2017-05-04"]
[null,null,null,null,null,"2017-05-03"]
[null,null,null,null,null,{"$f":"F773-1","v":"2017-05-02"}]
[null,null,null,null,null,"2017-05-01"]
[null,null,null,null,null,"2017-04-30"]
[null,null,null,null,null,"2017-04-29"]
[null,null,null,null,null,"2017-04-28"]
[null,null,null,null,null,"2017-04-27"]
[null,null,null,null,null,"2017-04-26"]
[null,null,null,null,null,"2017-04-25"]
[null,null,null,null,null,"2017-04-24"]
[null,null,null,null,null,"2017-04-23"]
[null,null,null,null,null,"2017-04-22"]
[null,null,null,null,null,"2017-04-21"]
[null,null,null,null,null,"2017-04-20"]
[null,null,null,null,null,"2017-04-19"]
[null,null,null,null,null,"2017-04-18"]
[null,null,null,null,null,"2017-04-17"]
[null,null,null,null,null,"2017-04-16"]
[null,null,null,null,null,"2017-04-15"]
[null,null,null,null,null,"2017-04-14"]
[null,null,null,null,null,"2017-04-13"]
[null,null,null,null,null,"2017-04-12"]
[null,null,null,null,null,"2017-04-11"]
[null,null,null,null,null,"2017-04-10"]
[null,null,null,null,null,"2017-04-09"]
[null,null,null,null,null,"2017-04-08"]
[null,null,null,null,null,"2017-04-07"]
[null,null,null,null,null,"2017-04-06"]
[null,null,null,null,null,"2017-04-05"]
[null,null,null,null,null,"2017-04-04"]
[null,null,null,null,null,"2017-04-03"]
[null,null,null,null,null,"2017-04-02"]
[null,null,null,null,null,"2017-04-01"]
[null,null,null,null,null,"2017-03-31"]
[null,null,null,null,null,"2017-03-30"]
[null,null,null,null,null,"2017-03-29"]
[null,null,null,null,null,"2017-03-28"]
[null,null,null,null,null,"2017-03-27"]
[null,null,null,null,null,"2017-03-26"]
[null,null,null,null,null,"2017-03-25"]
[null,null,null,null,null,"2017-03-24"]
[null,null,null,null,null,"2017-03-23"]
[null,null,null,null,null,"2017-03-22"]
[null,null,null,null,null,"2017-03-21"]
[null,null,null,null,null,"2017-03-20"]
[null,null,null,null,null,"2017-03-19"]
[null,null,null,null,null,"2017-03-18"]
[null,null,null,null,null,"2017-03-17"]
[null,null,null,null,null,"2017-03-16"]
[null,null,null,null,null,"2017-03-15"]
[null,null,null,null,null,"2017-03-14"]
[null,null,null,null,null,"2017-03-13"]
[null,null,null,null,null,"2017-03-12"]
[null,null,null,null,null,"2017-03-11"]
[null,null,null,null,null,"2017-03-10"]
[null,null,null,null,null,"2017-03-09"]
[null,null,null,null,null,"2017-03-08"]
[null,null,null,null,null,"2017-03-07"]
[null,null,null,null,null,"2017-03-06"]
[null,null,null,null,null,"2017-03-05"]
[null,null,null,null,null,"2017-03-04"]
[null,null,null,null,null,"2017-03-03"]
[null,null,null,null,null,"2017-03-02"]
[null,null,null,null,null,"2017-03-01"]
[null,null,null,null,null,"2017-02-28"]
[null,null,null,null,null,{"$f":"F837-1","v":"2017-02-27"}]
[null,null,null,null,null,"2017-02-26"]
[null,null,null,null,null,"2017-02-25"]
[null,null,null,null,null,"2017-02-24"]
[null,null,null,null,null,"2017-02-23"]
[null,null,null,null,null,"2017-02-22"]
[null,null,null,null,null,"2017-02-21"]
[null,null,null,null,null,"2017-02-20"]
[null,null,null,null,null,"2017-02-19"]
[null,null,null,null,null,"2017-02-18"]
[null,null,null,null,null,"2017-02-17"]
[null,null,null,null,null,"2017-02-16"]
[null,null,null,null,null,"2017-02-15"]
[null,null,null,null,null,"2017-02-14"]
[null,null,null,null,null,"2017-02-13"]
[null,null,null,null,null,"2017-02-12"]
[null,null,null,null,null,"2017-02-11"]
[null,null,null,null,null,"2017-02-10"]
[null,null,null,null,null,"2017-02-09"]
[null,null,null,null,null,"2017-02-08"]
[null,null,null,null,null,"2017-02-07"]
[null,null,null,null,null,"2017-02-06"]
[null,null,null,null,null,"2017-02-05"]
[null,null,null,null,null,"2017-02-04"]
[null,null,null,null,null,"2017-02-03"]
[null,null,null,null,null,"2017-02-02"]
[null,null,null,null,null,"2017-02-01"]
[null,null,null,null,null,"2017-01-31"]
[null,null,null,null,null,"2017-01-30"]
[null,null,null,null,null,"2017-01-29"]
[null,null,null,null,null,"2017-01-28"]
[null,null,null,null,null,"2017-01-27"]
[null,null,null,null,null,"2017-01-26"]
[null,null,null,null,null,"2017-01-25"]
[null,null,null,null,null,"2017-01-24"]
[null,null,null,null,null,"2017-01-23"]
[null,null,null,null,null,"2017-01-22"]
[null,null,null,null,null,"2017-01-21"]
[null,null,null,null,null,"2017-01-20"]
[null,null,null,null,null,"2017-01-19"]
[null,null,null,null,null,"2017-01-18"]
[null,null,null,null,null,"2017-01-17"]
[null,null,null,null,null,"2017-01-16"]
[null,null,null,null,null,"2017-01-15"]
[null,null,null,null,null,"2017-01-14"]
[null,null,null,null,null,"2017-01-13"]
[null,null,null,null,null,"2017-01-12"]
[null,null,null,null,null,"2017-01-11"]
[null,null,null,null,null,"2017-01-10"]
[null,null,null,null,null,"2017-01-09"]
[null,null,null,null,null,"2017-01-08"]
[null,null,null,null,null,"2017-01-07"]
[null,null,null,null,null,"2017-01-06"]
[null,null,null,null,null,"2017-01-05"]
[null,null,null,null,null,"2017-01-04"]
[null,null,null,null,null,"2017-01-03"]
[null,null,null,null,null,"2017-01-02"]
[null,null,null,null,null,"2017-01-01"]
[null,null,null,null,null,"2016-12-31"]
[null,null,null,null,null,"2016-12-30"]
[null,null,null,null,null,"2016-12-29"]
[null,null,null,null,null,"2016-12-28"]
[null,null,null,null,null,"2016-12-27"]
[null,null,null,null,null,"2016-12-26"]
[null,null,null,null,null,{"$f":"F901-1","v":"2016-12-25"}]
[null,null,null,null,null,"2016-12-24"]
[null,null,null,null,null,"2016-12-23"]
[null,null,null,null,null,"2016-12-22"]
[null,null,null,null,null,"2016-12-21"]
[null,null,null,null,null,"2016-12-20"]
[null,null,null,null,null,"2016-12-19"]
[null,null,null,null,null,"2016-12-18"]
[null,null,null,null,null,"2016-12-17"]
[null,null,null,null,null,"2016-12-16"]
[null,null,null,null,null,"2016-12-15"]
[null,null,null,null,null,"2016-12-14"]
[null,null,null,null,null,"2016-12-13"]
[null,null,null,null,null,"2016-12-12"]
[null,null,null,null,null,"2016-12-11"]
[null,null,null,null,null,"2016-12-10"]
[null,null,null,null,null,"2016-12-09"]
[null,null,null,null,null,"2016-12-08"]
[null,null,null,null,null,"2016-12-07"]
[null,null,null,null,null,"2016-12-06"]
[null,null,null,null,null,"2016-12-05"]
[null,null,null,null,null,"2016-12-04"]
[null,null,null,null,null,"2016-12-03"]
[null,null,null,null,null,"2016-12-02"]
[null,null,null,null,null,"2016-12-01"]
[null,null,null,null,null,"2016-11-30"]
[null,null,null,null,null,"2016-11-29"]
[null,null,null,null,null,"2016-11-28"]
[null,null,null,null,null,"2016-11-27"]
[null,null,null,null,null,"2016-11-26"]
[null,null,null,null,null,"2016-11-25"]
[null,null,null,null,null,"2016-11-24"]
[null,null,null,null,null,"2016-11-23"]
[null,null,null,null,null,"2016-11-22"]
[null,null,null,null,null,"2016-11-21"]
[null,null,null,null,null,"2016-11-20"]
[null,null,null,null,null,"2016-11-19"]
[null,null,null,null,null,"2016-11-18"]
[null,null,null,null,null,"2016-11-17"]
[null,null,null,null,null,"2016-11-16"]
[null,null,null,null,null,"2016-11-15"]
[null,null,null,null,null,"2016-11-14"]
[null,null,null,null,null,"2016-11-13"]
[null,null,null,null,null,"2016-11-12"]
[null,null,null,null,null,"2016-11-11"]
[null,null,null,null,null,"2016-11-10"]
[null,null,null,null,null,"2016-11-09"]
[null,null,null,null,null,"2016-11-08"]
[null,null,null,null,null,"2016-11-07"]
[null,null,null,null,null,"2016-11-06"]
[null,null,null,null,null,"2016-11-05"]
[null,null,null,null,null,"2016-11-04"]
[null,null,null,null,null,"2016-11-03"]
[null,null,null,null,null,"2016-11-02"]
[null,null,null,null,null,"2016-11-01"]
[null,null,null,null,null,"2016-10-31"]
[null,null,null,null,null,"2016-10-30"]
[null,null,null,null,null,"2016-10-29"]
[null,null,null,null,null,"2016-10-28"]
[null,null,null,null,null,"2016-10-27"]
[null,null,null,null,null,"2016-10-26"]
[null,null,null,null,null,"2016-10-25"]
[null,null,null,null,null,"2016-10-24"]
[null,null,null,null,null,"2016-10-23"]
[null,null,null,null,null,{"$f":"F965-1","v":"2016-10-22"}]
[null,null,null,null,null,"2016-10-21"]
[null,null,null,null,null,"2016-10-20"]
[null,null,null,null,null,"2016-10-19"]
[null,null,null,null,null,"2016-10-18"]
[null,null,null,null,null,"2016-10-17"]
[null,null,null,null,null,"2016-10-16"]
[null,null,null,null,null,"2016-10-15"]
[null,null,null,null,null,"2016-10-14"]
[null,null,null,null,null,"2016-10-13"]
[null,null,null,null,null,"2016-10-12"]
[null,null,null,null,null,"2016-10-11"]
[null,null,null,null,null,"2016-10-10"]
[null,null,null,null,null,"2016-10-09"]
[null,null,null,null,null,"2016-10-08"]
[null,null,null,null,null,"2016-10-07"]
[null,null,null,null,null,"2016-10-06"]
[null,null,null,null,null,"2016-10-05"]
[null,null,null,null,null,"2016-10-04"]
[null,null,null,null,null,"2016-10-03"]
[null,null,null,null,null,"2016-10-02"]
[null,null,null,null,null,"2016-10-01"]
[null,null,null,null,null,"2016-09-30"]
[null,null,null,null,null,"2016-09-29"]
[null,null,null,null,null,"2016-09-28"]
[null,null,null,null,null,"2016-09-27"]
[null,null,null,null,null,"2016-09-26"]
[null,null,null,null,null,"2016-09-25"]
[null,null,null,null,null,"2016-09-24"]
[null,null,null,null,null,"2016-09-23"]
[null,null,null,null,null,"2016-09-22"]
[null,null,null,null,null,"2016-09-21"]
[null,null,null,null,null,"2016-09-20"]
[null,null,null,null,null,"2016-09-19"]
[null,null,null,null,null,"2016-09-18"]
[null,null,null,null,null,"2016-09-17"]
[null,null,null,null,null,"2016-09-16"]
[null,null,null,null,null,"2016-09-15"]
[null,null,null,null,null,"2016-09-14"]
[null,null,null,null,null,"2016-09-13"]
[null,null,null,null,null,"2016-09-12"]
[null,null,null,null,null,"2016-09-11"]
[null,null,null,null,null,"2016-09-10"]
[null,null,null,null,null,"2016-09-09"]
[null,null,null,null,null,"2016-09-08"]
[null,null,null,null,null,"2016-09-07"]
[null,null,null,null,null,"2016-09-06"]
[null,null,null,null,null,"2016-09-05"]
[null,null,null,null,null,"2016-09-04"]
[null,null,null,null,null,"2016-09-03"]
[null,null,null,null,null,"2016-09-02"]
[null,null,null,null,null,"2016-09-01"]
[null,null,null,null,null,"2016-08-31"]
[null,null,null,null,null,"2016-08-30"]
[null,null,null,null,null,"2016-08-29"]
[null,null,null,null,null,"2016-08-28"]
[null,null,null,null,null,"2016-08-27"]
[null,null,null,null,null,"2016-08-26"]
[null,null,null,null,null,"2016-08-25"]
[null,null,null,null,null,"2016-08-24"]
[null,null,null,null,null,"2016-08-23"]
[null,null,null,null,null,"2016-08-22"]
[null,null,null,null,null,"2016-08-21"]
[null,null,null,null,null,"2016-08-20"]
[null,null,null,null,null,{"$f":"F1029-1","v":"2016-08-19"}]
[null,null,null,null,null,"2016-08-18"]
[null,null,null,null,null,"2016-08-17"]
[null,null,null,null,null,"2016-08-16"]
[null,null,null,null,null,"2016-08-15"]
[null,null,null,null,null,"2016-08-14"]
[null,null,null,null,null,"2016-08-13"]
[null,null,null,null,null,"2016-08-12"]
[null,null,null,null,null,"2016-08-11"]
[null,null,null,null,null,"2016-08-10"]
[null,null,null,null,null,"2016-08-09"]
[null,null,null,null,null,"2016-08-08"]
[null,null,null,null,null,"2016-08-07"]
[null,null,null,null,null,"2016-08-06"]
[null,null,null,null,null,"2016-08-05"]
[null,null,null,null,null,"2016-08-04"]
[null,null,null,null,null,"2016-08-03"]
[null,null,null,null,null,"2016-08-02"]
[null,null,null,null,null,"2016-08-01"]
[null,null,null,null,null,"2016-07-31"]
[null,null,null,null,null,"2016-07-30"]
[null,null,null,null,null,"2016-07-29"]
[null,null,null,null,null,"2016-07-28"]
[null,null,null,null,null,"2016-07-27"]
[null,null,null,null,null,"2016-07-26"]
[null,null,null,null,null,"2016-07-25"]
[null,null,null,null,null,"2016-07-24"]
[null,null,null,null,null,"2016-07-23"]
[null,null,null,null,null,"2016-07-22"]
[null,null,null,null,null,"2016-07-21"]
[null,null,null,null,null,"2016-07-20"]
[null,null,null,null,null,"2016-07-19"]
[null,null,null,null,null,"2016-07-18"]
[null,null,null,null,null,"2016-07-17"]
[null,null,null,null,null,"2016-07-16"]
[null,null,null,null,null,"2016-07-15"]
[null,null,null,null,null,"2016-07-14"]
[null,null,null,null,null,"2016-07-13"]
[null,null,null,null,null,"2016-07-12"]
[null,null,null,null,null,"2016-07-11"]
[null,null,null,null,null,"2016-07-10"]
[null,null,null,null,null,"2016-07-09"]
[null,null,null,null,null,"2016-07-08"]
[null,null,null,null,null,"2016-07-07"]
[null,null,null,null,null,"2016-07-06"]
[null,null,null,null,null,"2016-07-05"]
[null,null,null,null,null,"2016-07-04"]
[null,null,null,null,null,"2016-07-03"]
[null,null,null,null,null,"2016-07-02"]
[null,null,null,null,null,"2016-07-01"]
[null,null,null,null,null,"2016-06-30"]
[null,null,null,null,null,"2016-06-29"]
[null,null,null,null,null,"2016-06-28"]
[null,null,null,null,null,"2016-06-27"]
[null,null,null,null,null,"2016-06-26"]
[null,null,null,null,null,"2016-06-25"]
[null,null,null,null,null,"2016-06-24"]
[null,null,null,null,null,"2016-06-23"]
[null,null,null,null,null,"2016-06-22"]
[null,null,null,null,null,"2016-06-21"]
[null,null,null,null,null,"2016-06-20"]
[null,null,null,null,null,"2016-06-19"]
[null,null,null,null,null,"2016-06-18"]
[null,null,null,null,null,"2016-06-17"]
[null,null,null,null,null,{"$f":"F1093-1","v":"2016-06-16"}]
[null,null,null,null,null,"2016-06-15"]
[null,null,null,null,null,"2016-06-14"]
[null,null,null,null,null,"2016-06-13"]
[null,null,null,null,null,"2016-06-12"]
[null,null,null,null,null,"2016-06-11"]
[null,null,null,null,null,"2016-06-10"]
[null,null,null,null,null,"2016-06-09"]
[null,null,null,null,null,"2016-06-08"]
[null,null,null,null,null,"2016-06-07"]
[null,null,null,null,null,"2016-06-06"]
[null,null,null,null,null,"2016-06-05"]
[null,null,null,null,null,"2016-06-04"]
[null,null,null,null,null,"2016-06-03"]
[null,null,null,null,null,"2016-06-02"]
[null,null,null,null,null,"2016-06-01"]
[null,null,null,null,null,"2016-05-31"]
[null,null,null,null,null,"2016-05-30"]
[null,null,null,null,null,"2016-05-29"]
[null,null,null,null,null,"2016-05-28"]
[null,null,null,null,null,"2016-05-27"]
[null,null,null,null,null,"2016-05-26"]
[null,null,null,null,null,"2016-05-25"]
[null,null,null,null,null,"2016-05-24"]
[null,null,null,null,null,"2016-05-23"]
[null,null,null,null,null,"2016-05-22"]
[null,null,null,null,null,"2016-05-21"]
[null,null,null,null,null,"2016-05-20"]
[null,null,null,null,null,"2016-05-19"]
[null,null,null,null,null,"2016-05-18"]
[null,null,null,null,null,"2016-05-17"]
[null,null,null,null,null,"2016-05-16"]
[null,null,null,null,null,"2016-05-15"]
[null,null,null,null,null,"2016-05-14"]
[null,null,null,null,null,"2016-05-13"]
[null,null,null,null,null,"2016-05-12"]
[null,null,null,null,null,"2016-05-11"]
[null,null,null,null,null,"2016-05-10"]
[null,null,null,null,null,"2016-05-09"]
[null,null,null,null,null,"2016-05-08"]
[null,null,null,null,null,"2016-05-07"]
[null,null,null,null,null,"2016-05-06"]
[null,null,null,null,null,"2016-05-05"]
[null,null,null,null,null,"2016-05-04"]
[null,null,null,null,null,"2016-05-03"]
[null,null,null,null,null,"2016-05-02"]
[null,null,null,null,null,"2016-05-01"]
[null,null,null,null,null,"2016-04-30"]
[null,null,null,null,null,"2016-04-29"]
[null,null,null,null,null,"2016-04-28"]
[null,null,null,null,null,"2016-04-27"]
[null,null,null,null,null,"2016-04-26"]
[null,null,null,null,null,"2016-04-25"]
[null,null,null,null,null,"2016-04-24"]
[null,null,null,null,null,"2016-04-23"]
[null,null,null,null,null,"2016-04-22"]
[null,null,null,null,null,"2016-04-21"]
[null,null,null,null,null,"2016-04-20"]
[null,null,null,null,null,"2016-04-19"]
[null,null,null,null,null,"2016-04-18"]
[null,null,null,null,null,"2016-04-17"]
[null,null,null,null,null,"2016-04-16"]
[null,null,null,null,null,"2016-04-15"]
[null,null,null,null,null,"2016-04-14"]
[null,null,null,null,null,{"$f":"F1157-1","v":"2016-04-13"}]
[null,null,null,null,null,"2016-04-12"]
[null,null,null,null,null,"2016-04-11"]
[null,null,null,null,null,"2016-04-10"]
[null,null,null,null,null,"2016-04-09"]
[null,null,null,null,null,"2016-04-08"]
[null,null,null,null,null,"2016-04-07"]
[null,null,null,null,null,"2016-04-06"]
[null,null,null,null,null,"2016-04-05"]
[null,null,null,null,null,"2016-04-04"]
[null,null,null,null,null,"2016-04-03"]
[null,null,null,null,null,"2016-04-02"]
[null,null,null,null,null,"2016-04-01"]
[null,null,null,null,null,"2016-03-31"]
[null,null,null,null,null,"2016-03-30"]
[null,null,null,null,null,"2016-03-29"]
[null,null,null,null,null,"2016-03-28"]
[null,null,null,null,null,"2016-03-27"]
[null,null,null,null,null,"2016-03-26"]
[null,null,null,null,null,"2016-03-25"]
[null,null,null,null,null,"2016-03-24"]
[null,null,null,null,null,"2016-03-23"]
[null,null,null,null,null,"2016-03-22"]
[null,null,null,null,null,"2016-03-21"]
[null,null,null,null,null,"2016-03-20"]
[null,null,null,null,null,"2016-03-19"]
[null,null,null,null,null,"2016-03-18"]
[null,null,null,null,null,"2016-03-17"]
[null,null,null,null,null,"2016-03-16"]
[null,null,null,null,null,"2016-03-15"]
[null,null,null,null,null,"2016-03-14"]
[null,null,null,null,null,"2016-03-13"]
[null,null,null,null,null,"2016-03-12"]
[null,null,null,null,null,"2016-03-11"]
[null,null,null,null,null,"2016-03-10"]
[null,null,null,null,null,"2016-03-09"]
[null,null,null,null,null,"2016-03-08"]
[null,null,null,null,null,"2016-03-07"]
[null,null,null,null,null,"2016-03-06"]
[null,null,null,null,null,"2016-03-05"]
[null,null,null,null,null,"2016-03-04"]
[null,null,null,null,null,"2016-03-03"]
[null,null,null,null,null,"2016-03-02"]
[null,null,null,null,null,"2016-03-01"]
[null,null,null,null,null,"2016-02-29"]
[null,null,null,null,null,"2016-02-28"]
[null,null,null,null,null,"2016-02-27"]
[null,null,null,null,null,"2016-02-26"]
[null,null,null,null,null,"2016-02-25"]
[null,null,null,null,null,"2016-02-24"]
[null,null,null,null,null,"2016-02-23"]
[null,null,null,null,null,"2016-02-22"]
[null,null,null,null,null,"2016-02-21"]
[null,null,null,null,null,"2016-02-20"]
[null,null,null,null,null,"2016-02-19"]
[null,null,null,null,null,"2016-02-18"]
[null,null,null,null,null,"2016-02-17"]
[null,null,null,null,null,"2016-02-16"]
[null,null,null,null,null,"2016-02-15"]
[null,null,null,null,null,"2016-02-14"]
[null,null,null,null,null,"2016-02-13"]
[null,null,null,null,null,"2016-02-12"]
[null,null,null,null,null,"2016-02-11"]
[null,null,null,null,null,"2016-02-10"]
[null,null,null,null,null,{"$f":"F1221-1","v":"2016-02-09"}]
[null,null,null,null,null,"2016-02-08"]
[null,null,null,null,null,"2016-02-07"]
[null,null,null,null,null,"2016-02-06"]
[null,null,null,null,null,"2016-02-05"]
[null,null,null,null,null,"2016-02-04"]
[null,null,null,null,null,"2016-02-03"]
[null,null,null,null,null,"2016-02-02"]
[null,null,null,null,null,"2016-02-01"]
[null,null,null,null,null,"2016-01-31"]
[null,null,null,null,null,"2016-01-30"]
[null,null,null,null,null,"2016-01-29"]
[null,null,null,null,null,"2016-01-28"]
[null,null,null,null,null,"2016-01-27"]
[null,null,null,null,null,"2016-01-26"]
[null,null,null,null,null,"2016-01-25"]
[null,null,null,null,null,"2016-01-24"]
[null,null,null,null,null,"2016-01-23"]
[null,null,null,null,null,"2016-01-22"]
[null,null,null,null,null,"2016-01-21"]
[null,null,null,null,null,"2016-01-20"]
[null,null,null,null,null,"2016-01-19"]
[null,null,null,null,null,"2016-01-18"]
[null,null,null,null,null,"2016-01-17"]
[null,null,null,null,null,"2016-01-16"]
[null,null,null,null,null,"2016-01-15"]
[null,null,null,null,null,"2016-01-14"]
[null,null,null,null,null,"2016-01-13"]
[null,null,null,null,null,"2016-01-12"]
[null,null,null,null,null,"2016-01-11"]
[null,null,null,null,null,"2016-01-10"]
[null,null,null,null,null,"2016-01-09"]
[null,null,null,null,null,"2016-01-08"]
[null,null,null,null,null,"2016-01-07"]
[null,null,null,null,null,"2016-01-06"]
[null,null,null,null,null,"2016-01-05"]
[null,null,null,null,null,"2016-01-04"]
[null,null,null,null,null,"2016-01-03"]
[null,null,null,null,null,"2016-01-02"]
[null,null,null,null,null,"2016-01-01"]
[null,null,null,null,null,"2015-12-31"]
[null,null,null,null,null,"2015-12-30"]
[null,null,null,null,null,"2015-12-29"]
[null,null,null,null,null,"2015-12-28"]
[null,null,null,null,null,"2015-12-27"]
[null,null,null,null,null,"2015-12-26"]
[null,null,null,null,null,"2015-12-25"]
[null,null,null,null,null,"2015-12-24"]
[null,null,null,null,null,"2015-12-23"]
[null,null,null,null,null,"2015-12-22"]
[null,null,null,null,null,"2015-12-21"]
[null,null,null,null,null,"2015-12-20"]
[null,null,null,null,null,"2015-12-19"]
[null,null,null,null,null,"2015-12-18"]
[null,null,null,null,null,"2015-12-17"]
[null,null,null,null,null,"2015-12-16"]
[null,null,null,null,null,"2015-12-15"]
[null,null,null,null,null,"2015-12-14"]
[null,null,null,null,null,"2015-12-13"]
[null,null,null,null,null,"2015-12-12"]
[null,null,null,null,null,"2015-12-11"]
[null,null,null,null,null,"2015-12-10"]
[null,null,null,null,null,"2015-12-09"]
[null,null,null,null,null,"2015-12-08"]
[null,null,null,null,null,{"$f":"F1285-1","v":"2015-12-07"}]
[null,null,null,null,null,"2015-12-06"]
[null,null,null,null,null,"2015-12-05"]
[null,null,null,null,null,"2015-12-04"]
[null,null,null,null,null,"2015-12-03"]
[null,null,null,null,null,"2015-12-02"]
[null,null,null,null,null,"2015-12-01"]
[null,null,null,null,null,"2015-11-30"]
[null,null,null,null,null,"2015-11-29"]
[null,null,null,null,null,"2015-11-28"]
[null,null,null,null,null,"2015-11-27"]
[null,null,null,null,null,"2015-11-26"]
[null,null,null,null,null,"2015-11-25"]
[null,null,null,null,null,"2015-11-24"]
[null,null,null,null,null,"2015-11-23"]
[null,null,null,null,null,"2015-11-22"]
[null,null,null,null,null,"2015-11-21"]
[null,null,null,null,null,"2015-11-20"]
[null,null,null,null,null,"2015-11-19"]
[null,null,null,null,null,"2015-11-18"]
[null,null,null,null,null,"2015-11-17"]
[null,null,null,null,null,"2015-11-16"]
[null,null,null,null,null,"2015-11-15"]
[null,null,null,null,null,"2015-11-14"]
[null,null,null,null,null,"2015-11-13"]
[null,null,null,null,null,"2015-11-12"]
[null,null,null,null,null,"2015-11-11"]
[null,null,null,null,null,"2015-11-10"]
[null,null,null,null,null,"2015-11-09"]
[null,null,null,null,null,"2015-11-08"]
[null,null,null,null,null,"2015-11-07"]
[null,null,null,null,null,"2015-11-06"]
[null,null,null,null,null,"2015-11-05"]
[null,null,null,null,null,"2015-11-04"]
[null,null,null,null,null,"2015-11-03"]
[null,null,null,null,null,"2015-11-02"]
[null,null,null,null,null,"2015-11-01"]
[null,null,null,null,null,"2015-10-31"]
[null,null,null,null,null,"2015-10-30"]
[null,null,null,null,null,"2015-10-29"]
[null,null,null,null,null,"2015-10-28"]
[null,null,null,null,null,"2015-10-27"]
[null,null,null,null,null,"2015-10-26"]
[null,null,null,null,null,"2015-10-25"]
[null,null,null,null,null,"2015-10-24"]
[null,null,null,null,null,"2015-10-23"]
[null,null,null,null,null,"2015-10-22"]
[null,null,null,null,null,"2015-10-21"]
[null,null,null,null,null,"2015-10-20"]
[null,null,null,null,null,"2015-10-19"]
[null,null,null,null,null,"2015-10-18"]
[null,null,null,null,null,"2015-10-17"]
[null,null,null,null,null,"2015-10-16"]
[null,null,null,null,null,"2015-10-15"]
[null,null,null,null,null,"2015-10-14"]
[null,null,null,null,null,"2015-10-13"]
[null,null,null,null,null,"2015-10-12"]
[null,null,null,null,null,"2015-10-11"]
[null,null,null,null,null,"2015-10-10"]
[null,null,null,null,null,"2015-10-09"]
[null,null,null,null,null,"2015-10-08"]
[null,null,null,null,null,"2015-10-07"]
[null,null,null,null,null,"2015-10-06"]
[null,null,null,null,null,"2015-10-05"]
[null,null,null,null,null,{"$f":"F1349-1","v":"2015-10-04"}]
[null,null,null,null,null,"2015-10-03"]
[null,null,null,null,null,"2015-10-02"]
[null,null,null,null,null,"2015-10-01"]
[null,null,null,null,null,"2015-09-30"]
[null,null,null,null,null,"2015-09-29"]
[null,null,null,null,null,"2015-09-28"]
[null,null,null,null,null,"2015-09-27"]
[null,null,null,null,null,"2015-09-26"]
[null,null,null,null,null,"2015-09-25"]
[null,null,null,null,null,"2015-09-24"]
[null,null,null,null,null,"2015-09-23"]
[null,null,null,null,null,"2015-09-22"]
[null,null,null,null,null,"2015-09-21"]
[null,null,null,null,null,"2015-09-20"]
[null,null,null,null,null,"2015-09-19"]
[null,null,null,null,null,"2015-09-18"]
[null,null,null,null,null,"2015-09-17"]
[null,null,null,null,null,"2015-09-16"]
[null,null,null,null,null,"2015-09-15"]
[null,null,null,null,null,"2015-09-14"]
[null,null,null,null,null,"2015-09-13"]
[null,null,null,null,null,"2015-09-12"]
[null,null,null,null,null,"2015-09-11"]
[null,null,null,null,null,"2015-09-10"]
[null,null,null,null,null,"2015-09-09"]
[null,null,null,null,null,"2015-09-08"]
[null,null,null,null,null,"2015-09-07"]
[null,null,null,null,null,"2015-09-06"]
[null,null,null,null,null,"2015-09-05"]
[null,null,null,null,null,"2015-09-04"]
[null,null,null,null,null,"2015-09-03"]
[null,null,null,null,null,"2015-09-02"]
[null,null,null,null,null,"2015-09-01"]
[null,null,null,null,null,"2015-08-31"]
[null,null,null,null,null,"2015-08-30"]
[null,null,null,null,null,"2015-08-29"]
[null,null,null,null,null,"2015-08-28"]
[null,null,null,null,null,"2015-08-27"]
[null,null,null,null,null,"2015-08-26"]
[null,null,null,null,null,"2015-08-25"]
[null,null,null,null,null,"2015-08-24"]
[null,null,null,null,null,"2015-08-23"]
[null,null,null,null,null,"2015-08-22"]
[null,null,null,null,null,"2015-08-21"]
[null,null,null,null,null,"2015-08-20"]
[null,null,null,null,null,"2015-08-19"]
[null,null,null,null,null,"2015-08-18"]
[null,null,null,null,null,"2015-08-17"]
[null,null,null,null,null,"2015-08-16"]
[null,null,null,null,null,"2015-08-15"]
[null,null,null,null,null,"2015-08-14"]
[null,null,null,null,null,"2015-08-13"]
[null,null,null,null,null,"2015-08-12"]
[null,null,null,null,null,"2015-08-11"]
[null,null,null,null,null,"2015-08-10"]
[null,null,null,null,null,"2015-08-09"]
[null,null,null,null,null,"2015-08-08"]
[null,null,null,null,null,"2015-08-07"]
[null,null,null,null,null,"2015-08-06"]
[null,null,null,null,null,"2015-08-05"]
[null,null,null,null,null,"2015-08-04"]
[null,null,null,null,null,"2015-08-03"]
[null,null,null,null,null,"2015-08-02"]
[null,null,null,null,null,{"$f":"F1413-1","v":"2015-08-01"}]
[null,null,null,null,null,"2015-07-31"]
[null,null,null,null,null,"2015-07-30"]
[null,null,null,null,null,"2015-07-29"]
[null,null,null,null,null,"2015-07-28"]
[null,null,null,null,null,"2015-07-27"]
[null,null,null,null,null,"2015-07-26"]
[null,null,null,null,null,"2015-07-25"]
[null,null,null,null,null,"2015-07-24"]
[null,null,null,null,null,"2015-07-23"]
[null,null,null,null,null,"2015-07-22"]
[null,null,null,null,null,"2015-07-21"]
[null,null,null,null,null,"2015-07-20"]
[null,null,null,null,null,"2015-07-19"]
[null,null,null,null,null,"2015-07-18"]
[null,null,null,null,null,"2015-07-17"]
[null,null,null,null,null,"2015-07-16"]
[null,null,null,null,null,"2015-07-15"]
[null,null,null,null,null,"2015-07-14"]
[null,null,null,null,null,"2015-07-13"]
[null,null,null,null,null,"2015-07-12"]
[null,null,null,null,null,"2015-07-11"]
[null,null,null,null,null,"2015-07-10"]
[null,null,null,null,null,"2015-07-09"]
[null,null,null,null,null,"2015-07-08"]
[null,null,null,null,null,"2015-07-07"]
[null,null,null,null,null,"2015-07-06"]
[null,null,null,null,null,"2015-07-05"]
[null,null,null,null,null,"2015-07-04"]
[null,null,null,null,null,"2015-07-03"]
[null,null,null,null,null,"2015-07-02"]
[null,null,null,null,null,"2015-07-01"]
[null,null,null,null,null,"2015-06-30"]
[null,null,null,null,null,"2015-06-29"]
[null,null,null,null,null,"2015-06-28"]
[null,null,null,null,null,"2015-06-27"]
[null,null,null,null,null,"2015-06-26"]
[null,null,null,null,null,"2015-06-25"]
[null,null,null,null,null,"2015-06-24"]
[null,null,null,null,null,"2015-06-23"]
[null,null,null,null,null,"2015-06-22"]
[null,null,null,null,null,"2015-06-21"]
[null,null,null,null,null,"2015-06-20"]
[null,null,null,null,null,"2015-06-19"]
[null,null,null,null,null,"2015-06-18"]
[null,null,null,null,null,"2015-06-17"]
[null,null,null,null,null,"2015-06-16"]
[null,null,null,null,null,"2015-06-15"]
[null,null,null,null,null,"2015-06-14"]
[null,null,null,null,null,"2015-06-13"]
[null,null,null,null,null,"2015-06-12"]
[null,null,null,null,null,"2015-06-11"]
[null,null,null,null,null,"2015-06-10"]
[null,null,null,null,null,"2015-06-09"]
[null,null,null,null,null,"2015-06-08"]
[null,null,null,null,null,"2015-06-07"]
[null,null,null,null,null,"2015-06-06"]
[null,null,null,null,null,"2015-06-05"]
[null,null,null,null,null,"2015-06-04"]
[null,null,null,null,null,"2015-06-03"]
[null,null,null,null,null,"2015-06-02"]
[null,null,null,null,null,"2015-06-01"]
[null,null,null,null,null,"2015-05-31"]
[null,null,null,null,null,"2015-05-30"]
[null,null,null,null,null,{"$f":"F1477-1","v":"2015-05-29"}]
[null,null,null,null,null,"2015-05-28"]
[null,null,null,null,null,"2015-05-27"]
[null,null,null,null,null,"2015-05-26"]
[null,null,null,null,null,"2015-05-25"]
[null,null,null,null,null,"2015-05-24"]
[null,null,null,null,null,"2015-05-23"]
[null,null,null,null,null,"2015-05-22"]
[null,null,null,null,null,"2015-05-21"]
[null,null,null,null,null,"2015-05-20"]
[null,null,null,null,null,"2015-05-19"]
[null,null,null,null,null,"2015-05-18"]
[null,null,null,null,null,"2015-05-17"]
[null,null,null,null,null,"2015-05-16"]
[null,null,null,null,null,"2015-05-15"]
[null,null,null,null,null,"2015-05-14"]
[null,null,null,null,null,"2015-05-13"]
[null,null,null,null,null,"2015-05-12"]
[null,null,null,null,null,"2015-05-11"]
[null,null,null,null,null,"2015-05-10"]
[null,null,null,null,null,"2015-05-09"]
[null,null,null,null,null,"2015-05-08"]
[null,null,null,null,null,"2015-05-07"]
[null,null,null,null,null,"2015-05-06"]
[null,null,null,null,null,"2015-05-05"]
[null,null,null,null,null,"2015-05-04"]
[null,null,null,null,null,"2015-05-03"]
[null,null,null,null,null,"2015-05-02"]
[null,null,null,null,null,"2015-05-01"]
[null,null,null,null,null,"2015-04-30"]
[null,null,null,null,null,"2015-04-29"]
[null,null,null,null,null,"2015-04-28"]
[null,null,null,null,null,"2015-04-27"]
[null,null,null,null,null,"2015-04-26"]
[null,null,null,null,null,"2015-04-25"]
[null,null,null,null,null,"2015-04-24"]
[null,null,null,null,null,"2015-04-23"]
[null,null,null,null,null,"2015-04-22"]
[null,null,null,null,null,"2015-04-21"]
[null,null,null,null,null,"2015-04-20"]
[null,null,null,null,null,"2015-04-19"]
[null,null,null,null,null,"2015-04-18"]
[null,null,null,null,null,"2015-04-17"]
[null,null,null,null,null,"2015-04-16"]
[null,null,null,null,null,"2015-04-15"]
[null,null,null,null,null,"2015-04-14"]
[null,null,null,null,null,"2015-04-13"]
[null,null,null,null,null,"2015-04-12"]
[null,null,null,null,null,"2015-04-11"]
[null,null,null,null,null,"2015-04-10"]
[null,null,null,null,null,"2015-04-09"]
[null,null,null,null,null,"2015-04-08"]
[null,null,null,null,null,"2015-04-07"]
[null,null,null,null,null,"2015-04-06"]
[null,null,null,null,null,"2015-04-05"]
[null,null,null,null,null,"2015-04-04"]
[null,null,null,null,null,"2015-04-03"]
[null,null,null,null,null,"2015-04-02"]
[null,null,null,null,null,"2015-04-01"]
[null,null,null,null,null,"2015-03-31"]
[null,null,null,null,null,"2015-03-30"]
[null,null,null,null,null,"2015-03-29"]
[null,null,null,null,null,"2015-03-28"]
[null,null,null,null,null,"2015-03-27"]
[null,null,null,null,null,{"$f":"F1541-1","v":"2015-03-26"}]
[null,null,null,null,null,"2015-03-25"]
[null,null,null,null,null,"2015-03-24"]
[null,null,null,null,null,"2015-03-23"]
[null,null,null,null,null,"2015-03-22"]
[null,null,null,null,null,"2015-03-21"]
[null,null,null,null,null,"2015-03-20"]
[null,null,null,null,null,"2015-03-19"]
[null,null,null,null,null,"2015-03-18"]
[null,null,null,null,null,"2015-03-17"]
[null,null,null,null,null,"2015-03-16"]
[null,null,null,null,null,"2015-03-15"]
[null,null,null,null,null,"2015-03-14"]
[null,null,null,null,null,"2015-03-13"]
[null,null,null,null,null,"2015-03-12"]
[null,null,null,null,null,"2015-03-11"]
[null,null,null,null,null,"2015-03-10"]
[null,null,null,null,null,"2015-03-09"]
[null,null,null,null,null,"2015-03-08"]
[null,null,null,null,null,"2015-03-07"]
[null,null,null,null,null,"2015-03-06"]
[null,null,null,null,null,"2015-03-05"]
[null,null,null,null,null,"2015-03-04"]
[null,null,null,null,null,"2015-03-03"]
[null,null,null,null,null,"2015-03-02"]
[null,null,null,null,null,"2015-03-01"]
[null,null,null,null,null,"2015-02-28"]
[null,null,null,null,null,"2015-02-27"]
[null,null,null,null,null,"2015-02-26"]
[null,null,null,null,null,"2015-02-25"]
[null,null,null,null,null,"2015-02-24"]
[null,null,null,null,null,"2015-02-23"]
[null,null,null,null,null,"2015-02-22"]
[null,null,null,null,null,"2015-02-21"]
[null,null,null,null,null,"2015-02-20"]
[null,null,null,null,null,"2015-02-19"]
[null,null,null,null,null,"2015-02-18"]
[null,null,null,null,null,"2015-02-17"]
[null,null,null,null,null,"2015-02-16"]
[null,null,null,null,null,"2015-02-15"]
[null,null,null,null,null,"2015-02-14"]
[null,null,null,null,null,"2015-02-13"]
[null,null,null,null,null,"2015-02-12"]
[null,null,null,null,null,"2015-02-11"]
[null,null,null,null,null,"2015-02-10"]
[null,null,null,null,null,"2015-02-09"]
[null,null,null,null,null,"2015-02-08"]
[null,null,null,null,null,"2015-02-07"]
[null,null,null,null,null,"2015-02-06"]
[null,null,null,null,null,"2015-02-05"]
[null,null,null,null,null,"2015-02-04"]
[null,null,null,null,null,"2015-02-03"]
[null,null,null,null,null,"2015-02-02"]
[null,null,null,null,null,"2015-02-01"]
[null,null,null,null,null,"2015-01-31"]
[null,null,null,null,null,"2015-01-30"]
[null,null,null,null,null,"2015-01-29"]
[null,null,null,null,null,"2015-01-28"]
[null,null,null,null,null,"2015-01-27"]
[null,null,null,null,null,"2015-01-26"]
[null,null,null,null,null,"2015-01-25"]
[null,null,null,null,null,"2015-01-24"]
[null,null,null,null,null,"2015-01-23"]
[null,null,null,null,null,"2015-01-22"]
[null,null,null,null,null,{"$f":"F1605-1","v":"2015-01-21"}]
[null,null,null,null,null,"2015-01-20"]
[null,null,null,null,null,"2015-01-19"]
[null,null,null,null,null,"2015-01-18"]
[null,null,null,null,null,"2015-01-17"]
[null,null,null,null,null,"2015-01-16"]
[null,null,null,null,null,"2015-01-15"]
[null,null,null,null,null,"2015-01-14"]
[null,null,null,null,null,"2015-01-13"]
[null,null,null,null,null,"2015-01-12"]
[null,null,null,null,null,"2015-01-11"]
[null,null,null,null,null,"2015-01-10"]
[null,null,null,null,null,"2015-01-09"]
[null,null,null,null,null,"2015-01-08"]
[null,null,null,null,null,"2015-01-07"]
[null,null,null,null,null,"2015-01-06"]
[null,null,null,null,null,"2015-01-05"]
[null,null,null,null,null,"2015-01-04"]
[null,null,null,null,null,"2015-01-03"]
[null,null,null,null,null,"2015-01-02"]
[null,null,null,null,null,"2015-01-01"]
[null,null,null,null,null,"2014-12-31"]
[null,null,null,null,null,"2014-12-30"]
[null,null,null,null,null,"2014-12-29"]
[null,null,null,null,null,"2014-12-28"]
[null,null,null,null,null,"2014-12-27"]
[null,null,null,null,null,"2014-12-26"]
[null,null,null,null,null,"2014-12-25"]
[null,null,null,null,null,"2014-12-24"]
[null,null,null,null,null,"2014-12-23"]
[null,null,null,null,null,"2014-12-22"]
[null,null,null,null,null,"2014-12-21"]
[null,null,null,null,null,"2014-12-20"]
[null,null,null,null,null,"2014-12-19"]
[null,null,null,null,null,"2014-12-18"]
[null,null,null,null,null,"2014-12-17"]
[null,null,null,null,null,"2014-12-16"]
[null,null,null,null,null,"2014-12-15"]
[null,null,null,null,null,"2014-12-14"]
[null,null,null,null,null,"2014-12-13"]
[null,null,null,null,null,"2014-12-12"]
[null,null,null,null,null,"2014-12-11"]
[null,null,null,null,null,"2014-12-10"]
[null,null,null,null,null,"2014-12-09"]
[null,null,null,null,null,"2014-12-08"]
[null,null,null,null,null,"2014-12-07"]
[null,null,null,null,null,"2014-12-06"]
[null,null,null,null,null,"2014-12-05"]
[null,null,null,null,null,"2014-12-04"]
[null,null,null,null,null,"2014-12-03"]
[null,null,null,null,null,"2014-12-02"]
[null,null,null,null,null,"2014-12-01"]
[null,null,null,null,null,"2014-11-30"]
[null,null,null,null,null,"2014-11-29"]
[null,null,null,null,null,"2014-11-28"]
[null,null,null,null,null,"2014-11-27"]
[null,null,null,null,null,"2014-11-26"]
[null,null,null,null,null,"2014-11-25"]
[null,null,null,null,null,"2014-11-24"]
[null,null,null,null,null,"2014-11-23"]
[null,null,null,null,null,"2014-11-22"]
[null,null,null,null,null,"2014-11-21"]
[null,null,null,null,null,"2014-11-20"]
[null,null,null,null,null,"2014-11-19"]
[null,null,null,null,null,{"$f":"F1669-1","v":"2014-11-18"}]
[null,null,null,null,null,"2014-11-17"]
[null,null,null,null,null,"2014-11-16"]
[null,null,null,null,null,"2014-11-15"]
[null,null,null,null,null,"2014-11-14"]
[null,null,null,null,null,"2014-11-13"]
[null,null,null,null,null,"2014-11-12"]
[null,null,null,null,null,"2014-11-11"]
[null,null,null,null,null,"2014-11-10"]
[null,null,null,null,null,"2014-11-09"]
[null,null,null,null,null,"2014-11-08"]
[null,null,null,null,null,"2014-11-07"]
[null,null,null,null,null,"2014-11-06"]
[null,null,null,null,null,"2014-11-05"]
[null,null,null,null,null,"2014-11-04"]
[null,null,null,null,null,"2014-11-03"]
[null,null,null,null,null,"2014-11-02"]
[null,null,null,null,null,"2014-11-01"]
[null,null,null,null,null,"2014-10-31"]
[null,null,null,null,null,"2014-10-30"]
[null,null,null,null,null,"2014-10-29"]
[null,null,null,null,null,"2014-10-28"]
[null,null,null,null,null,"2014-10-27"]
[null,null,null,null,null,"2014-10-26"]
[null,null,null,null,null,"2014-10-25"]
[null,null,null,null,null,"2014-10-24"]
[null,null,null,null,null,"2014-10-23"]
[null,null,null,null,null,"2014-10-22"]
[null,null,null,null,null,"2014-10-21"]
[null,null,null,null,null,"2014-10-20"]
[null,null,null,null,null,"2014-10-19"]
[null,null,null,null,null,"2014-10-18"]
[null,null,null,null,null,"2014-10-17"]
[null,null,null,null,null,"2014-10-16"]
[null,null,null,null,null,"2014-10-15"]
[null,null,null,null,null,"2014-10-14"]
[null,null,null,null,null,"2014-10-13"]
[null,null,null,null,null,"2014-10-12"]
[null,null,null,null,null,"2014-10-11"]
[null,null,null,null,null,"2014-10-10"]
[null,null,null,null,null,"2014-10-09"]
[null,null,null,null,null,"2014-10-08"]
[null,null,null,null,null,"2014-10-07"]
[null,null,null,null,null,"2014-10-06"]
[null,null,null,null,null,"2014-10-05"]
[null,null,null,null,null,"2014-10-04"]
[null,null,null,null,null,"2014-10-03"]
[null,null,null,null,null,"2014-10-02"]
[null,null,null,null,null,"2014-10-01"]
[null,null,null,null,null,"2014-09-30"]
[null,null,null,null,null,"2014-09-29"]
[null,null,null,null,null,"2014-09-28"]
[null,null,null,null,null,"2014-09-27"]
[null,null,null,null,null,"2014-09-26"]
[null,null,null,null,null,"2014-09-25"]
[null,null,null,null,null,"2014-09-24"]
[null,null,null,null,null,"2014-09-23"]
[null,null,null,null,null,"2014-09-22"]
[null,null,null,null,null,"2014-09-21"]
[null,null,null,null,null,"2014-09-20"]
[null,null,null,null,null,"2014-09-19"]
[null,null,null,null,null,"2014-09-18"]
[null,null,null,null,null,"2014-09-17"]
[null,null,null,null,null,"2014-09-16"]
[null,null,null,null,null,{"$f":"F1733-1","v":"2014-09-15"}]
[null,null,null,null,null,"2014-09-14"]
[null,null,null,null,null,"2014-09-13"]
[null,null,null,null,null,"2014-09-12"]
[null,null,null,null,null,"2014-09-11"]
[null,null,null,null,null,"2014-09-10"]
[null,null,null,null,null,"2014-09-09"]
[null,null,null,null,null,"2014-09-08"]
[null,null,null,null,null,"2014-09-07"]
[null,null,null,null,null,"2014-09-06"]
[null,null,null,null,null,"2014-09-05"]
[null,null,null,null,null,"2014-09-04"]
[null,null,null,null,null,"2014-09-03"]
[null,null,null,null,null,"2014-09-02"]
[null,null,null,null,null,"2014-09-01"]
[null,null,null,null,null,"2014-08-31"]
[null,null,null,null,null,"2014-08-30"]
[null,null,null,null,null,"2014-08-29"]
[null,null,null,null,null,"2014-08-28"]
[null,null,null,null,null,"2014-08-27"]
[null,null,null,null,null,"2014-08-26"]
[null,null,null,null,null,"2014-08-25"]
[null,null,null,null,null,"2014-08-24"]
[null,null,null,null,null,"2014-08-23"]
[null,null,null,null,null,"2014-08-22"]
[null,null,null,null,null,"2014-08-21"]
[null,null,null,null,null,"2014-08-20"]
[null,null,null,null,null,"2014-08-19"]
[null,null,null,null,null,"2014-08-18"]
[null,null,null,null,null,"2014-08-17"]
[null,null,null,null,null,"2014-08-16"]
[null,null,null,null,null,"2014-08-15"]
[null,null,null,null,null,"2014-08-14"]
[null,null,null,null,null,"2014-08-13"]
[null,null,null,null,null,"2014-08-12"]
[null,null,null,null,null,"2014-08-11"]
[null,null,null,null,null,"2014-08-10"]
[null,null,null,null,null,"2014-08-09"]
[null,null,null,null,null,"2014-08-08"]
[null,null,null,null,null,"2014-08-07"]
[null,null,null,null,null,"2014-08-06"]
[null,null,null,null,null,"2014-08-05"]
[null,null,null,null,null,"2014-08-04"]
[null,null,null,null,null,"2014-08-03"]
[null,null,null,null,null,"2014-08-02"]
[null,null,null,null,null,"2014-08-01"]
[null,null,null,null,null,"2014-07-31"]
[null,null,null,null,null,"2014-07-30"]
[null,null,null,null,null,"2014-07-29"]
[null,null,null,null,null,"2014-07-28"]
[null,null,null,null,null,"2014-07-27"]
[null,null,null,null,null,"2014-07-26"]
[null,null,null,null,null,"2014-07-25"]
[null,null,null,null,null,"2014-07-24"]
[null,null,null,null,null,"2014-07-23"]
[null,null,null,null,null,"2014-07-22"]
[null,null,null,null,null,"2014-07-21"]
[null,null,null,null,null,"2014-07-20"]
[null,null,null,null,null,"2014-07-19"]
[null,null,null,null,null,"2014-07-18"]
[null,null,null,null,null,"2014-07-17"]
[null,null,null,null,null,"2014-07-16"]
[null,null,null,null,null,"2014-07-15"]
[null,null,null,null,null,"2014-07-14"]
[null,null,null,null,null,{"$f":"F1797-1","v":"2014-07-13"}]
[null,null,null,null,null,"2014-07-12"]
[null,null,null,null,null,"2014-07-11"]
[null,null,null,null,null,"2014-07-10"]
[null,null,null,null,null,"2014-07-09"]
[null,null,null,null,null,"2014-07-08"]
[null,null,null,null,null,"2014-07-07"]
[null,null,null,null,null,"2014-07-06"]
[null,null,null,null,null,"2014-07-05"]
[null,null,null,null,null,"2014-07-04"]
[null,null,null,null,null,"2014-07-03"]
[null,null,null,null,null,"2014-07-02"]
[null,null,null,null,null,"2014-07-01"]
[null,null,null,null,null,"2014-06-30"]
[null,null,null,null,null,"2014-06-29"]
[null,null,null,null,null,"2014-06-28"]
[null,null,null,null,null,"2014-06-27"]
[null,null,null,null,null,"2014-06-26"]
[null,null,null,null,null,"2014-06-25"]
[null,null,null,null,null,"2014-06-24"]
[null,null,null,null,null,"2014-06-23"]
[null,null,null,null,null,"2014-06-22"]
[null,null,null,null,null,"2014-06-21"]
[null,null,null,null,null,"2014-06-20"]
[null,null,null,null,null,"2014-06-19"]
[null,null,null,null,null,"2014-06-18"]
[null,null,null,null,null,"2014-06-17"]
[null,null,null,null,null,"2014-06-16"]
[null,null,null,null,null,"2014-06-15"]
[null,null,null,null,null,"2014-06-14"]
[null,null,null,null,null,"2014-06-13"]
[null,null,null,null,null,"2014-06-12"]
[null,null,null,null,null,"2014-06-11"]
[null,null,null,null,null,"2014-06-10"]
[null,null,null,null,null,"2014-06-09"]
[null,null,null,null,null,"2014-06-08"]
[null,null,null,null,null,"2014-06-07"]
[null,null,null,null,null,"2014-06-06"]
[null,null,null,null,null,"2014-06-05"]
[null,null,null,null,null,"2014-06-04"]
[null,null,null,null,null,"2014-06-03"]
[null,null,null,null,null,"2014-06-02"]
[null,null,null,null,null,"2014-06-01"]
[null,null,null,null,null,"2014-05-31"]
[null,null,null,null,null,"2014-05-30"]
[null,null,null,null,null,"2014-05-29"]
[null,null,null,null,null,"2014-05-28"]
[null,null,null,null,null,"2014-05-27"]
[null,null,null,null,null,"2014-05-26"]
[null,null,null,null,null,"2014-05-25"]
[null,null,null,null,null,"2014-05-24"]
[null,null,null,null,null,"2014-05-23"]
[null,null,null,null,null,"2014-05-22"]
[null,null,null,null,null,"2014-05-21"]
[null,null,null,null,null,"2014-05-20"]
[null,null,null,null,null,"2014-05-19"]
[null,null,null,null,null,"2014-05-18"]
[null,null,null,null,null,"2014-05-17"]
[null,null,null,null,null,"2014-05-16"]
[null,null,null,null,null,"2014-05-15"]
[null,null,null,null,null,"2014-05-14"]
[null,null,null,null,null,"2014-05-13"]
[null,null,null,null,null,"2014-05-12"]
[null,null,null,null,null,"2014-05-11"]
[null,null,null,null,null,{"$f":"F1861-1","v":"2014-05-10"}]
[null,null,null,null,null,"2014-05-09"]
[null,null,null,null,null,"2014-05-08"]
[null,null,null,null,null,"2014-05-07"]
[null,null,null,null,null,"2014-05-06"]
[null,null,null,null,null,"2014-05-05"]
[null,null,null,null,null,"2014-05-04"]
[null,null,null,null,null,"2014-05-03"]
[null,null,null,null,null,"2014-05-02"]
[null,null,null,null,null,"2014-05-01"]
[null,null,null,null,null,"2014-04-30"]
[null,null,null,null,null,"2014-04-29"]
[null,null,null,null,null,"2014-04-28"]
[null,null,null,null,null,"2014-04-27"]
[null,null,null,null,null,"2014-04-26"]
[null,null,null,null,null,"2014-04-25"]
[null,null,null,null,null,"2014-04-24"]
[null,null,null,null,null,"2014-04-23"]
[null,null,null,null,null,"2014-04-22"]
[null,null,null,null,null,"2014-04-21"]
[null,null,null,null,null,"2014-04-20"]
[null,null,null,null,null,"2014-04-19"]
[null,null,null,null,null,"2014-04-18"]
[null,null,null,null,null,"2014-04-17"]
[null,null,null,null,null,"2014-04-16"]
[null,null,null,null,null,"2014-04-15"]
[null,null,null,null,null,"2014-04-14"]
[null,null,null,null,null,"2014-04-13"]
[null,null,null,null,null,"2014-04-12"]
[null,null,null,null,null,"2014-04-11"]
[null,null,null,null,null,"2014-04-10"]
[null,null,null,null,null,"2014-04-09"]
[null,null,null,null,null,"2014-04-08"]
[null,null,null,null,null,"2014-04-07"]
[null,null,null,null,null,"2014-04-06"]
[null,null,null,null,null,"2014-04-05"]
[null,null,null,null,null,"2014-04-04"]
[null,null,null,null,null,"2014-04-03"]
[null,null,null,null,null,"2014-04-02"]
[null,null,null,null,null,"2014-04-01"]
[null,null,null,null,null,"2014-03-31"]
[null,null,null,null,null,"2014-03-30"]
[null,null,null,null,null,"2014-03-29"]
[null,null,null,null,null,"2014-03-28"]
[null,null,null,null,null,"2014-03-27"]
[null,null,null,null,null,"2014-03-26"]
[null,null,null,null,null,"2014-03-25"]
[null,null,null,null,null,"2014-03-24"]
[null,null,null,null,null,"2014-03-23"]
[null,null,null,null,null,"2014-03-22"]
[null,null,null,null,null,"2014-03-21"]
[null,null,null,null,null,"2014-03-20"]
[null,null,null,null,null,"2014-03-19"]
[null,null,null,null,null,"2014-03-18"]
[null,null,null,null,null,"2014-03-17"]
[null,null,null,null,null,"2014-03-16"]
[null,null,null,null,null,"2014-03-15"]
[null,null,null,null,null,"2014-03-14"]
[null,null,null,null,null,"2014-03-13"]
[null,null,null,null,null,"2014-03-12"]
[null,null,null,null,null,"2014-03-11"]
[null,null,null,null,null,"2014-03-10"]
[null,null,null,null,null,"2014-03-09"]
[null,null,null,null,null,"2014-03-08"]
[null,null,null,null,null,{"$f":"F1925-1","v":"2014-03-07"}]
[null,null,null,null,null,"2014-03-06"]
[null,null,null,null,null,"2014-03-05"]
[null,null,null,null,null,"2014-03-04"]
[null,null,null,null,null,"2014-03-03"]
[null,null,null,null,null,"2014-03-02"]
[null,null,null,null,null,"2014-03-01"]
[null,null,null,null,null,"2014-02-28"]
[null,null,null,null,null,"2014-02-27"]
[null,null,null,null,null,"2014-02-26"]
[null,null,null,null,null,"2014-02-25"]
[null,null,null,null,null,"2014-02-24"]
[null,null,null,null,null,"2014-02-23"]
[null,null,null,null,null,"2014-02-22"]
[null,null,null,null,null,"2014-02-21"]
[null,null,null,null,null,"2014-02-20"]
[null,null,null,null,null,"2014-02-19"]
[null,null,null,null,null,"2014-02-18"]
[null,null,null,null,null,"2014-02-17"]
[null,null,null,null,null,"2014-02-16"]
[null,null,null,null,null,"2014-02-15"]
[null,null,null,null,null,"2014-02-14"]
[null,null,null,null,null,"2014-02-13"]
[null,null,null,null,null,"2014-02-12"]
[null,null,null,null,null,"2014-02-11"]
[null,null,null,null,null,"2014-02-10"]
[null,null,null,null,null,"2014-02-09"]
[null,null,null,null,null,"2014-02-08"]
[null,null,null,null,null,"2014-02-07"]
[null,null,null,null,null,"2014-02-06"]
[null,null,null,null,null,"2014-02-05"]
[null,null,null,null,null,"2014-02-04"]
[null,null,null,null,null,"2014-02-03"]
[null,null,null,null,null,"2014-02-02"]
[null,null,null,null,null,"2014-02-01"]
[null,null,null,null,null,"2014-01-31"]
[null,null,null,null,null,"2014-01-30"]
[null,null,null,null,null,"2014-01-29"]
[null,null,null,null,null,"2014-01-28"]
[null,null,null,null,null,"2014-01-27"]
[null,null,null,null,null,"2014-01-26"]
[null,null,null,null,null,"2014-01-25"]
[null,null,null,null,null,"2014-01-24"]
[null,null,null,null,null,"2014-01-23"]
[null,null,null,null,null,"2014-01-22"]
[null,null,null,null,null,"2014-01-21"]
[null,null,null,null,null,"2014-01-20"]
[null,null,null,null,null,"2014-01-19"]
[null,null,null,null,null,"2014-01-18"]
[null,null,null,null,null,"2014-01-17"]
[null,null,null,null,null,"2014-01-16"]
[null,null,null,null,null,"2014-01-15"]
[null,null,null,null,null,"2014-01-14"]
[null,null,null,null,null,"2014-01-13"]
[null,null,null,null,null,"2014-01-12"]
[null,null,null,null,null,"2014-01-11"]
[null,null,null,null,null,"2014-01-10"]
[null,null,null,null,null,"2014-01-09"]
[null,null,null,null,null,"2014-01-08"]
[null,null,null,null,null,"2014-01-07"]
[null,null,null,null,null,"2014-01-06"]
[null,null,null,null,null,"2014-01-05"]
[null,null,null,null,null,"2014-01-04"]
[null,null,null,null,null,"2014-01-03"]
[null,null,null,null,null,{"$f":"F1989-1","v":"2014-01-02"}]
[null,null,null,null,null,"2014-01-01"]
[null,null,null,null,null,"2013-12-31"]
[null,null,null,null,null,"2013-12-30"]
[null,null,null,null,null,"2013-12-29"]
[null,null,null,null,null,"2013-12-28"]
[null,null,null,null,null,"2013-12-27"]
[null,null,null,null,null,"2013-12-26"]
[null,null,null,null,null,"2013-12-25"]
[null,null,null,null,null,"2013-12-24"]
[null,null,null,null,null,"2013-12-23"]
[null,null,null,null,null,"2013-12-22"]
[null,null,null,null,null,"2013-12-21"]
[null,null,null,null,null,"2013-12-20"]
[null,null,null,null,null,"2013-12-19"]
[null,null,null,null,null,"2013-12-18"]
[null,null,null,null,null,"2013-12-17"]
[null,null,null,null,null,"2013-12-16"]
[null,null,null,null,null,"2013-12-15"]
[null,null,null,null,null,"2013-12-14"]
[null,null,null,null,null,"2013-12-13"]
[null,null,null,null,null,"2013-12-12"]
[null,null,null,null,null,"2013-12-11"]
[null,null,null,null,null,"2013-12-10"]
[null,null,null,null,null,"2013-12-09"]
[null,null,null,null,null,"2013-12-08"]
[null,null,null,null,null,"2013-12-07"]
[null,null,null,null,null,"2013-12-06"]
[null,null,null,null,null,"2013-12-05"]
[null,null,null,null,null,"2013-12-04"]
[null,null,null,null,null,"2013-12-03"]
[null,null,null,null,null,"2013-12-02"]
[null,null,null,null,null,"2013-12-01"]
[null,null,null,null,null,"2013-11-30"]
[null,null,null,null,null,"2013-11-29"]
[null,null,null,null,null,"2013-11-28"]
[null,null,null,null,null,"2013-11-27"]
[null,null,null,null,null,"2013-11-26"]
[null,null,null,null,null,"2013-11-25"]
[null,null,null,null,null,"2013-11-24"]
[null,null,null,null,null,"2013-11-23"]
[null,null,null,null,null,"2013-11-22"]
[null,null,null,null,null,"2013-11-21"]
[null,null,null,null,null,"2013-11-20"]
[null,null,null,null,null,"2013-11-19"]
[null,null,null,null,null,"2013-11-18"]
[null,null,null,null,null,"2013-11-17"]
[null,null,null,null,null,"2013-11-16"]
[null,null,null,null,null,"2013-11-15"]
[null,null,null,null,null,"2013-11-14"]
[null,null,null,null,null,"2013-11-13"]
[null,null,null,null,null,"2013-11-12"]
[null,null,null,null,null,"2013-11-11"]
[null,null,null,null,null,"2013-11-10"]
[null,null,null,null,null,"2013-11-09"]
[null,null,null,null,null,"2013-11-08"]
[null,null,null,null,null,"2013-11-07"]
[null,null,null,null,null,"2013-11-06"]
[null,null,null,null,null,"2013-11-05"]
[null,null,null,null,null,"2013-11-04"]
[null,null,null,null,null,"2013-11-03"]
[null,null,null,null,null,"2013-11-02"]
[null,null,null,null,null,"2013-11-01"]
[null,null,null,null,null,"2013-10-31"]
[null,null,null,null,null,{"$f":"F2053-1","v":"2013-10-30"}]
[null,null,null,null,null,"2013-10-29"]
[null,null,null,null,null,"2013-10-28"]
[null,null,null,null,null,"2013-10-27"]
[null,null,null,null,null,"2013-10-26"]
[null,null,null,null,null,"2013-10-25"]
[null,null,null,null,null,"2013-10-24"]
[null,null,null,null,null,"2013-10-23"]
[null,null,null,null,null,"2013-10-22"]
[null,null,null,null,null,"2013-10-21"]
[null,null,null,null,null,"2013-10-20"]
[null,null,null,null,null,"2013-10-19"]
[null,null,null,null,null,"2013-10-18"]
[null,null,null,null,null,"2013-10-17"]
[null,null,null,null,null,"2013-10-16"]
[null,null,null,null,null,"2013-10-15"]
[null,null,null,null,null,"2013-10-14"]
[null,null,null,null,null,"2013-10-13"]
[null,null,null,null,null,"2013-10-12"]
[null,null,null,null,null,"2013-10-11"]
[null,null,null,null,null,"2013-10-10"]
[null,null,null,null,null,"2013-10-09"]
[null,null,null,null,null,"2013-10-08"]
[null,null,null,null,null,"2013-10-07"]
[null,null,null,null,null,"2013-10-06"]
[null,null,null,null,null,"2013-10-05"]
[null,null,null,null,null,"2013-10-04"]
[null,null,null,null,null,"2013-10-03"]
[null,null,null,null,null,"2013-10-02"]
[null,null,null,null,null,"2013-10-01"]
[null,null,null,null,null,"2013-09-30"]
[null,null,null,null,null,"2013-09-29"]
[null,null,null,null,null,"2013-09-28"]
[null,null,null,null,null,"2013-09-27"]
[null,null,null,null,null,"2013-09-26"]
[null,null,null,null,null,"2013-09-25"]
[null,null,null,null,null,"2013-09-24"]
[null,null,null,null,null,"2013-09-23"]
[null,null,null,null,null,"2013-09-22"]
[null,null,null,null,null,"2013-09-21"]
[null,null,null,null,null,"2013-09-20"]
[null,null,null,null,null,"2013-09-19"]
[null,null,null,null,null,"2013-09-18"]
[null,null,null,null,null,"2013-09-17"]
[null,null,null,null,null,"2013-09-16"]
[null,null,null,null,null,"2013-09-15"]
[null,null,null,null,null,"2013-09-14"]
[null,null,null,null,null,"2013-09-13"]
[null,null,null,null,null,"2013-09-12"]
[null,null,null,null,null,"2013-09-11"]
[null,null,null,null,null,"2013-09-10"]
[null,null,null,null,null,"2013-09-09"]
[null,null,null,null,null,"2013-09-08"]
[null,null,null,null,null,"2013-09-07"]
[null,null,null,null,null,"2013-09-06"]
[null,null,null,null,null,"2013-09-05"]
[null,null,null,null,null,"2013-09-04"]
[null,null,null,null,null,"2013-09-03"]
[null,null,null,null,null,"2013-09-02"]
[null,null,null,null,null,"2013-09-01"]
[null,null,null,null,null,"2013-08-31"]
[null,null,null,null,null,"2013-08-30"]
[null,null,null,null,null,"2013-08-29"]
[null,null,null,null,null,"2013-08-28"]
[null,null,null,null,null,{"$f":"F2117-1","v":"2013-08-27"}]
[null,null,null,null,null,"2013-08-26"]
[null,null,null,null,null,"2013-08-25"]
[null,null,null,null,null,"2013-08-24"]
[null,null,null,null,null,"2013-08-23"]
[null,null,null,null,null,"2013-08-22"]
[null,null,null,null,null,"2013-08-21"]
[null,null,null,null,null,"2013-08-20"]
[null,null,null,null,null,"2013-08-19"]
[null,null,null,null,null,"2013-08-18"]
[null,null,null,null,null,"2013-08-17"]
[null,null,null,null,null,"2013-08-16"]
[null,null,null,null,null,"2013-08-15"]
[null,null,null,null,null,"2013-08-14"]
[null,null,null,null,null,"2013-08-13"]
[null,null,null,null,null,"2013-08-12"]
[null,null,null,null,null,"2013-08-11"]
[null,null,null,null,null,"2013-08-10"]
[null,null,null,null,null,"2013-08-09"]
[null,null,null,null,null,"2013-08-08"]
[null,null,null,null,null,"2013-08-07"]
[null,null,null,null,null,"2013-08-06"]
[null,null,null,null,null,"2013-08-05"]
[null,null,null,null,null,"2013-08-04"]
[null,null,null,null,null,"2013-08-03"]
[null,null,null,null,null,"2013-08-02"]
[null,null,null,null,null,"2013-08-01"]
[null,null,null,null,null,"2013-07-31"]
[null,null,null,null,null,"2013-07-30"]
[null,null,null,null,null,"2013-07-29"]
[null,null,null,null,null,"2013-07-28"]
[null,null,null,null,null,"2013-07-27"]
[null,null,null,null,null,"2013-07-26"]
[null,null,null,null,null,"2013-07-25"]
[null,null,null,null,null,"2013-07-24"]
[null,null,null,null,null,"2013-07-23"]
[null,null,null,null,null,"2013-07-22"]
[null,null,null,null,null,"2013-07-21"]
[null,null,null,null,null,"2013-07-20"]
[null,null,null,null,null,"2013-07-19"]
[null,null,null,null,null,"2013-07-18"]
[null,null,null,null,null,"2013-07-17"]
[null,null,null,null,null,"2013-07-16"]
[null,null,null,null,null,"2013-07-15"]
[null,null,null,null,null,"2013-07-14"]
[null,null,null,null,null,"2013-07-13"]
[null,null,null,null,null,"2013-07-12"]
[null,null,null,null,null,"2013-07-11"]
[null,null,null,null,null,"2013-07-10"]
[null,null,null,null,null,"2013-07-09"]
[null,null,null,null,null,"2013-07-08"]
[null,null,null,null,null,"2013-07-07"]
[null,null,null,null,null,"2013-07-06"]
[null,null,null,null,null,"2013-07-05"]
[null,null,null,null,null,"2013-07-04"]
[null,null,null,null,null,"2013-07-03"]
[null,null,null,null,null,"2013-07-02"]
[null,null,null,null,null,"2013-07-01"]
[null,null,null,null,null,"2013-06-30"]
[null,null,null,null,null,"2013-06-29"]
[null,null,null,null,null,"2013-06-28"]
[null,null,null,null,null,"2013-06-27"]
[null,null,null,null,null,"2013-06-26"]
[null,null,null,null,null,"2013-06-25"]
[null,null,null,null,null,{"$f":"F2181-1","v":"2013-06-24"}]
[null,null,null,null,null,"2013-06-23"]
[null,null,null,null,null,"2013-06-22"]
[null,null,null,null,null,"2013-06-21"]
[null,null,null,null,null,"2013-06-20"]
[null,null,null,null,null,"2013-06-19"]
[null,null,null,null,null,"2013-06-18"]
[null,null,null,null,null,"2013-06-17"]
[null,null,null,null,null,"2013-06-16"]
[null,null,null,null,null,"2013-06-15"]
[null,null,null,null,null,"2013-06-14"]
[null,null,null,null,null,"2013-06-13"]
[null,null,null,null,null,"2013-06-12"]
[null,null,null,null,null,"2013-06-11"]
[null,null,null,null,null,"2013-06-10"]
[null,null,null,null,null,"2013-06-09"]
[null,null,null,null,null,"2013-06-08"]
[null,null,null,null,null,"2013-06-07"]
[null,null,null,null,null,"2013-06-06"]
[null,null,null,null,null,"2013-06-05"]
[null,null,null,null,null,"2013-06-04"]
[null,null,null,null,null,"2013-06-03"]
[null,null,null,null,null,"2013-06-02"]
[null,null,null,null,null,"2013-06-01"]
[null,null,null,null,null,"2013-05-31"]
[null,null,null,null,null,"2013-05-30"]
[null,null,null,null,null,"2013-05-29"]
[null,null,null,null,null,"2013-05-28"]
[null,null,null,null,null,"2013-05-27"]
[null,null,null,null,null,"2013-05-26"]
[null,null,null,null,null,"2013-05-25"]
[null,null,null,null,null,"2013-05-24"]
[null,null,null,null,null,"2013-05-23"]
[null,null,null,null,null,"2013-05-22"]
[null,null,null,null,null,"2013-05-21"]
[null,null,null,null,null,"2013-05-20"]
[null,null,null,null,null,"2013-05-19"]
[null,null,null,null,null,"2013-05-18"]
[null,null,null,null,null,"2013-05-17"]
[null,null,null,null,null,"2013-05-16"]
[null,null,null,null,null,"2013-05-15"]
[null,null,null,null,null,"2013-05-14"]
[null,null,null,null,null,"2013-05-13"]
[null,null,null,null,null,"2013-05-12"]
[null,null,null,null,null,"2013-05-11"]
[null,null,null,null,null,"2013-05-10"]
[null,null,null,null,null,"2013-05-09"]
[null,null,null,null,null,"2013-05-08"]
[null,null,null,null,null,"2013-05-07"]
[null,null,null,null,null,"2013-05-06"]
[null,null,null,null,null,"2013-05-05"]
[null,null,null,null,null,"2013-05-04"]
[null,null,null,null,null,"2013-05-03"]
[null,null,null,null,null,"2013-05-02"]
[null,null,null,null,null,"2013-05-01"]
[null,null,null,null,null,"2013-04-30"]
[null,null,null,null,null,"2013-04-29"]
[null,null,null,null,null,"2013-04-28"]
[null,null,null,null,null,"2013-04-27"]
[null,null,null,null,null,"2013-04-26"]
[null,null,null,null,null,"2013-04-25"]
[null,null,null,null,null,"2013-04-24"]
[null,null,null,null,null,"2013-04-23"]
[null,null,null,null,null,"2013-04-22"]
[null,null,null,null,null,{"$f":"F2245-1","v":"2013-04-21"}]
[null,null,null,null,null,"2013-04-20"]
[null,null,null,null,null,"2013-04-19"]
[null,null,null,null,null,"2013-04-18"]
[null,null,null,null,null,"2013-04-17"]
[null,null,null,null,null,"2013-04-16"]
[null,null,null,null,null,"2013-04-15"]
[null,null,null,null,null,"2013-04-14"]
[null,null,null,null,null,"2013-04-13"]
[null,null,null,null,null,"2013-04-12"]
[null,null,null,null,null,"2013-04-11"]
[null,null,null,null,null,"2013-04-10"]
[null,null,null,null,null,"2013-04-09"]
[null,null,null,null,null,"2013-04-08"]
[null,null,null,null,null,"2013-04-07"]
[null,null,null,null,null,"2013-04-06"]
[null,null,null,null,null,"2013-04-05"]
[null,null,null,null,null,"2013-04-04"]
[null,null,null,null,null,"2013-04-03"]
[null,null,null,null,null,"2013-04-02"]
[null,null,null,null,null,"2013-04-01"]
[null,null,null,null,null,"2013-03-31"]
[null,null,null,null,null,"2013-03-30"]
[null,null,null,null,null,"2013-03-29"]
[null,null,null,null,null,"2013-03-28"]
[null,null,null,null,null,"2013-03-27"]
[null,null,null,null,null,"2013-03-26"]
[null,null,null,null,null,"2013-03-25"]
[null,null,null,null,null,"2013-03-24"]
[null,null,null,null,null,"2013-03-23"]
[null,null,null,null,null,"2013-03-22"]
[null,null,null,null,null,"2013-03-21"]
[null,null,null,null,null,"2013-03-20"]
[null,null,null,null,null,"2013-03-19"]
[null,null,null,null,null,"2013-03-18"]
[null,null,null,null,null,"2013-03-17"]
[null,null,null,null,null,"2013-03-16"]
[null,null,null,null,null,"2013-03-15"]
[null,null,null,null,null,"2013-03-14"]
[null,null,null,null,null,"2013-03-13"]
[null,null,null,null,null,"2013-03-12"]
[null,null,null,null,null,"2013-03-11"]
[null,null,null,null,null,"2013-03-10"]
[null,null,null,null,null,"2013-03-09"]
[null,null,null,null,null,"2013-03-08"]
[null,null,null,null,null,"2013-03-07"]
[null,null,null,null,null,"2013-03-06"]
[null,null,null,null,null,"2013-03-05"]
[null,null,null,null,null,"2013-03-04"]
[null,null,null,null,null,"2013-03-03"]
[null,null,null,null,null,"2013-03-02"]
[null,null,null,null,null,"2013-03-01"]
[null,null,null,null,null,"2013-02-28"]
[null,null,null,null,null,"2013-02-27"]
[null,null,null,null,null,"2013-02-26"]
[null,null,null,null,null,"2013-02-25"]
[null,null,null,null,null,"2013-02-24"]
[null,null,null,null,null,"2013-02-23"]
[null,null,null,null,null,"2013-02-22"]
[null,null,null,null,null,"2013-02-21"]
[null,null,null,null,null,"2013-02-20"]
[null,null,null,null,null,"2013-02-19"]
[null,null,null,null,null,"2013-02-18"]
[null,null,null,null,null,"2013-02-17"]
[null,null,null,null,null,{"$f":"F2309-1","v":"2013-02-16"}]
[null,null,null,null,null,"2013-02-15"]
[null,null,null,null,null,"2013-02-14"]
[null,null,null,null,null,"2013-02-13"]
[null,null,null,null,null,"2013-02-12"]
[null,null,null,null,null,"2013-02-11"]
[null,null,null,null,null,"2013-02-10"]
[null,null,null,null,null,"2013-02-09"]
[null,null,null,null,null,"2013-02-08"]
[null,null,null,null,null,"2013-02-07"]
[null,null,null,null,null,"2013-02-06"]
[null,null,null,null,null,"2013-02-05"]
[null,null,null,null,null,"2013-02-04"]
[null,null,null,null,null,"2013-02-03"]
[null,null,null,null,null,"2013-02-02"]
[null,null,null,null,null,"2013-02-01"]
[null,null,null,null,null,"2013-01-31"]
[null,null,null,null,null,"2013-01-30"]
[null,null,null,null,null,"2013-01-29"]
[null,null,null,null,null,"2013-01-28"]
[null,null,null,null,null,"2013-01-27"]
[null,null,null,null,null,"2013-01-26"]
[null,null,null,null,null,"2013-01-25"]
[null,null,null,null,null,"2013-01-24"]
[null,null,null,null,null,"2013-01-23"]
[null,null,null,null,null,"2013-01-22"]
[null,null,null,null,null,"2013-01-21"]
[null,null,null,null,null,"2013-01-20"]
[null,null,null,null,null,"2013-01-19"]
[null,null,null,null,null,"2013-01-18"]
[null,null,null,null,null,"2013-01-17"]
[null,null,null,null,null,"2013-01-16"]
[null,null,null,null,null,"2013-01-15"]
[null,null,null,null,null,"2013-01-14"]
[null,null,null,null,null,"2013-01-13"]
[null,null,null,null,null,"2013-01-12"]
[null,null,null,null,null,"2013-01-11"]
[null,null,null,null,null,"2013-01-10"]
[null,null,null,null,null,"2013-01-09"]
[null,null,null,null,null,"2013-01-08"]
[null,null,null,null,null,"2013-01-07"]
[null,null,null,null,null,"2013-01-06"]
[null,null,null,null,null,"2013-01-05"]
[null,null,null,null,null,"2013-01-04"]
[null,null,null,null,null,"2013-01-03"]
[null,null,null,null,null,"2013-01-02"]
[null,null,null,null,null,"2013-01-01"]
[null,null,null,null,null,"2012-12-31"]
[null,null,null,null,null,"2012-12-30"]
[null,null,null,null,null,"2012-12-29"]
[null,null,null,null,null,"2012-12-28"]
[null,null,null,null,null,"2012-12-27"]
[null,null,null,null,null,"2012-12-26"]
[null,null,null,null,null,"2012-12-25"]
[null,null,null,null,null,"2012-12-24"]
[null,null,null,null,null,"2012-12-23"]
[null,null,null,null,null,"2012-12-22"]
[null,null,null,null,null,"2012-12-21"]
[null,null,null,null,null,"2012-12-20"]
[null,null,null,null,null,"2012-12-19"]
[null,null,null,null,null,"2012-12-18"]
[null,null,null,null,null,"2012-12-17"]
[null,null,null,null,null,"2012-12-16"]
[null,null,null,null,null,"2012-12-15"]
[null,null,null,null,null,{"$f":"F2373-1","v":"2012-12-14"}]
[null,null,null,null,null,"2012-12-13"]
[null,null,null,null,null,"2012-12-12"]
[null,null,null,null,null,"2012-12-11"]
[null,null,null,null,null,"2012-12-10"]
[null,null,null,null,null,"2012-12-09"]
[null,null,null,null,null,"2012-12-08"]
[null,null,null,null,null,"2012-12-07"]
[null,null,null,null,null,"2012-12-06"]
[null,null,null,null,null,"2012-12-05"]
[null,null,null,null,null,"2012-12-04"]
[null,null,null,null,null,"2012-12-03"]
[null,null,null,null,null,"2012-12-02"]
[null,null,null,null,null,"2012-12-01"]
[null,null,null,null,null,"2012-11-30"]
[null,null,null,null,null,"2012-11-29"]
[null,null,null,null,null,"2012-11-28"]
[null,null,null,null,null,"2012-11-27"]
[null,null,null,null,null,"2012-11-26"]
[null,null,null,null,null,"2012-11-25"]
[null,null,null,null,null,"2012-11-24"]
[null,null,null,null,null,"2012-11-23"]
[null,null,null,null,null,"2012-11-22"]
[null,null,null,null,null,"2012-11-21"]
[null,null,null,null,null,"2012-11-20"]
[null,null,null,null,null,"2012-11-19"]
[null,null,null,null,null,"2012-11-18"]
[null,null,null,null,null,"2012-11-17"]
[null,null,null,null,null,"2012-11-16"]
[null,null,null,null,null,"2012-11-15"]
[null,null,null,null,null,"2012-11-14"]
[null,null,null,null,null,"2012-11-13"]
[null,null,null,null,null,"2012-11-12"]
[null,null,null,null,null,"2012-11-11"]
[null,null,null,null,null,"2012-11-10"]
[null,null,null,null,null,"2012-11-09"]
[null,null,null,null,null,"2012-11-08"]
[null,null,null,null,null,"2012-11-07"]
[null,null,null,null,null,"2012-11-06"]
[null,null,null,null,null,"2012-11-05"]
[null,null,null,null,null,"2012-11-04"]
[null,null,null,null,null,"2012-11-03"]
[null,null,null,null,null,"2012-11-02"]
[null,null,null,null,null,"2012-11-01"]
[null,null,null,null,null,"2012-10-31"]
[null,null,null,null,null,"2012-10-30"]
[null,null,null,null,null,"2012-10-29"]
[null,null,null,null,null,"2012-10-28"]
[null,null,null,null,null,"2012-10-27"]
[null,null,null,null,null,"2012-10-26"]
[null,null,null,null,null,"2012-10-25"]
[null,null,null,null,null,"2012-10-24"]
[null,null,null,null,null,"2012-10-23"]
[null,null,null,null,null,"2012-10-22"]
[null,null,null,null,null,"2012-10-21"]
[null,null,null,null,null,"2012-10-20"]
[null,null,null,null,null,"2012-10-19"]
[null,null,null,null,null,"2012-10-18"]
[null,null,null,null,null,"2012-10-17"]
[null,null,null,null,null,"2012-10-16"]
[null,null,null,null,null,"2012-10-15"]
[null,null,null,null,null,"2012-10-14"]
[null,null,null,null,null,"2012-10-13"]
[null,null,null,null,null,"2012-10-12"]
[null,null,null,null,null,{"$f":"F2437-1","v":"2012-10-11"}]
[null,null,null,null,null,"2012-10-10"]
[null,null,null,null,null,"2012-10-09"]
[null,null,null,null,null,"2012-10-08"]
[null,null,null,null,null,"2012-10-07"]
[null,null,null,null,null,"2012-10-06"]
[null,null,null,null,null,"2012-10-05"]
[null,null,null,null,null,"2012-10-04"]
[null,null,null,null,null,"2012-10-03"]
[null,null,null,null,null,"2012-10-02"]
[null,null,null,null,null,"2012-10-01"]
[null,null,null,null,null,"2012-09-30"]
[null,null,null,null,null,"2012-09-29"]
[null,null,null,null,null,"2012-09-28"]
[null,null,null,null,null,"2012-09-27"]
[null,null,null,null,null,"2012-09-26"]
[null,null,null,null,null,"2012-09-25"]
[null,null,null,null,null,"2012-09-24"]
[null,null,null,null,null,"2012-09-23"]
[null,null,null,null,null,"2012-09-22"]
[null,null,null,null,null,"2012-09-21"]
[null,null,null,null,null,"2012-09-20"]
[null,null,null,null,null,"2012-09-19"]
[null,null,null,null,null,"2012-09-18"]
[null,null,null,null,null,"2012-09-17"]
[null,null,null,null,null,"2012-09-16"]
[null,null,null,null,null,"2012-09-15"]
[null,null,null,null,null,"2012-09-14"]
[null,null,null,null,null,"2012-09-13"]
[null,null,null,null,null,"2012-09-12"]
[null,null,null,null,null,"2012-09-11"]
[null,null,null,null,null,"2012-09-10"]
[null,null,null,null,null,"2012-09-09"]
[null,null,null,null,null,"2012-09-08"]
[null,null,null,null,null,"2012-09-07"]
[null,null,null,null,null,"2012-09-06"]
[null,null,null,null,null,"2012-09-05"]
[null,null,null,null,null,"2012-09-04"]
[null,null,null,null,null,"2012-09-03"]
[null,null,null,null,null,"2012-09-02"]
[null,null,null,null,null,"2012-09-01"]
[null,null,null,null,null,"2012-08-31"]
[null,null,null,null,null,"2012-08-30"]
[null,null,null,null,null,"2012-08-29"]
[null,null,null,null,null,"2012-08-28"]
[null,null,null,null,null,"2012-08-27"]
[null,null,null,null,null,"2012-08-26"]
[null,null,null,null,null,"2012-08-25"]
[null,null,null,null,null,"2012-08-24"]
[null,null,null,null,null,"2012-08-23"]
[null,null,null,null,null,"2012-08-22"]
[null,null,null,null,null,"2012-08-21"]
[null,null,null,null,null,"2012-08-20"]
[null,null,null,null,null,"2012-08-19"]
[null,null,null,null,null,"2012-08-18"]
[null,null,null,null,null,"2012-08-17"]
[null,null,null,null,null,"2012-08-16"]
[null,null,null,null,null,"2012-08-15"]
[null,null,null,null,null,"2012-08-14"]
[null,null,null,null,null,"2012-08-13"]
[null,null,null,null,null,"2012-08-12"]
[null,null,null,null,null,"2012-08-11"]
[null,null,null,null,null,"2012-08-10"]
[null,null,null,null,null,"2012-08-09"]
[null,null,null,null,null,{"$f":"F2501-1","v":"2012-08-08"}]
[null,null,null,null,null,"2012-08-07"]
[null,null,null,null,null,"2012-08-06"]
[null,null,null,null,null,"2012-08-05"]
[null,null,null,null,null,"2012-08-04"]
[null,null,null,null,null,"2012-08-03"]
[null,null,null,null,null,"2012-08-02"]
[null,null,null,null,null,"2012-08-01"]
[null,null,null,null,null,"2012-07-31"]
[null,null,null,null,null,"2012-07-30"]
[null,null,null,null,null,"2012-07-29"]
[null,null,null,null,null,"2012-07-28"]
[null,null,null,null,null,"2012-07-27"]
[null,null,null,null,null,"2012-07-26"]
[null,null,null,null,null,"2012-07-25"]
[null,null,null,null,null,"2012-07-24"]
[null,null,null,null,null,"2012-07-23"]
[null,null,null,null,null,"2012-07-22"]
[null,null,null,null,null,"2012-07-21"]
[null,null,null,null,null,"2012-07-20"]
[null,null,null,null,null,"2012-07-19"]
[null,null,null,null,null,"2012-07-18"]
[null,null,null,null,null,"2012-07-17"]
[null,null,null,null,null,"2012-07-16"]
[null,null,null,null,null,"2012-07-15"]
[null,null,null,null,null,"2012-07-14"]
[null,null,null,null,null,"2012-07-13"]
[null,null,null,null,null,"2012-07-12"]
[null,null,null,null,null,"2012-07-11"]
[null,null,null,null,null,"2012-07-10"]
[null,null,null,null,null,"2012-07-09"]
[null,null,null,null,null,"2012-07-08"]
[null,null,null,null,null,"2012-07-07"]
[null,null,null,null,null,"2012-07-06"]
[null,null,null,null,null,"2012-07-05"]
[null,null,null,null,null,"2012-07-04"]
[null,null,null,null,null,"2012-07-03"]
[null,null,null,null,null,"2012-07-02"]
[null,null,null,null,null,"2012-07-01"]
[null,null,null,null,null,"2012-06-30"]
[null,null,null,null,null,"2012-06-29"]
[null,null,null,null,null,"2012-06-28"]
[null,null,null,null,null,"2012-06-27"]
[null,null,null,null,null,"2012-06-26"]
[null,null,null,null,null,"2012-06-25"]
[null,null,null,null,null,"2012-06-24"]
[null,null,null,null,null,"2012-06-23"]
[null,null,null,null,null,"2012-06-22"]
[null,null,null,null,null,"2012-06-21"]
[null,null,null,null,null,"2012-06-20"]
[null,null,null,null,null,"2012-06-19"]
[null,null,null,null,null,"2012-06-18"]
[null,null,null,null,null,"2012-06-17"]
[null,null,null,null,null,"2012-06-16"]
[null,null,null,null,null,"2012-06-15"]
[null,null,null,null,null,"2012-06-14"]
[null,null,null,null,null,"2012-06-13"]
[null,null,null,null,null,"2012-06-12"]
[null,null,null,null,null,"2012-06-11"]
[null,null,null,null,null,"2012-06-10"]
[null,null,null,null,null,"2012-06-09"]
[null,null,null,null,null,"2012-06-08"]
[null,null,null,null,null,"2012-06-07"]
[null,null,null,null,null,"2012-06-06"]
[null,null,null,null,null,{"$f":"F2565-1","v":"2012-06-05"}]
[null,null,null,null,null,"2012-06-04"]
[null,null,null,null,null,"2012-06-03"]
[null,null,null,null,null,"2012-06-02"]
[null,null,null,null,null,"2012-06-01"]
[null,null,null,null,null,"2012-05-31"]
[null,null,null,null,null,"2012-05-30"]
[null,null,null,null,null,"2012-05-29"]
[null,null,null,null,null,"2012-05-28"]
[null,null,null,null,null,"2012-05-27"]
[null,null,null,null,null,"2012-05-26"]
[null,null,null,null,null,"2012-05-25"]
[null,null,null,null,null,"2012-05-24"]
[null,null,null,null,null,"2012-05-23"]
[null,null,null,null,null,"2012-05-22"]
[null,null,null,null,null,"2012-05-21"]
[null,null,null,null,null,"2012-05-20"]
[null,null,null,null,null,"2012-05-19"]
[null,null,null,null,null,"2012-05-18"]
[null,null,null,null,null,"2012-05-17"]
[null,null,null,null,null,"2012-05-16"]
[null,null,null,null,null,"2012-05-15"]
[null,null,null,null,null,"2012-05-14"]
[null,null,null,null,null,"2012-05-13"]
[null,null,null,null,null,"2012-05-12"]
[null,null,null,null,null,"2012-05-11"]
[null,null,null,null,null,"2012-05-10"]
[null,null,null,null,null,"2012-05-09"]
[null,null,null,null,null,"2012-05-08"]
[null,null,null,null,null,"2012-05-07"]
[null,null,null,null,null,"2012-05-06"]
[null,null,null,null,null,"2012-05-05"]
[null,null,null,null,null,"2012-05-04"]
[null,null,null,null,null,"2012-05-03"]
[null,null,null,null,null,"2012-05-02"]
[null,null,null,null,null,"2012-05-01"]
[null,null,null,null,null,"2012-04-30"]
[null,null,null,null,null,"2012-04-29"]
[null,null,null,null,null,"2012-04-28"]
[null,null,null,null,null,"2012-04-27"]
[null,null,null,null,null,"2012-04-26"]
[null,null,null,null,null,"2012-04-25"]
[null,null,null,null,null,"2012-04-24"]
[null,null,null,null,null,"2012-04-23"]
[null,null,null,null,null,"2012-04-22"]
[null,null,null,null,null,"2012-04-21"]
[null,null,null,null,null,"2012-04-20"]
[null,null,null,null,null,"2012-04-19"]
[null,null,null,null,null,"2012-04-18"]
[null,null,null,null,null,"2012-04-17"]
[null,null,null,null,null,"2012-04-16"]
[null,null,null,null,null,"2012-04-15"]
[null,null,null,null,null,"2012-04-14"]
[null,null,null,null,null,"2012-04-13"]
[null,null,null,null,null,"2012-04-12"]
[null,null,null,null,null,"2012-04-11"]
[null,null,null,null,null,"2012-04-10"]
[null,null,null,null,null,"2012-04-09"]
[null,null,null,null,null,"2012-04-08"]
[null,null,null,null,null,"2012-04-07"]
[null,null,null,null,null,"2012-04-06"]
[null,null,null,null,null,"2012-04-05"]
[null,null,null,null,null,"2012-04-04"]
[null,null,null,null,null,"2012-04-03"]
[null,null,null,null,null,{"$f":"F2629-1","v":"2012-04-02"}]
[null,null,null,null,null,"2012-04-01"]
[null,null,null,null,null,"2012-03-31"]
[null,null,null,null,null,"2012-03-30"]
[null,null,null,null,null,"2012-03-29"]
[null,null,null,null,null,"2012-03-28"]
[null,null,null,null,null,"2012-03-27"]
[null,null,null,null,null,"2012-03-26"]
[null,null,null,null,null,"2012-03-25"]
[null,null,null,null,null,"2012-03-24"]
[null,null,null,null,null,"2012-03-23"]
[null,null,null,null,null,"2012-03-22"]
[null,null,null,null,null,"2012-03-21"]
[null,null,null,null,null,"2012-03-20"]
[null,null,null,null,null,"2012-03-19"]
[null,null,null,null,null,"2012-03-18"]
[null,null,null,null,null,"2012-03-17"]
[null,null,null,null,null,"2012-03-16"]
[null,null,null,null,null,"2012-03-15"]
[null,null,null,null,null,"2012-03-14"]
[null,null,null,null,null,"2012-03-13"]
[null,null,null,null,null,"2012-03-12"]
[null,null,null,null,null,"2012-03-11"]
[null,null,null,null,null,"2012-03-10"]
[null,null,null,null,null,"2012-03-09"]
[null,null,null,null,null,"2012-03-08"]
[null,null,null,null,null,"2012-03-07"]
[null,null,null,null,null,"2012-03-06"]
[null,null,null,null,null,"2012-03-05"]
[null,null,null,null,null,"2012-03-04"]
[null,null,null,null,null,"2012-03-03"]
[null,null,null,null,null,"2012-03-02"]
[null,null,null,null,null,"2012-03-01"]
[null,null,null,null,null,"2012-02-29"]
[null,null,null,null,null,"2012-02-28"]
[null,null,null,null,null,"2012-02-27"]
[null,null,null,null,null,"2012-02-26"]
[null,null,null,null,null,"2012-02-25"]
[null,null,null,null,null,"2012-02-24"]
[null,null,null,null,null,"2012-02-23"]
[null,null,null,null,null,"2012-02-22"]
[null,null,null,null,null,"2012-02-21"]
[null,null,null,null,null,"2012-02-20"]
[null,null,null,null,null,"2012-02-19"]
[null,null,null,null,null,"2012-02-18"]
[null,null,null,null,null,"2012-02-17"]
[null,null,null,null,null,"2012-02-16"]
[null,null,null,null,null,"2012-02-15"]
[null,null,null,null,null,"2012-02-14"]
[null,null,null,null,null,"2012-02-13"]
[null,null,null,null,null,"2012-02-12"]
[null,null,null,null,null,"2012-02-11"]
[null,null,null,null,null,"2012-02-10"]
[null,null,null,null,null,"2012-02-09"]
[null,null,null,null,null,"2012-02-08"]
[null,null,null,null,null,"2012-02-07"]
[null,null,null,null,null,"2012-02-06"]
[null,null,null,null,null,"2012-02-05"]
[null,null,null,null,null,"2012-02-04"]
[null,null,null,null,null,"2012-02-03"]
[null,null,null,null,null,"2012-02-02"]
[null,null,null,null,null,"2012-02-01"]
[null,null,null,null,null,"2012-01-31"]
[null,null,null,null,null,"2012-01-30"]
[null,null,null,null,null,{"$f":"F2693-1","v":"2012-01-29"}]
[null,null,null,null,null,"2012-01-28"]
[null,null,null,null,null,"2012-01-27"]
[null,null,null,null,null,"2012-01-26"]
[null,null,null,null,null,"2012-01-25"]
[null,null,null,null,null,"2012-01-24"]
[null,null,null,null,null,"2012-01-23"]
[null,null,null,null,null,"2012-01-22"]
[null,null,null,null,null,"2012-01-21"]
[null,null,null,null,null,"2012-01-20"]
[null,null,null,null,null,"2012-01-19"]
[null,null,null,null,null,"2012-01-18"]
[null,null,null,null,null,"2012-01-17"]
[null,null,null,null,null,"2012-01-16"]
[null,null,null,null,null,"2012-01-15"]
[null,null,null,null,null,"2012-01-14"]
[null,null,null,null,null,"2012-01-13"]
[null,null,null,null,null,"2012-01-12"]
[null,null,null,null,null,"2012-01-11"]
[null,null,null,null,null,"2012-01-10"]
[null,null,null,null,null,"2012-01-09"]
[null,null,null,null,null,"2012-01-08"]
[null,null,null,null,null,"2012-01-07"]
[null,null,null,null,null,"2012-01-06"]
[null,null,null,null,null,"2012-01-05"]
[null,null,null,null,null,"2012-01-04"]
[null,null,null,null,null,"2012-01-03"]
[null,null,null,null,null,"2012-01-02"]
[null,null,null,null,null,"2012-01-01"]
[null,null,null,null,null,"2011-12-31"]
[null,null,null,null,null,"2011-12-30"]
[null,null,null,null,null,"2011-12-29"]
[null,null,null,null,null,"2011-12-28"]
[null,null,null,null,null,"2011-12-27"]
[null,null,null,null,null,"2011-12-26"]
[null,null,null,null,null,"2011-12-25"]
[null,null,null,null,null,"2011-12-24"]
[null,null,null,null,null,"2011-12-23"]
[null,null,null,null,null,"2011-12-22"]
[null,null,null,null,null,"2011-12-21"]
[null,null,null,null,null,"2011-12-20"]
[null,null,null,null,null,"2011-12-19"]
[null,null,null,null,null,"2011-12-18"]
[null,null,null,null,null,"2011-12-17"]
[null,null,null,null,null,"2011-12-16"]
[null,null,null,null,null,"2011-12-15"]
[null,null,null,null,null,"2011-12-14"]
[null,null,null,null,null,"2011-12-13"]
[null,null,null,null,null,"2011-12-12"]
[null,null,null,null,null,"2011-12-11"]
[null,null,null,null,null,"2011-12-10"]
[null,null,null,null,null,"2011-12-09"]
[null,null,null,null,null,"2011-12-08"]
[null,null,null,null,null,"2011-12-07"]
[null,null,null,null,null,"2011-12-06"]
[null,null,null,null,null,"2011-12-05"]
[null,null,null,null,null,"2011-12-04"]
[null,null,null,null,null,"2011-12-03"]
[null,null,null,null,null,"2011-12-02"]
[null,null,null,null,null,"2011-12-01"]
[null,null,null,null,null,"2011-11-30"]
[null,null,null,null,null,"2011-11-29"]
[null,null,null,null,null,"2011-11-28"]
[null,null,null,null,null,"2011-11-27"]
[null,null,null,null,null,{"$f":"F2757-1","v":"2011-11-26"}]
[null,null,null,null,null,"2011-11-25"]
[null,null,null,null,null,"2011-11-24"]
[null,null,null,null,null,"2011-11-23"]
[null,null,null,null,null,"2011-11-22"]
[null,null,null,null,null,"2011-11-21"]
[null,null,null,null,null,"2011-11-20"]
[null,null,null,null,null,"2011-11-19"]
[null,null,null,null,null,"2011-11-18"]
[null,null,null,null,null,"2011-11-17"]
[null,null,null,null,null,"2011-11-16"]
[null,null,null,null,null,"2011-11-15"]
[null,null,null,null,null,"2011-11-14"]
[null,null,null,null,null,"2011-11-13"]
[null,null,null,null,null,"2011-11-12"]
[null,null,null,null,null,"2011-11-11"]
[null,null,null,null,null,"2011-11-10"]
[null,null,null,null,null,"2011-11-09"]
[null,null,null,null,null,"2011-11-08"]
[null,null,null,null,null,"2011-11-07"]
[null,null,null,null,null,"2011-11-06"]
[null,null,null,null,null,"2011-11-05"]
[null,null,null,null,null,"2011-11-04"]
[null,null,null,null,null,"2011-11-03"]
[null,null,null,null,null,"2011-11-02"]
[null,null,null,null,null,"2011-11-01"]
[null,null,null,null,null,"2011-10-31"]
[null,null,null,null,null,"2011-10-30"]
[null,null,null,null,null,"2011-10-29"]
[null,null,null,null,null,"2011-10-28"]
[null,null,null,null,null,"2011-10-27"]
[null,null,null,null,null,"2011-10-26"]
[null,null,null,null,null,"2011-10-25"]
[null,null,null,null,null,"2011-10-24"]
[null,null,null,null,null,"2011-10-23"]
[null,null,null,null,null,"2011-10-22"]
[null,null,null,null,null,"2011-10-21"]
[null,null,null,null,null,"2011-10-20"]
[null,null,null,null,null,"2011-10-19"]
[null,null,null,null,null,"2011-10-18"]
[null,null,null,null,null,"2011-10-17"]
[null,null,null,null,null,"2011-10-16"]
[null,null,null,null,null,"2011-10-15"]
[null,null,null,null,null,"2011-10-14"]
[null,null,null,null,null,"2011-10-13"]
[null,null,null,null,null,"2011-10-12"]
[null,null,null,null,null,"2011-10-11"]
[null,null,null,null,null,"2011-10-10"]
[null,null,null,null,null,"2011-10-09"]
[null,null,null,null,null,"2011-10-08"]
[null,null,null,null,null,"2011-10-07"]
[null,null,null,null,null,"2011-10-06"]
[null,null,null,null,null,"2011-10-05"]
[null,null,null,null,null,"2011-10-04"]
[null,null,null,null,null,"2011-10-03"]
[null,null,null,null,null,"2011-10-02"]
[null,null,null,null,null,"2011-10-01"]
[null,null,null,null,null,"2011-09-30"]
[null,null,null,null,null,"2011-09-29"]
[null,null,null,null,null,"2011-09-28"]
[null,null,null,null,null,"2011-09-27"]
[null,null,null,null,null,"2011-09-26"]
[null,null,null,null,null,"2011-09-25"]
[null,null,null,null,null,"2011-09-24"]
[null,null,null,null,null,{"$f":"F2821-1","v":"2011-09-23"}]
[null,null,null,null,null,"2011-09-22"]
[null,null,null,null,null,"2011-09-21"]
[null,null,null,null,null,"2011-09-20"]
[null,null,null,null,null,"2011-09-19"]
[null,null,null,null,null,"2011-09-18"]
[null,null,null,null,null,"2011-09-17"]
[null,null,null,null,null,"2011-09-16"]
[null,null,null,null,null,"2011-09-15"]
[null,null,null,null,null,"2011-09-14"]
[null,null,null,null,null,"2011-09-13"]
[null,null,null,null,null,"2011-09-12"]
[null,null,null,null,null,"2011-09-11"]
[null,null,null,null,null,"2011-09-10"]
[null,null,null,null,null,"2011-09-09"]
[null,null,null,null,null,"2011-09-08"]
[null,null,null,null,null,"2011-09-07"]
[null,null,null,null,null,"2011-09-06"]
[null,null,null,null,null,"2011-09-05"]
[null,null,null,null,null,"2011-09-04"]
[null,null,null,null,null,"2011-09-03"]
[null,null,null,null,null,"2011-09-02"]
[null,null,null,null,null,"2011-09-01"]
[null,null,null,null,null,"2011-08-31"]
[null,null,null,null,null,"2011-08-30"]
[null,null,null,null,null,"2011-08-29"]
[null,null,null,null,null,"2011-08-28"]
[null,null,null,null,null,"2011-08-27"]
[null,null,null,null,null,"2011-08-26"]
[null,null,null,null,null,"2011-08-25"]
[null,null,null,null,null,"2011-08-24"]
[null,null,null,null,null,"2011-08-23"]
[null,null,null,null,null,"2011-08-22"]
[null,null,null,null,null,"2011-08-21"]
[null,null,null,null,null,"2011-08-20"]
[null,null,null,null,null,"2011-08-19"]
[null,null,null,null,null,"2011-08-18"]
[null,null,null,null,null,"2011-08-17"]
[null,null,null,null,null,"2011-08-16"]
[null,null,null,null,null,"2011-08-15"]
[null,null,null,null,null,"2011-08-14"]
[null,null,null,null,null,"2011-08-13"]
[null,null,null,null,null,"2011-08-12"]
[null,null,null,null,null,"2011-08-11"]
[null,null,null,null,null,"2011-08-10"]
[null,null,null,null,null,"2011-08-09"]
[null,null,null,null,null,"2011-08-08"]
[null,null,null,null,null,"2011-08-07"]
[null,null,null,null,null,"2011-08-06"]
[null,null,null,null,null,"2011-08-05"]
[null,null,null,null,null,"2011-08-04"]
[null,null,null,null,null,"2011-08-03"]
[null,null,null,null,null,"2011-08-02"]
[null,null,null,null,null,"2011-08-01"]
[null,null,null,null,null,"2011-07-31"]
[null,null,null,null,null,"2011-07-30"]
[null,null,null,null,null,"2011-07-29"]
[null,null,null,null,null,"2011-07-28"]
[null,null,null,null,null,"2011-07-27"]
[null,null,null,null,null,"2011-07-26"]
[null,null,null,null,null,"2011-07-25"]
[null,null,null,null,null,"2011-07-24"]
[null,null,null,null,null,"2011-07-23"]
[null,null,null,null,null,"2011-07-22"]
[null,null,null,null,null,{"$f":"F2885-1","v":"2011-07-21"}]
[null,null,null,null,null,"2011-07-20"]
[null,null,null,null,null,"2011-07-19"]
[null,null,null,null,null,"2011-07-18"]
[null,null,null,null,null,"2011-07-17"]
[null,null,null,null,null,"2011-07-16"]
[null,null,null,null,null,"2011-07-15"]
[null,null,null,null,null,"2011-07-14"]
[null,null,null,null,null,"2011-07-13"]
[null,null,null,null,null,"2011-07-12"]
[null,null,null,null,null,"2011-07-11"]
[null,null,null,null,null,"2011-07-10"]
[null,null,null,null,null,"2011-07-09"]
[null,null,null,null,null,"2011-07-08"]
[null,null,null,null,null,"2011-07-07"]
[null,null,null,null,null,"2011-07-06"]
[null,null,null,null,null,"2011-07-05"]
[null,null,null,null,null,"2011-07-04"]
[null,null,null,null,null,"2011-07-03"]
[null,null,null,null,null,"2011-07-02"]
[null,null,null,null,null,"2011-07-01"]
[null,null,null,null,null,"2011-06-30"]
[null,null,null,null,null,"2011-06-29"]
[null,null,null,null,null,"2011-06-28"]
[null,null,null,null,null,"2011-06-27"]
[null,null,null,null,null,"2011-06-26"]
[null,null,null,null,null,"2011-06-25"]
[null,null,null,null,null,"2011-06-24"]
[null,null,null,null,null,"2011-06-23"]
[null,null,null,null,null,"2011-06-22"]
[null,null,null,null,null,"2011-06-21"]
[null,null,null,null,null,"2011-06-20"]
[null,null,null,null,null,"2011-06-19"]
[null,null,null,null,null,"2011-06-18"]
[null,null,null,null,null,"2011-06-17"]
[null,null,null,null,null,"2011-06-16"]
[null,null,null,null,null,"2011-06-15"]
[null,null,null,null,null,"2011-06-14"]
[null,null,null,null,null,"2011-06-13"]
[null,null,null,null,null,"2011-06-12"]
[null,null,null,null,null,"2011-06-11"]
[null,null,null,null,null,"2011-06-10"]
[null,null,null,null,null,"2011-06-09"]
[null,null,null,null,null,"2011-06-08"]
[null,null,null,null,null,"2011-06-07"]
[null,null,null,null,null,"2011-06-06"]
[null,null,null,null,null,"2011-06-05"]
[null,null,null,null,null,"2011-06-04"]
[null,null,null,null,null,"2011-06-03"]
[null,null,null,null,null,"2011-06-02"]
[null,null,null,null,null,"2011-06-01"]
[null,null,null,null,null,"2011-05-31"]
[null,null,null,null,null,"2011-05-30"]
[null,null,null,null,null,"2011-05-29"]
[null,null,null,null,null,"2011-05-28"]
[null,null,null,null,null,"2011-05-27"]
[null,null,null,null,null,"2011-05-26"]
[null,null,null,null,null,"2011-05-25"]
[null,null,null,null,null,"2011-05-24"]
[null,null,null,null,null,"2011-05-23"]
[null,null,null,null,null,"2011-05-22"]
[null,null,null,null,null,"2011-05-21"]
[null,null,null,null,null,"2011-05-20"]
[null,null,null,null,null,"2011-05-19"]
[null,null,null,null,null,{"$f":"F2949-1","v":"2011-05-18"}]
[null,null,null,null,null,"2011-05-17"]
[null,null,null,null,null,"2011-05-16"]
[null,null,null,null,null,"2011-05-15"]
[null,null,null,null,null,"2011-05-14"]
[null,null,null,null,null,"2011-05-13"]
[null,null,null,null,null,"2011-05-12"]
[null,null,null,null,null,"2011-05-11"]
[null,null,null,null,null,"2011-05-10"]
[null,null,null,null,null,"2011-05-09"]
[null,null,null,null,null,"2011-05-08"]
[null,null,null,null,null,"2011-05-07"]
[null,null,null,null,null,"2011-05-06"]
[null,null,null,null,null,"2011-05-05"]
[null,null,null,null,null,"2011-05-04"]
[null,null,null,null,null,"2011-05-03"]
[null,null,null,null,null,"2011-05-02"]
[null,null,null,null,null,"2011-05-01"]
[null,null,null,null,null,"2011-04-30"]
[null,null,null,null,null,"2011-04-29"]
[null,null,null,null,null,"2011-04-28"]
[null,null,null,null,null,"2011-04-27"]
[null,null,null,null,null,"2011-04-26"]
[null,null,null,null,null,"2011-04-25"]
[null,null,null,null,null,"2011-04-24"]
[null,null,null,null,null,"2011-04-23"]
[null,null,null,null,null,"2011-04-22"]
[null,null,null,null,null,"2011-04-21"]
[null,null,null,null,null,"2011-04-20"]
[null,null,null,null,null,"2011-04-19"]
[null,null,null,null,null,"2011-04-18"]
[null,null,null,null,null,"2011-04-17"]
[null,null,null,null,null,"2011-04-16"]
[null,null,null,null,null,"2011-04-15"]
[null,null,null,null,null,"2011-04-14"]
[null,null,null,null,null,"2011-04-13"]
[null,null,null,null,null,"2011-04-12"]
[null,null,null,null,null,"2011-04-11"]
[null,null,null,null,null,"2011-04-10"]
[null,null,null,null,null,"2011-04-09"]
[null,null,null,null,null,"2011-04-08"]
[null,null,null,null,null,"2011-04-07"]
[null,null,null,null,null,"2011-04-06"]
[null,null,null,null,null,"2011-04-05"]
[null,null,null,null,null,"2011-04-04"]
[null,null,null,null,null,"2011-04-03"]
[null,null,null,null,null,"2011-04-02"]
[null,null,null,null,null,"2011-04-01"]
[null,null,null,null,null,"2011-03-31"]
[null,null,null,null,null,"2011-03-30"]
[null,null,null,null,null,"2011-03-29"]
[null,null,null,null,null,"2011-03-28"]
[null,null,null,null,null,"2011-03-27"]
[null,null,null,null,null,"2011-03-26"]
[null,null,null,null,null,"2011-03-25"]
[null,null,null,null,null,"2011-03-24"]
[null,null,null,null,null,"2011-03-23"]
[null,null,null,null,null,"2011-03-22"]
[null,null,null,null,null,"2011-03-21"]
[null,null,null,null,null,"2011-03-20"]
[null,null,null,null,null,"2011-03-19"]
[null,null,null,null,null,"2011-03-18"]
[null,null,null,null,null,"2011-03-17"]
[null,null,null,null,null,"2011-03-16"]
[null,null,null,null,null,{"$f":"F3013-1","v":"2011-03-15"}]
[null,null,null,null,null,"2011-03-14"]
[null,null,null,null,null,"2011-03-13"]
[null,null,null,null,null,"2011-03-12"]
[null,null,null,null,null,"2011-03-11"]
[null,null,null,null,null,"2011-03-10"]
[null,null,null,null,null,"2011-03-09"]
[null,null,null,null,null,"2011-03-08"]
[null,null,null,null,null,"2011-03-07"]
[null,null,null,null,null,"2011-03-06"]
[null,null,null,null,null,"2011-03-05"]
[null,null,null,null,null,"2011-03-04"]
[null,null,null,null,null,"2011-03-03"]
[null,null,null,null,null,"2011-03-02"]
[null,null,null,null,null,"2011-03-01"]
[null,null,null,null,null,"2011-02-28"]
[null,null,null,null,null,"2011-02-27"]
[null,null,null,null,null,"2011-02-26"]
[null,null,null,null,null,"2011-02-25"]
[null,null,null,null,null,"2011-02-24"]
[null,null,null,null,null,"2011-02-23"]
[null,null,null,null,null,"2011-02-22"]
[null,null,null,null,null,"2011-02-21"]
[null,null,null,null,null,"2011-02-20"]
[null,null,null,null,null,"2011-02-19"]
[null,null,null,null,null,"2011-02-18"]
[null,null,null,null,null,"2011-02-17"]
[null,null,null,null,null,"2011-02-16"]
[null,null,null,null,null,"2011-02-15"]
[null,null,null,null,null,"2011-02-14"]
[null,null,null,null,null,"2011-02-13"]
[null,null,null,null,null,"2011-02-12"]
[null,null,null,null,null,"2011-02-11"]
[null,null,null,null,null,"2011-02-10"]
[null,null,null,null,null,"2011-02-09"]
[null,null,null,null,null,"2011-02-08"]
[null,null,null,null,null,"2011-02-07"]
[null,null,null,null,null,"2011-02-06"]
[null,null,null,null,null,"2011-02-05"]
[null,null,null,null,null,"2011-02-04"]
[null,null,null,null,null,"2011-02-03"]
[null,null,null,null,null,"2011-02-02"]
[null,null,null,null,null,"2011-02-01"]
[null,null,null,null,null,"2011-01-31"]
[null,null,null,null,null,"2011-01-30"]
[null,null,null,null,null,"2011-01-29"]
[null,null,null,null,null,"2011-01-28"]
[null,null,null,null,null,"2011-01-27"]
[null,null,null,null,null,"2011-01-26"]
[null,null,null,null,null,"2011-01-25"]
[null,null,null,null,null,"2011-01-24"]
[null,null,null,null,null,"2011-01-23"]
[null,null,null,null,null,"2011-01-22"]
[null,null,null,null,null,"2011-01-21"]
[null,null,null,null,null,"2011-01-20"]
[null,null,null,null,null,"2011-01-19"]
[null,null,null,null,null,"2011-01-18"]
[null,null,null,null,null,"2011-01-17"]
[null,null,null,null,null,"2011-01-16"]
[null,null,null,null,null,"2011-01-15"]
[null,null,null,null,null,"2011-01-14"]
[null,null,null,null,null,"2011-01-13"]
[null,null,null,null,null,"2011-01-12"]
[null,null,null,null,null,"2011-01-11"]
[null,null,null,null,null,{"$f":"F3077-1","v":"2011-01-10"}]
[null,null,null,null,null,"2011-01-09"]
[null,null,null,null,null,"2011-01-08"]
[null,null,null,null,null,"2011-01-07"]
[null,null,null,null,null,"2011-01-06"]
[null,null,null,null,null,"2011-01-05"]
[null,null,null,null,null,"2011-01-04"]
[null,null,null,null,null,"2011-01-03"]
[null,null,null,null,null,"2011-01-02"]
[null,null,null,null,null,"2011-01-01"]
[null,null,null,null,null,"2010-12-31"]
[null,null,null,null,null,"2010-12-30"]
[null,null,null,null,null,"2010-12-29"]
[null,null,null,null,null,"2010-12-28"]
[null,null,null,null,null,"2010-12-27"]
[null,null,null,null,null,"2010-12-26"]
[null,null,null,null,null,"2010-12-25"]
[null,null,null,null,null,"2010-12-24"]
[null,null,null,null,null,"2010-12-23"]
[null,null,null,null,null,"2010-12-22"]
[null,null,null,null,null,"2010-12-21"]
[null,null,null,null,null,"2010-12-20"]
[null,null,null,null,null,"2010-12-19"]
[null,null,null,null,null,"2010-12-18"]
[null,null,null,null,null,"2010-12-17"]
[null,null,null,null,null,"2010-12-16"]
[null,null,null,null,null,"2010-12-15"]
[null,null,null,null,null,"2010-12-14"]
[null,null,null,null,null,"2010-12-13"]
[null,null,null,null,null,"2010-12-12"]
[null,null,null,null,null,"2010-12-11"]
[null,null,null,null,null,"2010-12-10"]
[null,null,null,null,null,"2010-12-09"]
[null,null,null,null,null,"2010-12-08"]
[null,null,null,null,null,"2010-12-07"]
[null,null,null,null,null,"2010-12-06"]
[null,null,null,null,null,"2010-12-05"]
[null,null,null,null,null,"2010-12-04"]
[null,null,null,null,null,"2010-12-03"]
[null,null,null,null,null,"2010-12-02"]
[null,null,null,null,null,"2010-12-01"]
[null,null,null,null,null,"2010-11-30"]
[null,null,null,null,null,"2010-11-29"]
[null,null,null,null,null,"2010-11-28"]
[null,null,null,null,null,"2010-11-27"]
[null,null,null,null,null,"2010-11-26"]
[null,null,null,null,null,"2010-11-25"]
[null,null,null,null,null,"2010-11-24"]
[null,null,null,null,null,"2010-11-23"]
[null,null,null,null,null,"2010-11-22"]
[null,null,null,null,null,"2010-11-21"]
[null,null,null,null,null,"2010-11-20"]
[null,null,null,null,null,"2010-11-19"]
[null,null,null,null,null,"2010-11-18"]
[null,null,null,null,null,"2010-11-17"]
[null,null,null,null,null,"2010-11-16"]
[null,null,null,null,null,"2010-11-15"]
[null,null,null,null,null,"2010-11-14"]
[null,null,null,null,null,"2010-11-13"]
[null,null,null,null,null,"2010-11-12"]
[null,null,null,null,null,"2010-11-11"]
[null,null,null,null,null,"2010-11-10"]
[null,null,null,null,null,"2010-11-09"]
[null,null,null,null,null,"2010-11-08"]
[null,null,null,null,null,{"$f":"F3141-1","v":"2010-11-07"}]
[null,null,null,null,null,"2010-11-06"]
[null,null,null,null,null,"2010-11-05"]
[null,null,null,null,null,"2010-11-04"]
[null,null,null,null,null,"2010-11-03"]
[null,null,null,null,null,"2010-11-02"]
[null,null,null,null,null,"2010-11-01"]
[null,null,null,null,null,"2010-10-31"]
[null,null,null,null,null,"2010-10-30"]
[null,null,null,null,null,"2010-10-29"]
[null,null,null,null,null,"2010-10-28"]
[null,null,null,null,null,"2010-10-27"]
[null,null,null,null,null,"2010-10-26"]
[null,null,null,null,null,"2010-10-25"]
[null,null,null,null,null,"2010-10-24"]
[null,null,null,null,null,"2010-10-23"]
[null,null,null,null,null,"2010-10-22"]
[null,null,null,null,null,"2010-10-21"]
[null,null,null,null,null,"2010-10-20"]
[null,null,null,null,null,"2010-10-19"]
[null,null,null,null,null,"2010-10-18"]
[null,null,null,null,null,"2010-10-17"]
[null,null,null,null,null,"2010-10-16"]
[null,null,null,null,null,"2010-10-15"]
[null,null,null,null,null,"2010-10-14"]
[null,null,null,null,null,"2010-10-13"]
[null,null,null,null,null,"2010-10-12"]
[null,null,null,null,null,"2010-10-11"]
[null,null,null,null,null,"2010-10-10"]
[null,null,null,null,null,"2010-10-09"]
[null,null,null,null,null,"2010-10-08"]
[null,null,null,null,null,"2010-10-07"]
[null,null,null,null,null,"2010-10-06"]
[null,null,null,null,null,"2010-10-05"]
[null,null,null,null,null,"2010-10-04"]
[null,null,null,null,null,"2010-10-03"]
[null,null,null,null,null,"2010-10-02"]
[null,null,null,null,null,"2010-10-01"]
[null,null,null,null,null,"2010-09-30"]
[null,null,null,null,null,"2010-09-29"]
[null,null,null,null,null,"2010-09-28"]
[null,null,null,null,null,"2010-09-27"]
[null,null,null,null,null,"2010-09-26"]
[null,null,null,null,null,"2010-09-25"]
[null,null,null,null,null,"2010-09-24"]
[null,null,null,null,null,"2010-09-23"]
[null,null,null,null,null,"2010-09-22"]
[null,null,null,null,null,"2010-09-21"]
[null,null,null,null,null,"2010-09-20"]
[null,null,null,null,null,"2010-09-19"]
[null,null,null,null,null,"2010-09-18"]
[null,null,null,null,null,"2010-09-17"]
[null,null,null,null,null,"2010-09-16"]
[null,null,null,null,null,"2010-09-15"]
[null,null,null,null,null,"2010-09-14"]
[null,null,null,null,null,"2010-09-13"]
[null,null,null,null,null,"2010-09-12"]
[null,null,null,null,null,"2010-09-11"]
[null,null,null,null,null,"2010-09-10"]
[null,null,null,null,null,"2010-09-09"]
[null,null,null,null,null,"2010-09-08"]
[null,null,null,null,null,"2010-09-07"]
[null,null,null,null,null,"2010-09-06"]
[null,null,null,null,null,"2010-09-05"]
[null,null,null,null,null,{"$f":"F3205-1","v":"2010-09-04"}]
[null,null,null,null,null,"2010-09-03"]
[null,null,null,null,null,"2010-09-02"]
[null,null,null,null,null,"2010-09-01"]
[null,null,null,null,null,"2010-08-31"]
[null,null,null,null,null,"2010-08-30"]
[null,null,null,null,null,"2010-08-29"]
[null,null,null,null,null,"2010-08-28"]
[null,null,null,null,null,"2010-08-27"]
[null,null,null,null,null,"2010-08-26"]
[null,null,null,null,null,"2010-08-25"]
[null,null,null,null,null,"2010-08-24"]
[null,null,null,null,null,"2010-08-23"]
[null,null,null,null,null,"2010-08-22"]
[null,null,null,null,null,"2010-08-21"]
[null,null,null,null,null,"2010-08-20"]
[null,null,null,null,null,"2010-08-19"]
[null,null,null,null,null,"2010-08-18"]
[null,null,null,null,null,"2010-08-17"]
[null,null,null,null,null,"2010-08-16"]
[null,null,null,null,null,"2010-08-15"]
[null,null,null,null,null,"2010-08-14"]
[null,null,null,null,null,"2010-08-13"]
[null,null,null,null,null,"2010-08-12"]
[null,null,null,null,null,"2010-08-11"]
[null,null,null,null,null,"2010-08-10"]
[null,null,null,null,null,"2010-08-09"]
[null,null,null,null,null,"2010-08-08"]
[null,null,null,null,null,"2010-08-07"]
[null,null,null,null,null,"2010-08-06"]
[null,null,null,null,null,"2010-08-05"]
[null,null,null,null,null,"2010-08-04"]
[null,null,null,null,null,"2010-08-03"]
[null,null,null,null,null,"2010-08-02"]
[null,null,null,null,null,"2010-08-01"]
[null,null,null,null,null,"2010-07-31"]
[null,null,null,null,null,"2010-07-30"]
[null,null,null,null,null,"2010-07-29"]
[null,null,null,null,null,"2010-07-28"]
[null,null,null,null,null,"2010-07-27"]
[null,null,null,null,null,"2010-07-26"]
[null,null,null,null,null,"2010-07-25"]
[null,null,null,null,null,"2010-07-24"]
[null,null,null,null,null,"2010-07-23"]
[null,null,null,null,null,"2010-07-22"]
[null,null,null,null,null,"2010-07-21"]
[null,null,null,null,null,"2010-07-20"]
[null,null,null,null,null,"2010-07-19"]
[null,null,null,null,null,"2010-07-18"]
[null,null,null,null,null,"2010-07-17"]
[null,null,null,null,null,"2010-07-16"]
[null,null,null,null,null,"2010-07-15"]
[null,null,null,null,null,"2010-07-14"]
[null,null,null,null,null,"2010-07-13"]
[null,null,null,null,null,"2010-07-12"]
[null,null,null,null,null,"2010-07-11"]
[null,null,null,null,null,"2010-07-10"]
[null,null,null,null,null,"2010-07-09"]
[null,null,null,null,null,"2010-07-08"]
[null,null,null,null,null,"2010-07-07"]
[null,null,null,null,null,"2010-07-06"]
[null,null,null,null,null,"2010-07-05"]
[null,null,null,null,null,"2010-07-04"]
[null,null,null,null,null,"2010-07-03"]
[null,null,null,null,null,{"$f":"F3269-1","v":"2010-07-02"}]
[null,null,null,null,null,"2010-07-01"]
[null,null,null,null,null,"2010-06-30"]
[null,null,null,null,null,"2010-06-29"]
[null,null,null,null,null,"2010-06-28"]
[null,null,null,null,null,"2010-06-27"]
[null,null,null,null,null,"2010-06-26"]
[null,null,null,null,null,"2010-06-25"]
[null,null,null,null,null,"2010-06-24"]
[null,null,null,null,null,"2010-06-23"]
[null,null,null,null,null,"2010-06-22"]
[null,null,null,null,null,"2010-06-21"]
[null,null,null,null,null,"2010-06-20"]
[null,null,null,null,null,"2010-06-19"]
[null,null,null,null,null,"2010-06-18"]
[null,null,null,null,null,"2010-06-17"]
[null,null,null,null,null,"2010-06-16"]
[null,null,null,null,null,"2010-06-15"]
[null,null,null,null,null,"2010-06-14"]
[null,null,null,null,null,"2010-06-13"]
[null,null,null,null,null,"2010-06-12"]
[null,null,null,null,null,"2010-06-11"]
[null,null,null,null,null,"2010-06-10"]
[null,null,null,null,null,"2010-06-09"]
[null,null,null,null,null,"2010-06-08"]
[null,null,null,null,null,"2010-06-07"]
[null,null,null,null,null,"2010-06-06"]
[null,null,null,null,null,"2010-06-05"]
[null,null,null,null,null,"2010-06-04"]
[null,null,null,null,null,"2010-06-03"]
[null,null,null,null,null,"2010-06-02"]
[null,null,null,null,null,"2010-06-01"]
[null,null,null,null,null,"2010-05-31"]
[null,null,null,null,null,"2010-05-30"]
[null,null,null,null,null,"2010-05-29"]
[null,null,null,null,null,"2010-05-28"]
[null,null,null,null,null,"2010-05-27"]
[null,null,null,null,null,"2010-05-26"]
[null,null,null,null,null,"2010-05-25"]
[null,null,null,null,null,"2010-05-24"]
[null,null,null,null,null,"2010-05-23"]
[null,null,null,null,null,"2010-05-22"]
[null,null,null,null,null,"2010-05-21"]
[null,null,null,null,null,"2010-05-20"]
[null,null,null,null,null,"2010-05-19"]
[null,null,null,null,null,"2010-05-18"]
[null,null,null,null,null,"2010-05-17"]
[null,null,null,null,null,"2010-05-16"]
[null,null,null,null,null,"2010-05-15"]
[null,null,null,null,null,"2010-05-14"]
[null,null,null,null,null,"2010-05-13"]
[null,null,null,null,null,"2010-05-12"]
[null,null,null,null,null,"2010-05-11"]
[null,null,null,null,null,"2010-05-10"]
[null,null,null,null,null,"2010-05-09"]
[null,null,null,null,null,"2010-05-08"]
[null,null,null,null,null,"2010-05-07"]
[null,null,null,null,null,"2010-05-06"]
[null,null,null,null,null,"2010-05-05"]
[null,null,null,null,null,"2010-05-04"]
[null,null,null,null,null,"2010-05-03"]
[null,null,null,null,null,"2010-05-02"]
[null,null,null,null,null,"2010-05-01"]
[null,null,null,null,null,"2010-04-30"]
[null,null,null,null,null,{"$f":"F3333-1","v":"2010-04-29"}]
[null,null,null,null,null,"2010-04-28"]
[null,null,null,null,null,"2010-04-27"]
[null,null,null,null,null,"2010-04-26"]
[null,null,null,null,null,"2010-04-25"]
[null,null,null,null,null,"2010-04-24"]
[null,null,null,null,null,"2010-04-23"]
[null,null,null,null,null,"2010-04-22"]
[null,null,null,null,null,"2010-04-21"]
[null,null,null,null,null,"2010-04-20"]
[null,null,null,null,null,"2010-04-19"]
[null,null,null,null,null,"2010-04-18"]
[null,null,null,null,null,"2010-04-17"]
[null,null,null,null,null,"2010-04-16"]
[null,null,null,null,null,"2010-04-15"]
[null,null,null,null,null,"2010-04-14"]
[null,null,null,null,null,"2010-04-13"]
[null,null,null,null,null,"2010-04-12"]
[null,null,null,null,null,"2010-04-11"]
[null,null,null,null,null,"2010-04-10"]
[null,null,null,null,null,"2010-04-09"]
[null,null,null,null,null,"2010-04-08"]
[null,null,null,null,null,"2010-04-07"]
[null,null,null,null,null,"2010-04-06"]
[null,null,null,null,null,"2010-04-05"]
[null,null,null,null,null,"2010-04-04"]
[null,null,null,null,null,"2010-04-03"]
[null,null,null,null,null,"2010-04-02"]
[null,null,null,null,null,"2010-04-01"]
[null,null,null,null,null,"2010-03-31"]
[null,null,null,null,null,"2010-03-30"]
[null,null,null,null,null,"2010-03-29"]
[null,null,null,null,null,"2010-03-28"]
[null,null,null,null,null,"2010-03-27"]
[null,null,null,null,null,"2010-03-26"]
[null,null,null,null,null,"2010-03-25"]
[null,null,null,null,null,"2010-03-24"]
[null,null,null,null,null,"2010-03-23"]
[null,null,null,null,null,"2010-03-22"]
[null,null,null,null,null,"2010-03-21"]
[null,null,null,null,null,"2010-03-20"]
[null,null,null,null,null,"2010-03-19"]
[null,null,null,null,null,"2010-03-18"]
[null,null,null,null,null,"2010-03-17"]
[null,null,null,null,null,"2010-03-16"]
[null,null,null,null,null,"2010-03-15"]
[null,null,null,null,null,"2010-03-14"]
[null,null,null,null,null,"2010-03-13"]
[null,null,null,null,null,"2010-03-12"]
[null,null,null,null,null,"2010-03-11"]
[null,null,null,null,null,"2010-03-10"]
[null,null,null,null,null,"2010-03-09"]
[null,null,null,null,null,"2010-03-08"]
[null,null,null,null,null,"2010-03-07"]
[null,null,null,null,null,"2010-03-06"]
[null,null,null,null,null,"2010-03-05"]
[null,null,null,null,null,"2010-03-04"]
[null,null,null,null,null,"2010-03-03"]
[null,null,null,null,null,"2010-03-02"]
[null,null,null,null,null,"2010-03-01"]
[null,null,null,null,null,"2010-02-28"]
[null,null,null,null,null,"2010-02-27"]
[null,null,null,null,null,"2010-02-26"]
[null,null,null,null,null,"2010-02-25"]
[null,null,null,null,null,{"$f":"F3397-1","v":"2010-02-24"}]
[null,null,null,null,null,"2010-02-23"]
[null,null,null,null,null,"2010-02-22"]
[null,null,null,null,null,"2010-02-21"]
[null,null,null,null,null,"2010-02-20"]
[null,null,null,null,null,"2010-02-19"]
[null,null,null,null,null,"2010-02-18"]
[null,null,null,null,null,"2010-02-17"]
[null,null,null,null,null,"2010-02-16"]
[null,null,null,null,null,"2010-02-15"]
[null,null,null,null,null,"2010-02-14"]
[null,null,null,null,null,"2010-02-13"]
[null,null,null,null,null,"2010-02-12"]
[null,null,null,null,null,"2010-02-11"]
[null,null,null,null,null,"2010-02-10"]
[null,null,null,null,null,"2010-02-09"]
[null,null,null,null,null,"2010-02-08"]
[null,null,null,null,null,"2010-02-07"]
[null,null,null,null,null,"2010-02-06"]
[null,null,null,null,null,"2010-02-05"]
[null,null,null,null,null,"2010-02-04"]
[null,null,null,null,null,"2010-02-03"]
[null,null,null,null,null,"2010-02-02"]
[null,null,null,null,null,"2010-02-01"]
[null,null,null,null,null,"2010-01-31"]
[null,null,null,null,null,"2010-01-30"]
[null,null,null,null,null,"2010-01-29"]
[null,null,null,null,null,"2010-01-28"]
[null,null,null,null,null,"2010-01-27"]
[null,null,null,null,null,"2010-01-26"]
[null,null,null,null,null,"2010-01-25"]
[null,null,null,null,null,"2010-01-24"]
[null,null,null,null,null,"2010-01-23"]
[null,null,null,null,null,"2010-01-22"]
[null,null,null,null,null,"2010-01-21"]
[null,null,null,null,null,"2010-01-20"]
[null,null,null,null,null,"2010-01-19"]
[null,null,null,null,null,"2010-01-18"]
[null,null,null,null,null,"2010-01-17"]
[null,null,null,null,null,"2010-01-16"]
[null,null,null,null,null,"2010-01-15"]
[null,null,null,null,null,"2010-01-14"]
[null,null,null,null,null,"2010-01-13"]
[null,null,null,null,null,"2010-01-12"]
[null,null,null,null,null,"2010-01-11"]
[null,null,null,null,null,"2010-01-10"]
[null,null,null,null,null,"2010-01-09"]
[null,null,null,null,null,"2010-01-08"]
[null,null,null,null,null,"2010-01-07"]
[null,null,null,null,null,"2010-01-06"]
[null,null,null,null,null,"2010-01-05"]
[null,null,null,null,null,"2010-01-04"]
[null,null,null,null,null,"2010-01-03"]
[null,null,null,null,null,"2010-01-02"]
[null,null,null,null,null,"2010-01-01"]
[null,null,null,null,null,"2009-12-31"]
[null,null,null,null,null,"2009-12-30"]
[null,null,null,null,null,"2009-12-29"]
[null,null,null,null,null,"2009-12-28"]
[null,null,null,null,null,"2009-12-27"]
[null,null,null,null,null,"2009-12-26"]
[null,null,null,null,null,"2009-12-25"]
[null,null,null,null,null,"2009-12-24"]
[null,null,null,null,null,"2009-12-23"]
[null,null,null,null,null,{"$f":"F3461-1","v":"2009-12-22"}]
[null,null,null,null,null,"2009-12-21"]
[null,null,null,null,null,"2009-12-20"]
[null,null,null,null,null,"2009-12-19"]
[null,null,null,null,null,"2009-12-18"]
[null,null,null,null,null,"2009-12-17"]
[null,null,null,null,null,"2009-12-16"]
[null,null,null,null,null,"2009-12-15"]
[null,null,null,null,null,"2009-12-14"]
[null,null,null,null,null,"2009-12-13"]
[null,null,null,null,null,"2009-12-12"]
[null,null,null,null,null,"2009-12-11"]
[null,null,null,null,null,"2009-12-10"]
[null,null,null,null,null,"2009-12-09"]
[null,null,null,null,null,"2009-12-08"]
[null,null,null,null,null,"2009-12-07"]
[null,null,null,null,null,"2009-12-06"]
[null,null,null,null,null,"2009-12-05"]
[null,null,null,null,null,"2009-12-04"]
[null,null,null,null,null,"2009-12-03"]
[null,null,null,null,null,"2009-12-02"]
[null,null,null,null,null,"2009-12-01"]
[null,null,null,null,null,"2009-11-30"]
[null,null,null,null,null,"2009-11-29"]
[null,null,null,null,null,"2009-11-28"]
[null,null,null,null,null,"2009-11-27"]
[null,null,null,null,null,"2009-11-26"]
[null,null,null,null,null,"2009-11-25"]
[null,null,null,null,null,"2009-11-24"]
[null,null,null,null,null,"2009-11-23"]
[null,null,null,null,null,"2009-11-22"]
[null,null,null,null,null,"2009-11-21"]
[null,null,null,null,null,"2009-11-20"]
[null,null,null,null,null,"2009-11-19"]
[null,null,null,null,null,"2009-11-18"]
[null,null,null,null,null,"2009-11-17"]
[null,null,null,null,null,"2009-11-16"]
[null,null,null,null,null,"2009-11-15"]
[null,null,null,null,null,"2009-11-14"]
[null,null,null,null,null,"2009-11-13"]
[null,null,null,null,null,"2009-11-12"]
[null,null,null,null,null,"2009-11-11"]
[null,null,null,null,null,"2009-11-10"]
[null,null,null,null,null,"2009-11-09"]
[null,null,null,null,null,"2009-11-08"]
[null,null,null,null,null,"2009-11-07"]
[null,null,null,null,null,"2009-11-06"]
[null,null,null,null,null,"2009-11-05"]
[null,null,null,null,null,"2009-11-04"]
[null,null,null,null,null,"2009-11-03"]
[null,null,null,null,null,"2009-11-02"]
[null,null,null,null,null,"2009-11-01"]
[null,null,null,null,null,"2009-10-31"]
[null,null,null,null,null,"2009-10-30"]
[null,null,null,null,null,"2009-10-29"]
[null,null,null,null,null,"2009-10-28"]
[null,null,null,null,null,"2009-10-27"]
[null,null,null,null,null,"2009-10-26"]
[null,null,null,null,null,"2009-10-25"]
[null,null,null,null,null,"2009-10-24"]
[null,null,null,null,null,"2009-10-23"]
[null,null,null,null,null,"2009-10-22"]
[null,null,null,null,null,"2009-10-21"]
[null,null,null,null,null,"2009-10-20"]
[null,null,null,null,null,{"$f":"F3525-1","v":"2009-10-19"}]
[null,null,null,null,null,"2009-10-18"]
[null,null,null,null,null,"2009-10-17"]
[null,null,null,null,null,"2009-10-16"]
[null,null,null,null,null,"2009-10-15"]
[null,null,null,null,null,"2009-10-14"]
[null,null,null,null,null,"2009-10-13"]
[null,null,null,null,null,"2009-10-12"]
[null,null,null,null,null,"2009-10-11"]
[null,null,null,null,null,"2009-10-10"]
[null,null,null,null,null,"2009-10-09"]
[null,null,null,null,null,"2009-10-08"]
[null,null,null,null,null,"2009-10-07"]
[null,null,null,null,null,"2009-10-06"]
[null,null,null,null,null,"2009-10-05"]
[null,null,null,null,null,"2009-10-04"]
[null,null,null,null,null,"2009-10-03"]
[null,null,null,null,null,"2009-10-02"]
[null,null,null,null,null,"2009-10-01"]
[null,null,null,null,null,"2009-09-30"]
[null,null,null,null,null,"2009-09-29"]
[null,null,null,null,null,"2009-09-28"]
[null,null,null,null,null,"2009-09-27"]
[null,null,null,null,null,"2009-09-26"]
[null,null,null,null,null,"2009-09-25"]
[null,null,null,null,null,"2009-09-24"]
[null,null,null,null,null,"2009-09-23"]
[null,null,null,null,null,"2009-09-22"]
[null,null,null,null,null,"2009-09-21"]
[null,null,null,null,null,"2009-09-20"]
[null,null,null,null,null,"2009-09-19"]
[null,null,null,null,null,"2009-09-18"]
[null,null,null,null,null,"2009-09-17"]
[null,null,null,null,null,"2009-09-16"]
[null,null,null,null,null,"2009-09-15"]
[null,null,null,null,null,"2009-09-14"]
[null,null,null,null,null,"2009-09-13"]
[null,null,null,null,null,"2009-09-12"]
[null,null,null,null,null,"2009-09-11"]
[null,null,null,null,null,"2009-09-10"]
[null,null,null,null,null,"2009-09-09"]
[null,null,null,null,null,"2009-09-08"]
[null,null,null,null,null,"2009-09-07"]
[null,null,null,null,null,"2009-09-06"]
[null,null,null,null,null,"2009-09-05"]
[null,null,null,null,null,"2009-09-04"]
[null,null,null,null,null,"2009-09-03"]
[null,null,null,null,null,"2009-09-02"]
[null,null,null,null,null,"2009-09-01"]
[null,null,null,null,null,"2009-08-31"]
[null,null,null,null,null,"2009-08-30"]
[null,null,null,null,null,"2009-08-29"]
[null,null,null,null,null,"2009-08-28"]
[null,null,null,null,null,"2009-08-27"]
[null,null,null,null,null,"2009-08-26"]
[null,null,null,null,null,"2009-08-25"]
[null,null,null,null,null,"2009-08-24"]
[null,null,null,null,null,"2009-08-23"]
[null,null,null,null,null,"2009-08-22"]
[null,null,null,null,null,"2009-08-21"]
[null,null,null,null,null,"2009-08-20"]
[null,null,null,null,null,"2009-08-19"]
[null,null,null,null,null,"2009-08-18"]
[null,null,null,null,null,"2009-08-17"]
[null,null,null,null,null,{"$f":"F3589-1","v":"2009-08-16"}]
[null,null,null,null,null,"2009-08-15"]
[null,null,null,null,null,"2009-08-14"]
[null,null,null,null,null,"2009-08-13"]
[null,null,null,null,null,"2009-08-12"]
[null,null,null,null,null,"2009-08-11"]
[null,null,null,null,null,"2009-08-10"]
[null,null,null,null,null,"2009-08-09"]
[null,null,null,null,null,"2009-08-08"]
[null,null,null,null,null,"2009-08-07"]
[null,null,null,null,null,"2009-08-06"]
[null,null,null,null,null,"2009-08-05"]
[null,null,null,null,null,"2009-08-04"]
[null,null,null,null,null,"2009-08-03"]
[null,null,null,null,null,"2009-08-02"]
[null,null,null,null,null,"2009-08-01"]
[null,null,null,null,null,"2009-07-31"]
[null,null,null,null,null,"2009-07-30"]
[null,null,null,null,null,"2009-07-29"]
[null,null,null,null,null,"2009-07-28"]
[null,null,null,null,null,"2009-07-27"]
[null,null,null,null,null,"2009-07-26"]
[null,null,null,null,null,"2009-07-25"]
[null,null,null,null,null,"2009-07-24"]
[null,null,null,null,null,"2009-07-23"]
[null,null,null,null,null,"2009-07-22"]
[null,null,null,null,null,"2009-07-21"]
[null,null,null,null,null,"2009-07-20"]
[null,null,null,null,null,"2009-07-19"]
[null,null,null,null,null,"2009-07-18"]
[null,null,null,null,null,"2009-07-17"]
[null,null,null,null,null,"2009-07-16"]
[null,null,null,null,null,"2009-07-15"]
[null,null,null,null,null,"2009-07-14"]
[null,null,null,null,null,"2009-07-13"]
[null,null,null,null,null,"2009-07-12"]
[null,null,null,null,null,"2009-07-11"]
[null,null,null,null,null,"2009-07-10"]
[null,null,null,null,null,"2009-07-09"]
[null,null,null,null,null,"2009-07-08"]
[null,null,null,null,null,"2009-07-07"]
[null,null,null,null,null,"2009-07-06"]
[null,null,null,null,null,"2009-07-05"]
[null,null,null,null,null,"2009-07-04"]
[null,null,null,null,null,"2009-07-03"]
[null,null,null,null,null,"2009-07-02"]
[null,null,null,null,null,"2009-07-01"]
[null,null,null,null,null,"2009-06-30"]
[null,null,null,null,null,"2009-06-29"]
[null,null,null,null,null,"2009-06-28"]
[null,null,null,null,null,"2009-06-27"]
[null,null,null,null,null,"2009-06-26"]
[null,null,null,null,null,"2009-06-25"]
[null,null,null,null,null,"2009-06-24"]
[null,null,null,null,null,"2009-06-23"]
[null,null,null,null,null,"2009-06-22"]
[null,null,null,null,null,"2009-06-21"]
[null,null,null,null,null,"2009-06-20"]
[null,null,null,null,null,"2009-06-19"]
[null,null,null,null,null,"2009-06-18"]
[null,null,null,null,null,"2009-06-17"]
[null,null,null,null,null,"2009-06-16"]
[null,null,null,null,null,"2009-06-15"]
[null,null,null,null,null,"2009-06-14"]
[null,null,null,null,null,{"$f":"F3653-1","v":"2009-06-13"}]
[null,null,null,null,null,"2009-06-12"]
[null,null,null,null,null,"2009-06-11"]